BEGIN:VCALENDAR
VERSION:2.0
PRODID:-//El Veintiuno - ECPv6.15.17//NONSGML v1.0//EN
CALSCALE:GREGORIAN
METHOD:PUBLISH
X-WR-CALNAME:El Veintiuno
X-ORIGINAL-URL:https://www.elveintiuno.com
X-WR-CALDESC:Eventos para El Veintiuno
REFRESH-INTERVAL;VALUE=DURATION:PT1H
X-Robots-Tag:noindex
X-PUBLISHED-TTL:PT1H
BEGIN:VTIMEZONE
TZID:Europe/Madrid
BEGIN:DAYLIGHT
TZOFFSETFROM:+0100
TZOFFSETTO:+0200
TZNAME:CEST
DTSTART:20220327T010000
END:DAYLIGHT
BEGIN:STANDARD
TZOFFSETFROM:+0200
TZOFFSETTO:+0100
TZNAME:CET
DTSTART:20221030T010000
END:STANDARD
BEGIN:DAYLIGHT
TZOFFSETFROM:+0100
TZOFFSETTO:+0200
TZNAME:CEST
DTSTART:20230326T010000
END:DAYLIGHT
BEGIN:STANDARD
TZOFFSETFROM:+0200
TZOFFSETTO:+0100
TZNAME:CET
DTSTART:20231029T010000
END:STANDARD
BEGIN:DAYLIGHT
TZOFFSETFROM:+0100
TZOFFSETTO:+0200
TZNAME:CEST
DTSTART:20240331T010000
END:DAYLIGHT
BEGIN:STANDARD
TZOFFSETFROM:+0200
TZOFFSETTO:+0100
TZNAME:CET
DTSTART:20241027T010000
END:STANDARD
END:VTIMEZONE
BEGIN:VEVENT
DTSTART;TZID=Europe/Madrid:20231007T180000
DTEND;TZID=Europe/Madrid:20231007T193000
DTSTAMP:20260425T210407
CREATED:20230930T222314Z
LAST-MODIFIED:20231001T004751Z
UID:8145-1696701600-1696707000@www.elveintiuno.com
SUMMARY:De Ellos Aprendí
DESCRIPTION:MUSICAL:\nDe ellos aprendí El musical de los grandes musicales\, tiene su origen en un acontecimiento inesperado en la Isla de Motunui\, donde Vaiana\, que será el personaje conductor del musical\, tiene la primera oportunidad de liderar a su pueblo. Para ello es guiada por el sabio espíritu de su abuela Tala\, que la conducirá por un gran viaje\, a través de mágicos cuentos\, que le ayudarán a ser la gran líder que su pueblo necesita. \nY serán escenas y personajes de La Sirenita\, El Rey León\, Frozen\, Aladdín\, Rapunzel o La Bella y la Bestia los que irán apareciendo en escena como protagonistas de este musical en el que\, gracias a los valores y conocimientos que aprenderá de ellos\, Vaiana conseguirá que su abuela Tala\, así como su pueblo\, se sientan muy orgullosos de la líder en la que se ha convertido.
URL:https://www.elveintiuno.com/concierto/de-ellos-aprendi/
LOCATION:Palacio de Congresos\, Av. los Danzantes de Huesca\, s/n\,\, Huesca\, 22005
CATEGORIES:Concierto
ATTACH;FMTTYPE=image/jpeg:https://www.elveintiuno.com/wp-content/uploads/2023/10/deellosaprendi.jpeg
END:VEVENT
BEGIN:VEVENT
DTSTART;TZID=Europe/Madrid:20231007T203000
DTEND;TZID=Europe/Madrid:20231007T220000
DTSTAMP:20260425T210407
CREATED:20230930T023031Z
LAST-MODIFIED:20230930T025937Z
UID:8121-1696710600-1696716000@www.elveintiuno.com
SUMMARY:Clara Lai Quartet
DESCRIPTION:Los conciertos del Matadero:\nClara Lai Quartet llega a Huesca a presentar su último álbum\, Creciente.\nIniciado en abril de 2021\, Clara Lai Quartet nace de la invitación\, por parte del Estival de Jazz de Igualada y del sello Underpool\, a realizar la Carta Blanca de la novena edición de dicho festival.\nPresentan ahora el álbum Creciente\, grabado el día de la presentación del proyecto en el Estival. se mueve entre la composición instantánea y escrita. Composiciones originales de Clara que por su naturaleza se convierten en colectivas y en las que el cuarteto transita por diferentes zonas sonoras de sí mismo.
URL:https://www.elveintiuno.com/concierto/clara-lai-quartet/
LOCATION:CC Manuel Benito Moliner\, Avenida de Martínez de Velasco\, 4\, Huesca\, 22005
CATEGORIES:Concierto
ATTACH;FMTTYPE=image/jpeg:https://www.elveintiuno.com/wp-content/uploads/2023/09/Clara-Lai-Quartet.jpg
END:VEVENT
BEGIN:VEVENT
DTSTART;TZID=Europe/Madrid:20231021T203000
DTEND;TZID=Europe/Madrid:20231021T220000
DTSTAMP:20260425T210407
CREATED:20230930T024127Z
LAST-MODIFIED:20230930T025603Z
UID:8129-1697920200-1697925600@www.elveintiuno.com
SUMMARY:B Vocal
DESCRIPTION:El poder de la voz:\nLa Voz tiene una fuerza arrebatadora\, un poder cautivador que no posee ningún otro instrumento musical. El Poder de la Voz es un estreno mundial en el que por primera vez 50 voces blancas inundan la escena acompañando a B Vocal en un gran espectáculo de luz y sonido\, con una producción nunca antes vista en un show a cappella. \nB Vocal estará acompañado por el coro de voces blancas Amici Musicae del Auditorio de Zaragoza-\, creando un show original\, dinámico\, divertido\, emocionante y para todos los públicos\, en el que repasarán a cappella los mejores momentos de la historia de la música\, y con el que harán que el espectador se sumerja en cada número musical a través de increíbles sensaciones para descubrir por fin el auténtico Poder de la Voz. \nEl espectáculo se desarrollará en el Auditorio Carlos Saura del Palacio de Congresos de Huesca.
URL:https://www.elveintiuno.com/concierto/b-vocal/
LOCATION:Palacio de Congresos\, Av. los Danzantes de Huesca\, s/n\,\, Huesca\, 22005
CATEGORIES:Concierto
ATTACH;FMTTYPE=image/jpeg:https://www.elveintiuno.com/wp-content/uploads/2023/09/bvocal.jpg
END:VEVENT
BEGIN:VEVENT
DTSTART;TZID=Europe/Madrid:20231021T233000
DTEND;TZID=Europe/Madrid:20231022T010000
DTSTAMP:20260425T210407
CREATED:20230910T215836Z
LAST-MODIFIED:20230930T025504Z
UID:4509-1697931000-1697936400@www.elveintiuno.com
SUMMARY:PAUL ALONE
DESCRIPTION:El artista navarro se ha convertido en una de las mayores sorpresas que nos han dado las redes sociales en el último año. En estos meses cargados de lanzamientos nos ha enamorado a todos con su voz y la verdad que esconden sus letras. Ahora\, junto a sus últimos singles ” Quiéreme o mátame”\, “Te acuerdas” o “No valgo pa ciudad” ha emprendido su nuevo TOUR002 que ha conseguido colgar el cartel de Sold Out en prácticamente todas las ciudades por las que ha pasado. \nPaul es un enamorado de la vida que nos atrapa con su voz\, su pasión y sus historias\, tan reales y sinceras como él mismo. La vida misma contada con esa elegancia y esa naturalidad tan característica del navarro\, una delicia para los sentidos con la que nos tocará nuevamente el alma. \nSus etiquetas como fotógrafo\, poeta\, amante del cine\, músico autodidacta\, y\, sobre todo\, enamorado de la vida nos dan pistas de que su propuesta de directo para estos conciertos será sin duda un espectáculo único. \nCOMPRAR ENTRADAS
URL:https://www.elveintiuno.com/concierto/concierto_de_paul_alone_en_huesca/
LOCATION:Sala El Veintiuno\, C/ Padre Huesca\, 52\, Huesca\, 22005\, España
CATEGORIES:Concierto
ATTACH;FMTTYPE=image/jpeg:https://www.elveintiuno.com/wp-content/uploads/2023/09/PAUL-ALONE-HD.jpg
END:VEVENT
BEGIN:VEVENT
DTSTART;TZID=Europe/Madrid:20231028T233000
DTEND;TZID=Europe/Madrid:20231029T010000
DTSTAMP:20260425T210407
CREATED:20230911T052435Z
LAST-MODIFIED:20230930T025426Z
UID:4517-1698535800-1698541200@www.elveintiuno.com
SUMMARY:CARMEN 113
DESCRIPTION:Después de un exitoso 2022\, la banda de indie-pop CARMEN 113 prepara el 2023 con un nuevo disco\, el sexto de su carrera. Con más de 4 millones de escuchas en Spotify de los temas de Hipnótica\, su último trabajo\, y más 100.000 oyentes mensuales\, el grupo está listo para lanzar sus nuevas canciones que recogen toda la energía recibida en este año tan completo. \nLa gira de Hipnótica los ha llevado por diferentes festivales que culminaron en un triunfal Sonorama\, en el escenario 25 aniversario\, con más de 7.000 espectadores que corearon a pulmón todas sus canciones. \nPublicado en 2021\, Hipnótica ha sido el disco con el que el grupo gerundense ha crecido y ha dado el salto a los grandes escenarios. En su próximo disco\, que lanzará en diferentes entregas en formato single con el apoyo de Spotify\, CARMEN113 presentará sus nuevas‘canciones tristes para bailar’\, consolidando su camino hacia el universo de ritmo iniciado con Hipnótica. \nTe gustaran si te gustan Miss Caffeina\, The1975\, Love of Lesbian\, La Casa Azul\, The Weeknd o Parcels. \nCOMPRAR ENTRADAS
URL:https://www.elveintiuno.com/concierto/concierto_de_carmen113_en_huesca/
LOCATION:Sala El Veintiuno\, C/ Padre Huesca\, 52\, Huesca\, 22005\, España
CATEGORIES:Concierto
ATTACH;FMTTYPE=image/jpeg:https://www.elveintiuno.com/wp-content/uploads/2023/09/CARMEN113HD.jpg
END:VEVENT
END:VCALENDAR