BEGIN:VCALENDAR
VERSION:2.0
PRODID:-//El Veintiuno - ECPv6.15.17//NONSGML v1.0//EN
CALSCALE:GREGORIAN
METHOD:PUBLISH
X-ORIGINAL-URL:https://www.elveintiuno.com
X-WR-CALDESC:Eventos para El Veintiuno
REFRESH-INTERVAL;VALUE=DURATION:PT1H
X-Robots-Tag:noindex
X-PUBLISHED-TTL:PT1H
BEGIN:VTIMEZONE
TZID:Europe/Madrid
BEGIN:DAYLIGHT
TZOFFSETFROM:+0100
TZOFFSETTO:+0200
TZNAME:CEST
DTSTART:20220327T010000
END:DAYLIGHT
BEGIN:STANDARD
TZOFFSETFROM:+0200
TZOFFSETTO:+0100
TZNAME:CET
DTSTART:20221030T010000
END:STANDARD
BEGIN:DAYLIGHT
TZOFFSETFROM:+0100
TZOFFSETTO:+0200
TZNAME:CEST
DTSTART:20230326T010000
END:DAYLIGHT
BEGIN:STANDARD
TZOFFSETFROM:+0200
TZOFFSETTO:+0100
TZNAME:CET
DTSTART:20231029T010000
END:STANDARD
BEGIN:DAYLIGHT
TZOFFSETFROM:+0100
TZOFFSETTO:+0200
TZNAME:CEST
DTSTART:20240331T010000
END:DAYLIGHT
BEGIN:STANDARD
TZOFFSETFROM:+0200
TZOFFSETTO:+0100
TZNAME:CET
DTSTART:20241027T010000
END:STANDARD
END:VTIMEZONE
BEGIN:VEVENT
DTSTART;TZID=Europe/Madrid:20231103T233000
DTEND;TZID=Europe/Madrid:20231104T010000
DTSTAMP:20260425T193208
CREATED:20230917T025659Z
LAST-MODIFIED:20230930T040259Z
UID:6109-1699054200-1699059600@www.elveintiuno.com
SUMMARY:FLORES & McEWEN
DESCRIPTION:Flores & Mcewen es una banda de Rock (con tintes de otros estilos como el Blues\, Pop o Hard Rock) formada en 2018 en la ciudad de Huesca. Emilio Bernad (guitarra)\, junto a Simón Sampietro (voz) y Alberto Escar (batería) consolidan la formación que entraría a grabar a finales de año lo que será su primer trabajo de estudio. \nCon la entrada de Víctor Ordaz (bajo) en la banda\, en junio de 2019 sale a la luz el primer álbum titulado “El momento ha de llegar”\, el cual tuvo una gran acogida por parte de prensa especializada como “Mariskal Rock” o “Rock Estatal”. \nActualmente\, con la entrada de Jorge Barrantes (bajo) a la banda y la publicación del segundo álbum “Fuera del carril”\, la banda ha preparado un nuevo show en directo que no dejará indiferente a nadie.
URL:https://www.elveintiuno.com/concierto/concierto_flores_y_mcewen/
LOCATION:Sala El Veintiuno\, C/ Padre Huesca\, 52\, Huesca\, 22005\, España
CATEGORIES:Concierto
ATTACH;FMTTYPE=image/jpeg:https://www.elveintiuno.com/wp-content/uploads/2023/09/Flores_y_McEwenSHD.jpg
END:VEVENT
BEGIN:VEVENT
DTSTART;TZID=Europe/Madrid:20231104T190000
DTEND;TZID=Europe/Madrid:20231104T203000
DTSTAMP:20260425T193208
CREATED:20230930T222545Z
LAST-MODIFIED:20231001T004547Z
UID:8148-1699124400-1699129800@www.elveintiuno.com
SUMMARY:Tributo musical: Harry Potter
DESCRIPTION:Un año más\, Harry\, Ron y Hermione vuelven a Hogwarts para seguir aprendiendo magia y hechizos. Durante este curso\, Dumbledore les comunica que habrá una competición entre las cuatros casas: Gryffindor\, Slytherin\, Hufflepuff y Ravenclaw. Tendrán que enfrentarse a un dragón que escupe fuego y batirse en un duelo de hechizos entre los capitanes de las casas vencedoras. Mientras tanto\, Snape seguirá haciendo de las suyas; y Voldemort y sus mortífagos prepararán un terrible final para Harry. \nIncreíbles decorados y cuidadísimos vestuarios\, acompañarán a los mejores personajes de las películas de Harry Potter\, evocando grandes momentos. Con 25 personajes en escena y voces en riguroso directo\, este musical no dejará de emocionar a todas las familias.
URL:https://www.elveintiuno.com/concierto/tributo-musical-harry-potter/
LOCATION:Palacio de Congresos\, Av. los Danzantes de Huesca\, s/n\,\, Huesca\, 22005
CATEGORIES:Concierto
ATTACH;FMTTYPE=image/jpeg:https://www.elveintiuno.com/wp-content/uploads/2023/10/harrypotter.jpg
END:VEVENT
BEGIN:VEVENT
DTSTART;TZID=Europe/Madrid:20231104T200000
DTEND;TZID=Europe/Madrid:20231104T213000
DTSTAMP:20260425T193208
CREATED:20231020T113137Z
LAST-MODIFIED:20231020T113439Z
UID:9322-1699128000-1699133400@www.elveintiuno.com
SUMMARY:YOLY SAA
DESCRIPTION:Yoly Saa es una joven cantautora gallega\, afincada en Madrid\, que llegó a la capital con la intención de hacerse un hueco en el panorama nacional musical\, pasó de tocar en el metro a la publicación de su primer trabajo de estudio: «Magma» que la ha llevado a posicionarse como uno de los talentos emergentes más prometedores de nuestro país y a tener el apoyo de algunos de los artistas nacionales más importantes. \n  \nSu carrera continúa imparable con la publicación de su primer álbum la primavera pasada\, “A Golpes de Fe”\, que cuenta ya con más de cinco millones de escuchas. \nY todo esto mientras lo compagina con su faceta de compositora de grandes artistas como Malú o Luz Casal. Además de haber participado en el exitoso programa de RTVE «Dúos Increíbles» cantando con artistas consagrados de la talla de Miguel Poveda\, Ana Belén o Soledad Jiménez. \n  \nCon una voz que te atrapa desde el primer momento y unas letras con las que se te pondrán los pelos de punta\, Yoly Saa atesora un público que la adora\, algo que se refleja en la cantidad de sold outs acumulados en su extensa gira tanto en España como en México\, pues sus directos son algo exquisito y uno de sus puntos fuertes. \n  \nENTRADAS DISPONIBLES SÓLO EN TAQUILLA DEL TEATRO \nJueves 19 y Viernes 20 de octubre de 19:00 a 21:00 \nSábado 4 de noviembre desde 1 hora antes del concierto (19:00)
URL:https://www.elveintiuno.com/concierto/concierto_de_yoly_saa_en_zuera/
LOCATION:Teatro Reina Sofía\, C. Mayor\, 57\, Zuera\, 50800
CATEGORIES:Concierto
ATTACH;FMTTYPE=image/jpeg:https://www.elveintiuno.com/wp-content/uploads/2023/10/yolysaa800.jpg
END:VEVENT
BEGIN:VEVENT
DTSTART;TZID=Europe/Madrid:20231104T233000
DTEND;TZID=Europe/Madrid:20231105T010000
DTSTAMP:20260425T193208
CREATED:20230916T024101Z
LAST-MODIFIED:20231103T152432Z
UID:5796-1699140600-1699146000@www.elveintiuno.com
SUMMARY:MR KILOMBO
DESCRIPTION:Con 5 trabajos a sus espaldas\, este artista se ha consolidado como una de las grandes apuestas del panorama nacional. \nTemas con letras cuidadas con mimo y sutileza\, convertidas en melodías pegadizas\, con estribillos contundentes y una puesta en escena enérgica e interactiva le convierten en una ametralladora de disparar hits. Es luz\, es energía y es vitalismo. \nActualmente se encuentra girando con su nuevo álbum “Cortocircuitos”\, que vió la luz en enero de 2020 y fue grabado íntegramente en Madrid y producido por Paco Salazar. \nENTRADAS AGOTADAS
URL:https://www.elveintiuno.com/concierto/concierto_de_mr_kilombo_en_huesca/
LOCATION:Sala El Veintiuno\, C/ Padre Huesca\, 52\, Huesca\, 22005\, España
CATEGORIES:Concierto
ATTACH;FMTTYPE=image/jpeg:https://www.elveintiuno.com/wp-content/uploads/2023/11/MR_Kilombo-SDsoldout.jpg
END:VEVENT
BEGIN:VEVENT
DTSTART;TZID=Europe/Madrid:20231117T233000
DTEND;TZID=Europe/Madrid:20231118T010000
DTSTAMP:20260425T193208
CREATED:20230912T041120Z
LAST-MODIFIED:20230930T025045Z
UID:4728-1700263800-1700269200@www.elveintiuno.com
SUMMARY:SHEGO
DESCRIPTION:SHEGO (Maite\, Raquel\, Charlotte y Aroa) surge de la idea punk de la creatividad más primaria y atrevida. En junio de 2021 lanzan su primer EP “Tantos chicos malos y tan poco tiempo” donde se descubren cómodas en lo ecléctico y capaces de jugar con géneros como el rock\, el pop\, el punk y el dance\, sin necesidad de agarrarse a ninguno en concreto. \nTras la gran acogida de este primer trabajo\, han colaborado con artistas como Zahara y Natalia Lacunza y tocado en escenarios como el BBK\, el Sonorama\, el Vida o el Low Festival. Es en este directo donde se descubre el verdadero carisma y complicidad que hace destacar a la banda. En febrero de 2023 traen su primer LP en el que pisan fuerte y continúan disfrutando de la ambivalencia y la frescura. \n🏆 Premio MIN Mejor Artista Emergente 2023 \nCOMPRAR ENTRADAS
URL:https://www.elveintiuno.com/concierto/concierto_de_shego_en_huesca/
LOCATION:Sala El Veintiuno\, C/ Padre Huesca\, 52\, Huesca\, 22005\, España
CATEGORIES:Concierto
ATTACH;FMTTYPE=image/jpeg:https://www.elveintiuno.com/wp-content/uploads/2023/09/Shego-HD.jpg
END:VEVENT
BEGIN:VEVENT
DTSTART;TZID=Europe/Madrid:20231125T233000
DTEND;TZID=Europe/Madrid:20231126T010000
DTSTAMP:20260425T193208
CREATED:20231008T200028Z
LAST-MODIFIED:20231119T180338Z
UID:8447-1700955000-1700960400@www.elveintiuno.com
SUMMARY:TU OTRA BONITA
DESCRIPTION:Es una de las bandas más singulares del panorama musical actual\, que se ha ganado el reconocimiento gracias a su fusión de ritmos y canciones\, desde el mestizaje indie hasta la rumba\, canciones a las que es imposible resistirse a cantar y bailar\, pero también con letras que son poesía y caricias para el alma\, mucha constancia\, trabajo y fé en sí mismos
URL:https://www.elveintiuno.com/concierto/concierto_de_tu_otra_bonita_en_huesca/
LOCATION:Sala El Veintiuno\, C/ Padre Huesca\, 52\, Huesca\, 22005\, España
CATEGORIES:Concierto
ATTACH;FMTTYPE=image/jpeg:https://www.elveintiuno.com/wp-content/uploads/2023/10/tuotrabonitaSO800.jpg
END:VEVENT
END:VCALENDAR