BEGIN:VCALENDAR
VERSION:2.0
PRODID:-//El Veintiuno - ECPv6.15.17//NONSGML v1.0//EN
CALSCALE:GREGORIAN
METHOD:PUBLISH
X-ORIGINAL-URL:https://www.elveintiuno.com
X-WR-CALDESC:Eventos para El Veintiuno
REFRESH-INTERVAL;VALUE=DURATION:PT1H
X-Robots-Tag:noindex
X-PUBLISHED-TTL:PT1H
BEGIN:VTIMEZONE
TZID:Europe/Madrid
BEGIN:DAYLIGHT
TZOFFSETFROM:+0100
TZOFFSETTO:+0200
TZNAME:CEST
DTSTART:20240331T010000
END:DAYLIGHT
BEGIN:STANDARD
TZOFFSETFROM:+0200
TZOFFSETTO:+0100
TZNAME:CET
DTSTART:20241027T010000
END:STANDARD
BEGIN:DAYLIGHT
TZOFFSETFROM:+0100
TZOFFSETTO:+0200
TZNAME:CEST
DTSTART:20250330T010000
END:DAYLIGHT
BEGIN:STANDARD
TZOFFSETFROM:+0200
TZOFFSETTO:+0100
TZNAME:CET
DTSTART:20251026T010000
END:STANDARD
BEGIN:DAYLIGHT
TZOFFSETFROM:+0100
TZOFFSETTO:+0200
TZNAME:CEST
DTSTART:20260329T010000
END:DAYLIGHT
BEGIN:STANDARD
TZOFFSETFROM:+0200
TZOFFSETTO:+0100
TZNAME:CET
DTSTART:20261025T010000
END:STANDARD
END:VTIMEZONE
BEGIN:VEVENT
DTSTART;TZID=Europe/Madrid:20250117T230000
DTEND;TZID=Europe/Madrid:20250118T003000
DTSTAMP:20260422T123725
CREATED:20241112T023401Z
LAST-MODIFIED:20241129T114132Z
UID:17972-1737154800-1737160200@www.elveintiuno.com
SUMMARY:HINDS
DESCRIPTION:Tras cuatro años de parón vuelven las Hinds\, ahora en formato dúo. Carlota Cossials y Ana Perrote han presentado este 2024 “Viva Hinds”\, un disco en el cual casi cada una de las canciones podría ser un single. Demostrando porqué han sido y son una de las bandas con más proyección fuera de nuestro país (El Veintiuno es una las poquísimas fechas en las cuales se las podrá ver en España). \nUn disco en el cual tienen colaboraciones internacionales del peso de Beck o Brian Chatten (Fontaines D.C.)\, lo que pone en valor la gran consideración que tiene el ahora dúo fuera de nuestras fronteras. \nSu actuación en El Veintiuno será una oportunidad única\, como decimos\, de escuchar está nueva colección de temazos que se unirán a los de los anteriores tres discos.
URL:https://www.elveintiuno.com/concierto/concierto_de_hinds_en_huesca/
LOCATION:Sala El Veintiuno\, C/ Padre Huesca\, 52\, Huesca\, 22005\, España
CATEGORIES:Concierto
ATTACH;FMTTYPE=image/jpeg:https://www.elveintiuno.com/wp-content/uploads/2024/11/hinds450.jpg
END:VEVENT
BEGIN:VEVENT
DTSTART;TZID=Europe/Madrid:20250131T230000
DTEND;TZID=Europe/Madrid:20250201T003000
DTSTAMP:20260422T123725
CREATED:20240924T190613Z
LAST-MODIFIED:20241008T005420Z
UID:17650-1738364400-1738369800@www.elveintiuno.com
SUMMARY:NAT SIMONS
DESCRIPTION:Nat Simons ha sido nombrada artista Itunes Nashville entrando uno de sus singles «Endless Summer Road»; en una importante playlist de Nashville creada por Apple Music\, siendo la única artista fuera de Estados Unidos en conseguir una portada para Apple por uno de sus singles\, superando el medio millón de streams en Itunes de Estados Unidos. Además de Gary Louris y Hiss Golden Messenger\, varios artistas nacionales como Ryan Adams\, Ginger Wildheart\, Nicole Atkins o Tommy Stinson (The Replacements\, Guns N&#39; Roses) han alabado la música de Nat Simons. De hecho\, Tommy Stinson invitó a Nat Simons a cantar a dúo varios de sus temas durante su reciente gira española en unas cuantas fechas. En enero de 2024 Nat consiguió la primera entrevista exclusiva a Ryan Adams en profundidad después de varios años fuera de los medios\, debido a su amistad y confianza. \nEn 2024 Nat Simons está centrada en «Felinas»\, un ambicioso proyecto en forma de disco + libro\, enfocado\, principalmente\, en duetos y entrevistas a artistas femeninas\, en el que cuenta con colaboraciones de la talla de Cherie Currie (legendaria cantante de The Runaways)\, Nina de Juan (Morgan)\, Víctor Cabezuelo y Julia Martín-Maestro de Rufus T. Firefly\, Aurora Beltrán\, Miss Raisa\, Anni B. Sweet\, Íñigo Bregel de Los Estanques\, Rebeca Jiménez… entre muchos más artistas\, la lista es muy amplia. En el libro se suman artistas internacionales como Lucinda Williams\, Amanda Shires\, Larkin Poe\, Margo Price… La salida fue en enero de 2024\, con una gran acogida por parte del público y la crítica especializada. \n 
URL:https://www.elveintiuno.com/concierto/concierto_de_nat_simons_en_huesca/
LOCATION:Sala El Veintiuno\, C/ Padre Huesca\, 52\, Huesca\, 22005\, España
CATEGORIES:Concierto
ATTACH;FMTTYPE=image/jpeg:https://www.elveintiuno.com/wp-content/uploads/2024/09/natsimons450.jpg
END:VEVENT
END:VCALENDAR