BEGIN:VCALENDAR
VERSION:2.0
PRODID:-//El Veintiuno - ECPv6.15.17//NONSGML v1.0//EN
CALSCALE:GREGORIAN
METHOD:PUBLISH
X-WR-CALNAME:El Veintiuno
X-ORIGINAL-URL:https://www.elveintiuno.com
X-WR-CALDESC:Eventos para El Veintiuno
REFRESH-INTERVAL;VALUE=DURATION:PT1H
X-Robots-Tag:noindex
X-PUBLISHED-TTL:PT1H
BEGIN:VTIMEZONE
TZID:Europe/Madrid
BEGIN:DAYLIGHT
TZOFFSETFROM:+0100
TZOFFSETTO:+0200
TZNAME:CEST
DTSTART:20240331T010000
END:DAYLIGHT
BEGIN:STANDARD
TZOFFSETFROM:+0200
TZOFFSETTO:+0100
TZNAME:CET
DTSTART:20241027T010000
END:STANDARD
BEGIN:DAYLIGHT
TZOFFSETFROM:+0100
TZOFFSETTO:+0200
TZNAME:CEST
DTSTART:20250330T010000
END:DAYLIGHT
BEGIN:STANDARD
TZOFFSETFROM:+0200
TZOFFSETTO:+0100
TZNAME:CET
DTSTART:20251026T010000
END:STANDARD
BEGIN:DAYLIGHT
TZOFFSETFROM:+0100
TZOFFSETTO:+0200
TZNAME:CEST
DTSTART:20260329T010000
END:DAYLIGHT
BEGIN:STANDARD
TZOFFSETFROM:+0200
TZOFFSETTO:+0100
TZNAME:CET
DTSTART:20261025T010000
END:STANDARD
END:VTIMEZONE
BEGIN:VEVENT
DTSTART;TZID=Europe/Madrid:20250301T230000
DTEND;TZID=Europe/Madrid:20250302T003000
DTSTAMP:20260422T091037
CREATED:20241125T214728Z
LAST-MODIFIED:20241125T215355Z
UID:19571-1740870000-1740875400@www.elveintiuno.com
SUMMARY:LA CAJA DE PANDORA
DESCRIPTION:Con su inconfundible estilo y letras que marcaron a toda una generación\, La Caja de Pandora vuelve a los escenarios con más fuerza que nunca en una gira que promete ser inolvidable. Desde que irrumpieron en la escena musical en el 2001\, la banda se convirtió en un referente del pop rock español gracias a éxitos como «Acuérdate de mí»\, «No me preguntes» y «Una de cal y otra de arena»\, temas que aún hoy siguen resonando en el corazón de sus fans. \n2025 será un año clave para el grupo\, con el lanzamiento de su nuevo single en enero y la publicación de un esperado disco a lo largo del año. Esta nueva etapa promete revivir la magia de su música y conectar tanto con el público que los acompañó desde sus inicios como con nuevas generaciones. Además de sus clásicos atemporales\, La Caja de Pandora sorprenderá con canciones inéditas que mantienen intacta su esencia pero traen un aire renovado. \nNo te pierdas la oportunidad de disfrutar en directo de una banda que marcó un antes y un después en la música española. Prepárate para corear tus canciones favoritas\, descubrir su nueva música y ser parte de una experiencia única. ¡Hazte con tus entradas y revive los mejores momentos de La Caja de Pandora!
URL:https://www.elveintiuno.com/concierto/concierto_de_la_caja_de_pandora_en_huesca/
LOCATION:Sala El Veintiuno\, C/ Padre Huesca\, 52\, Huesca\, 22005\, España
CATEGORIES:Concierto
ATTACH;FMTTYPE=image/jpeg:https://www.elveintiuno.com/wp-content/uploads/2024/11/lacajadepandora450.jpg
END:VEVENT
BEGIN:VEVENT
DTSTART;TZID=Europe/Madrid:20250314T230000
DTEND;TZID=Europe/Madrid:20250315T003000
DTSTAMP:20260422T091037
CREATED:20250109T150007Z
LAST-MODIFIED:20250109T150009Z
UID:20732-1741993200-1741998600@www.elveintiuno.com
SUMMARY:MODELO
DESCRIPTION:MODELO nace en Brighton\, Reino Unido\, el epicentro de la música callejera o “busking”\, donde este dúo de Zaragoza encuentra su sello de identidad. Durante varios veranos\, arrastran su ukelele y una batería de niños por las calles\, haciendo bailar con su música a miles de turistas de todo el mundo que visitan esta ciudad. \nGracias a sus actuaciones callejeras\, son descubiertos por la legendaria banda inglesa de reggae UB40 (Red Red Wine)\, quienes los contratan como staff técnico para su gira mundial\, ayudándolos a llevar su música a todas las esquinas del globo. Tras tres años recorriendo el mundo con ellos\, y tocando en las calles de Estados Unidos\, Nueva Zelanda\, Australia\, México y Europa\, MODELO vuelve a España para continuar con su carrera y dar forma a este proyecto junto a sus fans. \nEn 2023\, MODELO encuentra su propia forma de entrar en los grandes festivales\, el busking. Viajan al Sonorama Ribera y hacen varias actuaciones callejeras\, reuniendo a cientos de personas\, y repiten lo vivido en el festival Vive Latino\, entrando en prensa como una de las novedades del festival. \nTras abrir 2024 con dos conciertos SOLD OUT en la Sala Oasis de Zaragoza y Hangar48 en Madrid\, MODELO abandona su trabajo la gira mundial de UB40 para continuar la suya propia\, con más de 50 fechas por toda España. \nEn julio de 2024\, MODELO son seleccionados ganadores del concurso Talento Ribera\, entre más de 300 bandas\, lo que les aseguró un espacio en el Sonorama Ribera 2024\, donde aprovechan para presentar “TODO BIEN”\, su nuevo single\, que se situó TOP 4 en Tendencias Instagram España\, con gran apoyo mediático. \nHacen de su show algo extra-musical\, y convierten su objetivo en conectar y animar al público\, pero es cuando dan el paso a los escenarios donde el proyecto culmina: mismos instrumentos y el mismo sentimiento “busker”\, mezclado con la producción electrónica y la potencia que brindan los grandes eventos. \nBuen rollo\, verano\, amor\, encuentros y despedidas. Narran con su ukelele y su batería lo que viven\, siempre de una manera que incita a pasarlo bien\, saltar\, a apreciar el momento\, y disfrutar con los tuyos\, ya que saben y sienten que es lo único que tenemos.
URL:https://www.elveintiuno.com/concierto/concierto_de_modelo_en_huesca/
LOCATION:Sala El Veintiuno\, C/ Padre Huesca\, 52\, Huesca\, 22005\, España
CATEGORIES:Concierto
ATTACH;FMTTYPE=image/jpeg:https://www.elveintiuno.com/wp-content/uploads/2025/01/modelo450.jpg
END:VEVENT
BEGIN:VEVENT
DTSTART;TZID=Europe/Madrid:20250315T223000
DTEND;TZID=Europe/Madrid:20250316T000000
DTSTAMP:20260422T091037
CREATED:20250211T142734Z
LAST-MODIFIED:20250211T165828Z
UID:21276-1742077800-1742083200@www.elveintiuno.com
SUMMARY:COSMOS FESTIVAL - DERIVAS
DESCRIPTION:COSMOS FESTIVAL \nDerivas: Un homenaje al legado de Héroes del Silencio \nRevive la magia de la mejor banda de rock en español de todos los tiempos con la mejor banda tributo. \nTe transportarán desde el año 84 al 96 repasando toda la discografía heroica con la misma fuerza que ellos transmitían en los escenarios. Cuidando todos los detalles como: vestuario\, instrumentación\, expresividad\, puesta en escena y vocalización. \nLos shows están perfectamente cuidados atendiendo a las diferentes épocas de la desaparecida banda zaragozana y siempre teniendo en cuenta los aniversarios conmemorativos de cada uno de los álbumes. \n¡Vive la experiencia de un concierto único! \nSi te gusta Héroes del Silencio no puedes dejar de asistir a un concierto de la banda que rinde el más fiel homenaje visual y musical del momento: DERIVAS \nDerivas se encarga de ofrecer un show tan fiel al los originales Héroes\, que su publico viaja al pasado\, transmiten las emociones que los integrantes\, Bunbury\, Valdivia\, Andreu\, Cardiel y Boguslavsky nos dejaron en la retina. \nDerivas con pasión y devoción a la mejor banda de rock de habla hispana de todos los tiempos rinde su homenaje con respeto y admiración. \nMesa redonda: Se debatirá sobre la historia de Héroes del Silencio\, se hablará de pasado\, presente y futuro con unos invitados de auténtico lujo. \nPedro Andreu: Batería Héroes del Silencio. \nAntonio Cardiel: Hermano de Joaquín Cardiel y autor del libro más popular sobre Héroes: “Héroes de leyenda” \nPablo Ferrer: Periodista del Heraldo de Aragón\, ha centrado su trabajo en la parcela cultural y\, sobre todo\, musical: siguió la gira completa de Héroes del Silencio en 2007 y ha entrevistado a artistas del calibre de Elvis Costello\, Brian Eno\, Laurie Anderson o Camilo Sesto. También cubrió el festival de Woodstock en 1999. Premio Ortega y Gasset de Periodismo 2020. \nIgnacio Reyo: Especializado en cultura\, y columnista habitual en medios como Popular1\, Ruta66\, Hip Hop Life\, Rolling Stone\, Freek Magazine\, Mondo Sonoro\, Ascensión Magazine\, Esquire y Rockaxxis\, entre otras publicaciones. \nPROGRAMA: \n18:30h – 19:15h: «BAILANDO CON INCLUSIÓN»\, actuación del grupo de danza de Down Huesca\, con la colaboración especial de la orquesta infantil del Conservatorio Profesional de Música de Huesca (Jóvenes de 6 a 12 años). \n20:00h – 21:00h: «RECORDANDO A LOS HÉROES»\, mesa redonda para abordar un espacio de reflexión y homenaje al legado cultural de héroes del silencio. \n21:00h – 22:30h: Paréntesis gastro musical (zona de bocatas Sala Polivalente) \n22:30h – 00:00h: Concierto homenaje a HÉROES DEL SILENCIO con la BANDA TRIBUTO DERIVAS\, revive la magia de la icónica banda zaragozana. \n \nCOMPRAR ENTRADAS
URL:https://www.elveintiuno.com/concierto/concierto_de_derivas_en_huesca/
LOCATION:Palacio de Congresos\, Av. los Danzantes de Huesca\, s/n\,\, Huesca\, 22005
CATEGORIES:Concierto,Festival
ATTACH;FMTTYPE=image/jpeg:https://www.elveintiuno.com/wp-content/uploads/2025/02/derivas800.jpg
END:VEVENT
BEGIN:VEVENT
DTSTART;TZID=Europe/Madrid:20250322T230000
DTEND;TZID=Europe/Madrid:20250323T003000
DTSTAMP:20260422T091037
CREATED:20241208T232051Z
LAST-MODIFIED:20250610T173417Z
UID:19783-1742684400-1742689800@www.elveintiuno.com
SUMMARY:CARLANGAS
DESCRIPTION:Tras más de una década y cinco discos publicados y liderando Novedades Carminha\, el compostelano Carlangas emprendió formalmente en 2022 su proyecto en solitario. Antes\, había firmado colaboraciones con artistas como Baiuca\, Sen Senra\, Bronquio\, Ilegales o Joe Crepúsculo\, entre otros. \nEn 2023 publica un homónimo álbum de debut que cuenta con colaboraciones de artistas de la talla de Manu Chao\, Grande Amore o Mundo Prestigio\, quienes ejercen de banda de acompañamiento en directo\, y que se ha colado en las principales listas de lo mejor del año. \nDesde 2023 que ha teniendo presencia en varios de los festivales más importantes de España\, y demostrando que es uno de los referentes de un sonido que bebe tanto de la new wave neoyorquina como de Madchester\, pero también del groove del nuevo pop\, con un código que lo acerca al sonido de Parcels\, Khruangbin o L’Imperatrice\, entre otros\, pero sin perder el espíritu punk y la cultura rock como base. \nActualmente está presentando singles de lo que será «Bailódromo (Vol. 1)»\, su segundo álbum\, que vio la luz en octubre de 2024 a través de Virgin Music y con el que estará girando durante todo el curso.
URL:https://www.elveintiuno.com/concierto/concierto_de_carlangas_en_huesca/
LOCATION:Sala El Veintiuno\, C/ Padre Huesca\, 52\, Huesca\, 22005\, España
CATEGORIES:Concierto
ATTACH;FMTTYPE=image/jpeg:https://www.elveintiuno.com/wp-content/uploads/2024/12/carlangas450aie.jpg
END:VEVENT
END:VCALENDAR