BEGIN:VCALENDAR
VERSION:2.0
PRODID:-//El Veintiuno - ECPv6.15.17//NONSGML v1.0//EN
CALSCALE:GREGORIAN
METHOD:PUBLISH
X-WR-CALNAME:El Veintiuno
X-ORIGINAL-URL:https://www.elveintiuno.com
X-WR-CALDESC:Eventos para El Veintiuno
REFRESH-INTERVAL;VALUE=DURATION:PT1H
X-Robots-Tag:noindex
X-PUBLISHED-TTL:PT1H
BEGIN:VTIMEZONE
TZID:Europe/Madrid
BEGIN:DAYLIGHT
TZOFFSETFROM:+0100
TZOFFSETTO:+0200
TZNAME:CEST
DTSTART:20240331T010000
END:DAYLIGHT
BEGIN:STANDARD
TZOFFSETFROM:+0200
TZOFFSETTO:+0100
TZNAME:CET
DTSTART:20241027T010000
END:STANDARD
BEGIN:DAYLIGHT
TZOFFSETFROM:+0100
TZOFFSETTO:+0200
TZNAME:CEST
DTSTART:20250330T010000
END:DAYLIGHT
BEGIN:STANDARD
TZOFFSETFROM:+0200
TZOFFSETTO:+0100
TZNAME:CET
DTSTART:20251026T010000
END:STANDARD
BEGIN:DAYLIGHT
TZOFFSETFROM:+0100
TZOFFSETTO:+0200
TZNAME:CEST
DTSTART:20260329T010000
END:DAYLIGHT
BEGIN:STANDARD
TZOFFSETFROM:+0200
TZOFFSETTO:+0100
TZNAME:CET
DTSTART:20261025T010000
END:STANDARD
END:VTIMEZONE
BEGIN:VEVENT
DTSTART;TZID=Europe/Madrid:20250405T230000
DTEND;TZID=Europe/Madrid:20250406T003000
DTSTAMP:20260422T071826
CREATED:20241112T032149Z
LAST-MODIFIED:20250102T143734Z
UID:17993-1743894000-1743899400@www.elveintiuno.com
SUMMARY:MOROCHOS
DESCRIPTION:“Dos gemelos fabricantes de buen rollo. Fruto de la fusión del flamenco y el pop como ingredientes principales\, un puñao de alegría y una dosis de vida furgonetera”. El propósito de Morochos es claro. Con más de 330k de seguidores en Instagram y 134k en Tik Tok\, el proyecto formado por Juan e Ignacio continúa creciendo de manera exponencial gracias a su música y sus vídeos cercanos que acumulan miles de visualizaciones. \nMorochos parecen haber dado con la fórmula ideal para construir grandes canciones con ingredientes sencillos y de calidad dando de lleno en el corazón del oyente. Y precisamente de eso trata su música\, de celebrar y homenajear el ser parte de algo\, de la amistad\, de la felicidad escondida tras algo tan simple como unas cervezas con amigos en la barra de un bar. \nEn febrero de 2024 lanzaron su segundo disco de estudio\, ‘De dónde vengo’\, y están presentando en una extensa gira de salas y festivales a lo largo y ancho de todo el país.
URL:https://www.elveintiuno.com/concierto/concierto_de_morochos_en_huesca/
LOCATION:Sala El Veintiuno\, C/ Padre Huesca\, 52\, Huesca\, 22005\, España
CATEGORIES:Concierto
ATTACH;FMTTYPE=image/jpeg:https://www.elveintiuno.com/wp-content/uploads/2024/11/Morochos450.jpg
END:VEVENT
BEGIN:VEVENT
DTSTART;TZID=Europe/Madrid:20250412T230000
DTEND;TZID=Europe/Madrid:20250413T003000
DTSTAMP:20260422T071826
CREATED:20241119T220924Z
LAST-MODIFIED:20250408T135148Z
UID:19242-1744498800-1744504200@www.elveintiuno.com
SUMMARY:YOLY SAA
DESCRIPTION:El mar de Ardora es un fenómeno que se da por las noches en algunas playas del mundo\, bajo unas condiciones muy concretas en las que las algas brillan en diferentes tonos de azul. \nSiempre me he sentido muy vinculada al mar. Galicia es una de las zonas principales\, donde se da este Mar de Ardora y justo en mi primera gira en México descubrí que allí también era una cosa común. El disco lo escribí en un momento emocionalmente muy complicado entre Galicia y México y en ese viaje que hicimos\, me bañé en el Mar de Ardora y justo fue donde acabé de escribir las últimas canciones de este disco. Una vez más mi conexión con el mar se acrecentó\, y creo que de alguna manera el final de aquel momento emocional complicado\, se cerró con aquella experiencia en tierras Mexicanas\, por eso tiene todo el sentido del mundo llamarle Mar de Ardora. \nTan especial como el Mar de Ardora son los conciertos de esta gallega que viene a tierras Aragonesas a presentar este nuevo álbum en el mítico Veintiuno de Huesca \n  \nCONCIERTO APLAZADO\nNUEVA FECHA POR CONFIRMAR
URL:https://www.elveintiuno.com/concierto/concierto_de_yoly_saa_en_huesca_2025/
LOCATION:Sala El Veintiuno\, C/ Padre Huesca\, 52\, Huesca\, 22005\, España
CATEGORIES:Concierto
ATTACH;FMTTYPE=image/jpeg:https://www.elveintiuno.com/wp-content/uploads/2024/11/yolysaa450.jpg
END:VEVENT
BEGIN:VEVENT
DTSTART;TZID=Europe/Madrid:20250425T230000
DTEND;TZID=Europe/Madrid:20250426T003000
DTSTAMP:20260422T071826
CREATED:20250317T195047Z
LAST-MODIFIED:20250331T131744Z
UID:21662-1745622000-1745627400@www.elveintiuno.com
SUMMARY:DEDITO FINGER
DESCRIPTION:Un proyecto de art brut musical creado a partir de dos cuerdas de bajo. Una propuesta original\, cruda\, híbrida\, periférica y algo primitiva\nque suena como si E.S.G.\, Morphine\, Brushy One String y Sleaford Mods se juntaran en un río del Pirineo oscense para darse unos baños\, merendar\, fumarse unas cervezas y ver el atardecer de un día de final de Verano. \nUn experimento musical del artista plástico Chalo Moca\, al bajo y voz potentemente acompañado de los experimentados músicos Javi Bergua a la batería + Victor Vallés a la guitarra eléctrica y pedales Todos ellos componentes de la extinta banda Licor de Pájaro\, entre otras muchas formaciones. \nEl proyecto se estrenó universalmente en el Festival Periferias
URL:https://www.elveintiuno.com/concierto/concierto_de_dedito_finger_en_huesca/
LOCATION:Sala El Veintiuno\, C/ Padre Huesca\, 52\, Huesca\, 22005\, España
CATEGORIES:Concierto
ATTACH;FMTTYPE=image/jpeg:https://www.elveintiuno.com/wp-content/uploads/2025/03/dedito_finger450.jpg
END:VEVENT
BEGIN:VEVENT
DTSTART;TZID=Europe/Madrid:20250426T230000
DTEND;TZID=Europe/Madrid:20250427T003000
DTSTAMP:20260422T071826
CREATED:20241223T030405Z
LAST-MODIFIED:20250610T173140Z
UID:20365-1745708400-1745713800@www.elveintiuno.com
SUMMARY:REPION
DESCRIPTION:A principios de 2023\, las hermanas Iñesta publicaron el disco que revelaba todo su potencial tras años funcionando como grupo y participando al mismo tiempo en otros proyectos (Teresa en Aiko el Grupo y Yawners\, y Marina con Mikel Erentxun). Todas las ideas\, la energía de su música\, la intensidad emocional de sus letras\, la inevitable conexión con sus orígenes …cristalizaban al fin de la forma adecuada. \nCanciones como “Brillante”\,”Barrio Somavilla” o “En todo momento” las han mostrado como uno de los nombres del indie-rock en castellano a tener en cuenta en este momento y al mismo tiempo como uno de los girl-group más impactantes de los últimos años. Definidas por la prensa española como “nuestras Sleater Kinney”\, se han ganado también el respeto de un público que cae a sus pies tras cada concierto de esta máquina infalible. \nEn los últimos meses han colaborado en grabaciones y directos de artistas como Xoel López\, Nat Simons\, Jimena Amarillo\, Cala Vento y Amaral entre otros. \nAprovechando esta ola de esplendor creativo\, Repion han vuelto al estudio con el fin de publicar “las canciones con mejor sonido que hemos grabado nunca”. Están incluidas en un E.P de cuatro canciones publicado el 29 de mayo titulado “Entre todas lo arreglamos”. \nEn estos momentos se encuentran trabajando en las canciones que formarán su próximo álbum.
URL:https://www.elveintiuno.com/concierto/concierto_de_repion_en_huesca/
LOCATION:Sala El Veintiuno\, C/ Padre Huesca\, 52\, Huesca\, 22005\, España
CATEGORIES:Concierto
ATTACH;FMTTYPE=image/jpeg:https://www.elveintiuno.com/wp-content/uploads/2024/12/repion450aie.jpg
END:VEVENT
END:VCALENDAR