BEGIN:VCALENDAR
VERSION:2.0
PRODID:-//El Veintiuno - ECPv6.15.17//NONSGML v1.0//EN
CALSCALE:GREGORIAN
METHOD:PUBLISH
X-WR-CALNAME:El Veintiuno
X-ORIGINAL-URL:https://www.elveintiuno.com
X-WR-CALDESC:Eventos para El Veintiuno
REFRESH-INTERVAL;VALUE=DURATION:PT1H
X-Robots-Tag:noindex
X-PUBLISHED-TTL:PT1H
BEGIN:VTIMEZONE
TZID:Europe/Madrid
BEGIN:DAYLIGHT
TZOFFSETFROM:+0100
TZOFFSETTO:+0200
TZNAME:CEST
DTSTART:20250330T010000
END:DAYLIGHT
BEGIN:STANDARD
TZOFFSETFROM:+0200
TZOFFSETTO:+0100
TZNAME:CET
DTSTART:20251026T010000
END:STANDARD
BEGIN:DAYLIGHT
TZOFFSETFROM:+0100
TZOFFSETTO:+0200
TZNAME:CEST
DTSTART:20260329T010000
END:DAYLIGHT
BEGIN:STANDARD
TZOFFSETFROM:+0200
TZOFFSETTO:+0100
TZNAME:CET
DTSTART:20261025T010000
END:STANDARD
BEGIN:DAYLIGHT
TZOFFSETFROM:+0100
TZOFFSETTO:+0200
TZNAME:CEST
DTSTART:20270328T010000
END:DAYLIGHT
BEGIN:STANDARD
TZOFFSETFROM:+0200
TZOFFSETTO:+0100
TZNAME:CET
DTSTART:20271031T010000
END:STANDARD
END:VTIMEZONE
BEGIN:VEVENT
DTSTART;TZID=Europe/Madrid:20260104T203000
DTEND;TZID=Europe/Madrid:20260104T220000
DTSTAMP:20260421T151353
CREATED:20251021T110613Z
LAST-MODIFIED:20251024T184041Z
UID:30201-1767558600-1767564000@www.elveintiuno.com
SUMMARY:SANTI BALMES\, DANI FERRER Y JULIÁN SALDARRIAGA
DESCRIPTION:Fuera del ruido de los grandes festivales y los escenarios multitudinarios\, tres de los componentes de Love of Lesbian se reúnen para ofrecer un espectáculo íntimo\, sincero y lleno de complicidad. \nEn estas exclusivas ocasiones\, Santi Balmes\, y Julián Saldarriaga\, componentes de Love Of Lesbian\, junto a Dani Ferrer\, multi instrumentista y productor de la banda\, que también ha trabajado en los últimos años con Elefantes o Vega\, desnudan el repertorio de la banda para vestirlo de anécdotas\, historias y conversaciones con el público.\nUn viaje musical y emocional donde las canciones respiran de otra manera\, más cerca\, más de verdad.
URL:https://www.elveintiuno.com/concierto/concierto_de_santi_balmes_dani_ferrer_julian_saldarriaga_en_huesca/
LOCATION:Sala El Veintiuno\, C/ Padre Huesca\, 52\, Huesca\, 22005\, España
CATEGORIES:Concierto
ATTACH;FMTTYPE=image/webp:https://www.elveintiuno.com/wp-content/uploads/2025/10/santidanijulian800.webp
END:VEVENT
BEGIN:VEVENT
DTSTART;TZID=Europe/Madrid:20260110T230000
DTEND;TZID=Europe/Madrid:20260111T003000
DTSTAMP:20260421T151353
CREATED:20251101T001846Z
LAST-MODIFIED:20260108T122147Z
UID:32323-1768086000-1768091400@www.elveintiuno.com
SUMMARY:PERVERSÓNICAS
DESCRIPTION:Perversónicas nació en 2019 con la idea de revitalizar el rock clásico de los 50 y 60\, pero fue en 2022 cuando comenzaron a crear su propio repertorio tras su primera actuación en Huesca. Desde entonces\, la banda ha recorrido escenarios de Huesca y Zaragoza\, participando en festivales como el Garrampa Fest\, Rock in Monzón o el Sáhara Colour Rise\, y dejando huella con su potente directo y su energía inconfundible. \nEn 2025 han dado un paso decisivo con el lanzamiento de su primer single\, “Fuego”\, grabado en La Era Estudios de Fonz y acompañado de un videoclip dirigido por Claudi López. Este tema es el adelanto de su primer LP\, “Lave is the new punk”\, un trabajo que combina el espíritu del rock and roll con la actitud punk y que verá la luz en enero de 2026. \nEl grupo presentará el álbum el 10 de enero en la sala El 21 de Huesca con un repertorio que mezcla sus nuevas composiciones con sus emblemáticas versiones de clásicos como “Spanish Harlem” o “Be My Baby”. Con su característico sonido enérgico y descarado\, Perversónicas promete una noche de puro rock\, garage y actitud rebelde.
URL:https://www.elveintiuno.com/concierto/concierto_de_perversonicas_en_huesca/
LOCATION:Sala El Veintiuno\, C/ Padre Huesca\, 52\, Huesca\, 22005\, España
CATEGORIES:Concierto
ATTACH;FMTTYPE=image/webp:https://www.elveintiuno.com/wp-content/uploads/2025/11/perversonicas800.webp
END:VEVENT
BEGIN:VEVENT
DTSTART;TZID=Europe/Madrid:20260117T230000
DTEND;TZID=Europe/Madrid:20260118T003000
DTSTAMP:20260421T151353
CREATED:20250831T184743Z
LAST-MODIFIED:20251023T163536Z
UID:27303-1768690800-1768696200@www.elveintiuno.com
SUMMARY:EL DIABLO DE SHANGHAI + BEHAVES!
DESCRIPTION:el diablo de shanghai es una banda que combina la fuerza del rock con sonidos contemporáneos\, letras intensas y una puesta en escena cargada de energía. Con un estilo que mezcla influencias clásicas y modernas\, se han ganado un lugar destacado en la escena musical gracias a su autenticidad y conexión con el público. Sus conciertos son una experiencia vibrante donde la música\, la emoción y la cercanía con los fans se convierten en protagonistas. \nCon cada show\, la banda reafirma su carácter rebelde y apasionado\, ofreciendo un espectáculo que va más allá de lo musical. Canciones potentes\, ritmos contagiosos y una presencia escénica arrolladora convierten a el diablo de shanghai en una cita obligada para quienes buscan una noche de rock inolvidable. \nBEHAVES! Grupo de rock alternativo en Huesca. Guitarras contundentes con la épica que aspira al estadio y al estallido musical. El primer EP de la banda se publicó en primavera de 2024. Es un EP homónimo autoproducido con la ayuda del sello barcelonés Estudio Mazmorra. Mezclado y masterizado por Nacho Moya en Huesca a finales de 2023. El grupo ya se encuentra trabajando en el que será su primer disco de estudio y del que saldrán los primeros adelantos en otoño de 2025.
URL:https://www.elveintiuno.com/concierto/concierto_de_el_diablo_de_shanghai_behaves_en_huesca/
LOCATION:Sala El Veintiuno\, C/ Padre Huesca\, 52\, Huesca\, 22005\, España
CATEGORIES:Concierto
ATTACH;FMTTYPE=image/jpeg:https://www.elveintiuno.com/wp-content/uploads/2025/08/eldiablodeshangai450.jpg
END:VEVENT
BEGIN:VEVENT
DTSTART;TZID=Europe/Madrid:20260123T230000
DTEND;TZID=Europe/Madrid:20260124T003000
DTSTAMP:20260421T151353
CREATED:20251010T212026Z
LAST-MODIFIED:20251023T163523Z
UID:29854-1769209200-1769214600@www.elveintiuno.com
SUMMARY:LA MILAGROSA
DESCRIPTION:Desde sus primeras canciones\, en las que se sumaba el talento de una banda comprometida con los sonidos más oscuros nacidos a finales de los 80 con la frescura del pop rock nacional de los dosmiles\, LA MILAGROSA se ha distinguido por la originalidad\, la brillantez\, letrística y conceptual\, y la solidez en un sonido que han tomado por bandera: tienen tan solo un puñado de canciones\, pero todo el que escucha LA MILAGROSA sabe de quiénes se trata. \nGracias a sus primeros hits como ‘Con Otra Cabeza’ y ‘Coletero’\, o los adelantos de su álbum debut\, como ‘Tripitir’ o ‘Ponzano’\, LA MILAGROSA ha dejado de ser el secreto mejor guardado de la música de guitarras española para convertirse en una realidad. \nEn 2025 ve la luz ‘Ya No Me Duele Mal’\, su primer disco y un statement definitivo de German Ges y compañía que se sitúan entre los mejores grupos de su generación.
URL:https://www.elveintiuno.com/concierto/concierto_de_la_milagrosa_en_huesca/
LOCATION:Sala El Veintiuno\, C/ Padre Huesca\, 52\, Huesca\, 22005\, España
CATEGORIES:Concierto
ATTACH;FMTTYPE=image/jpeg:https://www.elveintiuno.com/wp-content/uploads/2025/10/lamilagrosa450.jpg
END:VEVENT
BEGIN:VEVENT
DTSTART;TZID=Europe/Madrid:20260130T230000
DTEND;TZID=Europe/Madrid:20260131T003000
DTSTAMP:20260421T151353
CREATED:20251124T184201Z
LAST-MODIFIED:20260123T170220Z
UID:32753-1769814000-1769819400@www.elveintiuno.com
SUMMARY:SIDONIE
DESCRIPTION:El trío barcelonés formado por Marc Ros\, Jes Senra y Axel Pi— encarna desde hace más de dos décadas la cara más luminosa del pop psicodélico español. De la explosión sixties de Fascinado y la elegancia mediterránea de Costa Azul al desborde narrativo de El Regreso de Abba (2020)\, cada nuevo trabajo ha ampliado su universo colorista sin perder la chispa inmediata de sus estribillos. Ahora la banda afronta un giro ilusionante: en octubre de 2025 publicarán Catalan Graffiti\, su primer disco íntegramente en catalán\, adelantado por el single «Et puc odiar molt més»—un paso “liberador” que\, en palabras del propio grupo\, reconecta con sus raíces después de 27 años de trayectoria. \nSobre el escenario\, Sidonie convierte cada concierto en una fiesta caleidoscópica donde guitarras fuzz\, percusiones tropicales y destellos electrónicos se funden con un show vibrante y cercano. Su calendario estival los llevará por citas clave como Sentir Baeza\, PortAmérica o Bilbao BBK Live 2025 antes de estrenar el nuevo repertorio\, garantía de himnos coreables y euforia colectiva de principio a fin. Si buscas un directo que mezcle psicodelia vintage\, pop de alto octanaje y comunión total con el público\, Sidonie es tu banda.
URL:https://www.elveintiuno.com/concierto/concierto_de_sidonie_en_huesca_2026_2/
LOCATION:Sala El Veintiuno\, C/ Padre Huesca\, 52\, Huesca\, 22005\, España
CATEGORIES:Concierto
ATTACH;FMTTYPE=image/webp:https://www.elveintiuno.com/wp-content/uploads/2025/10/sidonie800-1.webp
END:VEVENT
BEGIN:VEVENT
DTSTART;TZID=Europe/Madrid:20260131T230000
DTEND;TZID=Europe/Madrid:20260201T003000
DTSTAMP:20260421T151353
CREATED:20251021T100050Z
LAST-MODIFIED:20251023T195939Z
UID:30167-1769900400-1769905800@www.elveintiuno.com
SUMMARY:SIDONIE
DESCRIPTION:El trío barcelonés formado por Marc Ros\, Jes Senra y Axel Pi— encarna desde hace más de dos décadas la cara más luminosa del pop psicodélico español. De la explosión sixties de Fascinado y la elegancia mediterránea de Costa Azul al desborde narrativo de El Regreso de Abba (2020)\, cada nuevo trabajo ha ampliado su universo colorista sin perder la chispa inmediata de sus estribillos. Ahora la banda afronta un giro ilusionante: en octubre de 2025 publicarán Catalan Graffiti\, su primer disco íntegramente en catalán\, adelantado por el single «Et puc odiar molt més»—un paso “liberador” que\, en palabras del propio grupo\, reconecta con sus raíces después de 27 años de trayectoria. \nSobre el escenario\, Sidonie convierte cada concierto en una fiesta caleidoscópica donde guitarras fuzz\, percusiones tropicales y destellos electrónicos se funden con un show vibrante y cercano. Su calendario estival los llevará por citas clave como Sentir Baeza\, PortAmérica o Bilbao BBK Live 2025 antes de estrenar el nuevo repertorio\, garantía de himnos coreables y euforia colectiva de principio a fin. Si buscas un directo que mezcle psicodelia vintage\, pop de alto octanaje y comunión total con el público\, Sidonie es tu banda. \n 
URL:https://www.elveintiuno.com/concierto/concierto_de_sidonie_en_huesca_2026/
LOCATION:Sala El Veintiuno\, C/ Padre Huesca\, 52\, Huesca\, 22005\, España
CATEGORIES:Concierto
ATTACH;FMTTYPE=image/webp:https://www.elveintiuno.com/wp-content/uploads/2025/10/sidonie800-1.webp
END:VEVENT
END:VCALENDAR