BEGIN:VCALENDAR
VERSION:2.0
PRODID:-//El Veintiuno - ECPv6.15.17//NONSGML v1.0//EN
CALSCALE:GREGORIAN
METHOD:PUBLISH
X-WR-CALNAME:El Veintiuno
X-ORIGINAL-URL:https://www.elveintiuno.com
X-WR-CALDESC:Eventos para El Veintiuno
REFRESH-INTERVAL;VALUE=DURATION:PT1H
X-Robots-Tag:noindex
X-PUBLISHED-TTL:PT1H
BEGIN:VTIMEZONE
TZID:Europe/Madrid
BEGIN:DAYLIGHT
TZOFFSETFROM:+0100
TZOFFSETTO:+0200
TZNAME:CEST
DTSTART:20250330T010000
END:DAYLIGHT
BEGIN:STANDARD
TZOFFSETFROM:+0200
TZOFFSETTO:+0100
TZNAME:CET
DTSTART:20251026T010000
END:STANDARD
BEGIN:DAYLIGHT
TZOFFSETFROM:+0100
TZOFFSETTO:+0200
TZNAME:CEST
DTSTART:20260329T010000
END:DAYLIGHT
BEGIN:STANDARD
TZOFFSETFROM:+0200
TZOFFSETTO:+0100
TZNAME:CET
DTSTART:20261025T010000
END:STANDARD
BEGIN:DAYLIGHT
TZOFFSETFROM:+0100
TZOFFSETTO:+0200
TZNAME:CEST
DTSTART:20270328T010000
END:DAYLIGHT
BEGIN:STANDARD
TZOFFSETFROM:+0200
TZOFFSETTO:+0100
TZNAME:CET
DTSTART:20271031T010000
END:STANDARD
END:VTIMEZONE
BEGIN:VEVENT
DTSTART;TZID=Europe/Madrid:20260307T230000
DTEND;TZID=Europe/Madrid:20260308T003000
DTSTAMP:20260421T121506
CREATED:20250611T130416Z
LAST-MODIFIED:20251023T163358Z
UID:24683-1772924400-1772929800@www.elveintiuno.com
SUMMARY:RATA NEGRA
DESCRIPTION:Rata Negra es una banda de punk madrileña formada en 2013 por miembros de Juanita y Los Feos y La URSS\, cuya mezcla de crudeza punk y sensibilidad pop ha evolucionado hacia un sonido único\, pegadizo y mordaz. \nCon letras desalentadoras pero brillantes\, y una estética influenciada por Dead Moon y la contracultura\, han girado por Europa y EE. UU.\, consolidando su lugar en la escena. \nSu directo es su mayor fortaleza\, y en 2025 regresan con“Hawai”\,un disco editado por Sonido Muchacho que reafirma su estilo y energía inconfundibles
URL:https://www.elveintiuno.com/concierto/concierto_de_rata_negra_en_huesca/
LOCATION:Sala El Veintiuno\, C/ Padre Huesca\, 52\, Huesca\, 22005\, España
CATEGORIES:Concierto
ATTACH;FMTTYPE=image/jpeg:https://www.elveintiuno.com/wp-content/uploads/2025/06/ratanegra450.jpg
END:VEVENT
BEGIN:VEVENT
DTSTART;TZID=Europe/Madrid:20260313T230000
DTEND;TZID=Europe/Madrid:20260314T003000
DTSTAMP:20260421T121506
CREATED:20251117T231222Z
LAST-MODIFIED:20251117T232645Z
UID:32653-1773442800-1773448200@www.elveintiuno.com
SUMMARY:THE SECRET SOCIETY
DESCRIPTION:Cuatro años después de trasladarse a Hamburgo\, The Secret Society presentan su quinto disco\, Canciones de amor y rabia\, compuesto y grabado por Pepo M. en su casa del barrio de Barmbek\, al noreste de la ciudad alemana. Todos los cambios personales de los últimos años han provocado un cambio de estructura: donde antes había una banda tocando a todo volumen\, ahora hay samplers\, teclados\, guitarras\, una Tascam de 4 pistas\, un ordenador\, un bajo y una guitarra. El espíritu y la intención siguen intactos. \nLa gira de marzo de 2026\, que llevará a The Secret Society a tocar 13 conciertos en 14 días por todo el estado\, ha sido organizada siguiendo un patrón ya conocido: con total independencia\, por debajo de todos los radares\, rechazando a las plataformas de venta de tickets por adelantado y en permanente contacto con su público y promotores locales. \nThe Secret Society son en la actualidad Pepo Márquez y Klas Van Hasselt. \nThe Secret Society han editado 5 discos\, 5 EPs y aparecido en recopilatorios de diferentes discográficas y publicaciones nacionales e internacionales\, han tocado más de 400 conciertos por todo el mundo desde 2002 y han compartido conciertos y giras con artistas como Songs:Ohia\, Dominique A.\, Why?\, Hood\, Magnolia Electric Co.\, Tara Jane O’Neil\, Wilco\, Berri Txarrak\, Damien Jurado o Destroyer. \nThe Secret Society publican en su propia discográfica\, Suena Fuerte Inc.\, que también funciona como altavoz de sus diferentes actividades y agencia de booking de sus conciertos.
URL:https://www.elveintiuno.com/concierto/concierto_de_the_secret_society_en_huesca_2026/
LOCATION:Sala El Veintiuno\, C/ Padre Huesca\, 52\, Huesca\, 22005\, España
CATEGORIES:Concierto
ATTACH;FMTTYPE=image/webp:https://www.elveintiuno.com/wp-content/uploads/2025/11/thesecretsociety.webp
END:VEVENT
BEGIN:VEVENT
DTSTART;TZID=Europe/Madrid:20260314T230000
DTEND;TZID=Europe/Madrid:20260315T003000
DTSTAMP:20260421T121506
CREATED:20251021T104624Z
LAST-MODIFIED:20251023T212228Z
UID:30195-1773529200-1773534600@www.elveintiuno.com
SUMMARY:SANGUIJUELAS DEL GUADIANA
DESCRIPTION:Sanguijuelas del Guadiana\, formado por tres amigos (Carlos\, Juan y Víctor)\, tres jóvenes extremeños que a sus veintipocos años de edad decidieron dar forma y nombre a esas reuniones con instrumentos que de chicos hacían por diversión. \nCriados en plena Siberia Extremeña consumen su niñez jugando en las calles\, haciendo casas de palets\, participando en las festividades locales y teniendo un primer contacto con la música en la banda municipal de su pueblo\, Casas de Don Pedro. Estas experiencias despertaron en ellos una pasión por la música que evolucionó hacia tardes enteras interpretando a su manera temas de Extremoduro\, Triana\, Estopa y Nirvana\, entre otros. \nConscientes de las limitaciones de su entorno rural y movidos por sus inquietudes personales y deseos de avanzar académicamente\, los tres se trasladaron a ciudades más grandes como Cáceres y Madrid. Aunque la distancia entre ellos era un hecho\, el proyecto musical que tanto les apasionaba nunca quedó en segundo plano. \nFinalmente\, han decidido regresar a su pueblo con un propósito firme: solidificar su formación como grupo\, dedicarse a componer sus propias canciones\, comprometerse seriamente con el proyecto y ensayar intensamente. Sanguijuelas del Guadiana es el resultado de ese regreso a las raíces\, una apuesta por la autenticidad y el compromiso con su música y sus sueños.
URL:https://www.elveintiuno.com/concierto/concierto_de_sanguijuelas_del_guadiana_en_huesca/
LOCATION:Sala El Veintiuno\, C/ Padre Huesca\, 52\, Huesca\, 22005\, España
CATEGORIES:Concierto
ATTACH;FMTTYPE=image/webp:https://www.elveintiuno.com/wp-content/uploads/2025/10/sanguijelasdelguadiana800.webp
END:VEVENT
BEGIN:VEVENT
DTSTART;TZID=Europe/Madrid:20260315T203000
DTEND;TZID=Europe/Madrid:20260315T220000
DTSTAMP:20260421T121506
CREATED:20251021T105039Z
LAST-MODIFIED:20251103T233215Z
UID:30198-1773606600-1773612000@www.elveintiuno.com
SUMMARY:KAKKMADDAFAKKA
DESCRIPTION:La banda noruega Kakkmaddafakka regresa a los escenarios con su inconfundible energía y su sonido único que fusiona indie rock\, pop y funk. Conocidos por sus actuaciones vibrantes y su conexión directa con el público\, el grupo ofrece un espectáculo lleno de ritmo\, diversión y momentos inolvidables. \nFormados en Bergen\, Noruega\, Kakkmaddafakka ha recorrido el mundo con una trayectoria marcada por himnos como Restless\, Forever Alone o Naked Blue. Su estilo fresco y su potente presencia escénica los han convertido en una de las bandas más destacadas del panorama alternativo europeo. \nNo pierdas la oportunidad de disfrutar de un concierto lleno de energía y buenas vibraciones. Compra tus entradas para Kakkmaddafakka y vive una experiencia musical que no olvidarás.
URL:https://www.elveintiuno.com/concierto/concierto_de_kakkmaddafakka_en_huesca/
LOCATION:Sala El Veintiuno\, C/ Padre Huesca\, 52\, Huesca\, 22005\, España
CATEGORIES:Concierto
ATTACH;FMTTYPE=image/webp:https://www.elveintiuno.com/wp-content/uploads/2025/10/kakkmaddafakka800.webp
END:VEVENT
BEGIN:VEVENT
DTSTART;TZID=Europe/Madrid:20260320T230000
DTEND;TZID=Europe/Madrid:20260321T003000
DTSTAMP:20260421T121506
CREATED:20251021T103939Z
LAST-MODIFIED:20251024T225359Z
UID:30191-1774047600-1774053000@www.elveintiuno.com
SUMMARY:BESMAYA
DESCRIPTION:Javi Ojanguren y Javi Echávarri comenzaron su carrera como “banda digital” indie-pop en 2020 y\, tras su éxito en streaming\, en 2022 publican su primer EP\, “BESMAYA”\, con el que pueden presumir de atraer a más de medio millón de oyentes en plataformas digitales. Canciones como ‘Matar la Pena’ o ‘Cuerda Auxiliar’ acumulan más de 22 millones de reproducciones en Spotify. El dúo apostó fuertemente por la conquista de lo escenarios\, girando intensamente por todo España en salas y en festivales\, con varios ‘sold out’. \nEl “Pop Distendido” de Besmaya da una nueva vuelta al propio género y lo sitúa entre lo alternativo y los sonidos más actuales. Crea una nueva atmósfera reconocible. Una reinvención del género que nace y vive entre lo orgánico y lo electrónico. Un pop más natural\, que cuenta verdades y lo hace con menos pretensiones: sin tomarse demasiado en serio. Un pop divertido\, que a veces se ríe de sí mismo. Lo profundo de las verdades dónde te sientes reflejado\, pero con el tono relajado del género más popular. \nCantan sobre cualquier tema y son capaces de convertir una letra melancólica en una canción fiestera\, suave y cautivadora. No juegan a la estela armónica urbana que poco a poco se apodera del espacio y escena nacional\, pero su imagen y ritmos bien casarían en el line up de la programación más actual con nombres top de la industria. \nEn 2024 publicaron su disco «NUEVOS LEMAS» y este 2025 están de gira presentándolo en salas y festivales.
URL:https://www.elveintiuno.com/concierto/concierto_de_besmaya_en_huesca/
LOCATION:Sala El Veintiuno\, C/ Padre Huesca\, 52\, Huesca\, 22005\, España
CATEGORIES:Concierto
ATTACH;FMTTYPE=image/webp:https://www.elveintiuno.com/wp-content/uploads/2025/10/besmaya800.webp
END:VEVENT
BEGIN:VEVENT
DTSTART;TZID=Europe/Madrid:20260321T223000
DTEND;TZID=Europe/Madrid:20260322T000000
DTSTAMP:20260421T121506
CREATED:20260212T123017Z
LAST-MODIFIED:20260212T123453Z
UID:36353-1774132200-1774137600@www.elveintiuno.com
SUMMARY:COSMOS FESTIVAL - ALEJO STIVEL
DESCRIPTION:Asociación Down Huesca en su 35 aniversario y coincidiendo con el Día Mundial del Síndrome de Down presenta dentro del FESTIVAL COSMOS la actuación musical en acústico de ALEJO STIVEL (TEQUILA)\, actuación benéfica a favor a la Asociación. \nDonativo: 20€
URL:https://www.elveintiuno.com/concierto/concierto_de_alejo_stivel_en_huesca/
LOCATION:Teatro Olimpia\, C. Coso Alto\, 42\, Huesca\, 22003
CATEGORIES:Concierto,Festival
ATTACH;FMTTYPE=image/webp:https://www.elveintiuno.com/wp-content/uploads/2026/02/cosmosfestival2026.webp
END:VEVENT
END:VCALENDAR