BEGIN:VCALENDAR
VERSION:2.0
PRODID:-//El Veintiuno - ECPv6.15.17//NONSGML v1.0//EN
CALSCALE:GREGORIAN
METHOD:PUBLISH
X-ORIGINAL-URL:https://www.elveintiuno.com
X-WR-CALDESC:Eventos para El Veintiuno
REFRESH-INTERVAL;VALUE=DURATION:PT1H
X-Robots-Tag:noindex
X-PUBLISHED-TTL:PT1H
BEGIN:VTIMEZONE
TZID:Europe/Madrid
BEGIN:DAYLIGHT
TZOFFSETFROM:+0100
TZOFFSETTO:+0200
TZNAME:CEST
DTSTART:20250330T010000
END:DAYLIGHT
BEGIN:STANDARD
TZOFFSETFROM:+0200
TZOFFSETTO:+0100
TZNAME:CET
DTSTART:20251026T010000
END:STANDARD
BEGIN:DAYLIGHT
TZOFFSETFROM:+0100
TZOFFSETTO:+0200
TZNAME:CEST
DTSTART:20260329T010000
END:DAYLIGHT
BEGIN:STANDARD
TZOFFSETFROM:+0200
TZOFFSETTO:+0100
TZNAME:CET
DTSTART:20261025T010000
END:STANDARD
BEGIN:DAYLIGHT
TZOFFSETFROM:+0100
TZOFFSETTO:+0200
TZNAME:CEST
DTSTART:20270328T010000
END:DAYLIGHT
BEGIN:STANDARD
TZOFFSETFROM:+0200
TZOFFSETTO:+0100
TZNAME:CET
DTSTART:20271031T010000
END:STANDARD
END:VTIMEZONE
BEGIN:VEVENT
DTSTART;TZID=Europe/Madrid:20260523T230000
DTEND;TZID=Europe/Madrid:20260524T003000
DTSTAMP:20260421T123713
CREATED:20260101T195501Z
LAST-MODIFIED:20260410T034614Z
UID:35318-1779577200-1779582600@www.elveintiuno.com
SUMMARY:MELIFLUO
DESCRIPTION:Melifluo es un dúo formado en 2019 por los hermanos Juan Carlos y Antonio Gómez Parrilla. Su música es un viaje introspectivo por ritmos cercanos al rock\, indie-rock\, pop electrónico. \nTras su andadura en anteriores bandas como Supersubmarina y Casasola\, los hermanos comenzaron este proyecto con el lanzamiento de cuatro singles y un primer E.P.\, producido por Víctor Cabezuelo (Rufus T. Firefly) y mezclado por Manuel Cabezalí (Havalina). En 2021 lanzaron su primer disco “Pasado_Futuro” producido por ellos mismos en su estudio Haleluya Music Studio (Baeza)\, al que más tarde añaden tres colaboraciones con Sidonie\, Víctor Cabezuelo y Diego de Veintiuno. \nEn 2022 y 2023 tanto “15 Pitis“ “Ahora me toca a mí” como “Buenaventura” (E.P.) consolidaron el sonido de la banda. Jay\, (guitarra de Supersubmarina)\, Edu (guitarra) y Juanan (bajo) se unen a la formación compactando el sonido de la banda en directo. En 2025 editan su segundo LP\, «Voces Exrernas»\, producido y mezclado por Paco Salazar. Es también cuando firman por Calaverita Records\, que se encarga de la publicación y distribución del disco. El álbum ha funcionado muy bien\, tanto en plataformas de streaming como en redes sociales. Esto les ha llevado a estar presentes en 24 festivales este verano\, con gran asistencia y respuesta de público. Esto ha llevado a Melifluo a convertirse en una de las bandas emergentes a seguir: por sonido\, puesta en escena y comunidad de seguidores.
URL:https://www.elveintiuno.com/concierto/concierto_de_melifluo_en_huesca/
LOCATION:Sala El Veintiuno\, C/ Padre Huesca\, 52\, Huesca\, 22005\, España
CATEGORIES:Concierto
ATTACH;FMTTYPE=image/webp:https://www.elveintiuno.com/wp-content/uploads/2026/01/melifluo800.webp
END:VEVENT
BEGIN:VEVENT
DTSTART;TZID=Europe/Madrid:20260530T230000
DTEND;TZID=Europe/Madrid:20260531T003000
DTSTAMP:20260421T123713
CREATED:20251207T230038Z
LAST-MODIFIED:20251209T132451Z
UID:33021-1780182000-1780187400@www.elveintiuno.com
SUMMARY:GRANDE AMORE
DESCRIPTION:Por si a alguien le interesa saberlo\, Grande Amore es el grupo más ruidoso de su generación. No el que mejor canta\, no el que mejor toca\, no el que mejor baila… pero sí el más ruidoso. Guitarra\, ritmo y voz. \nTodo tan roto como sea posible. Antes de subirse al escenario\, parecen los Looney Tunes. Una vez que suben\, también\, pero con mucha distorsión arropándolos. Los más rockeros y los menos rockeros al mismo tiempo. Como dice Clara: “Nuestro instrumento es la actitud”. \nGrande Amore presenta ‘III’\, su tercer disco. Un trabajo publicado por Ernie Records en el que Nuno Pico\, junto a Clara Redondo y mariagrep\, va un paso más allá. En III\, que está dedicado a Robe Iniesta\, Steve Albini y Ascensión Fernández García\, desde Grande Amore consiguen encapsular el sonido de sus directos. Logran la distorsión\, el ansiado ruido\, el rock and roll extremo.
URL:https://www.elveintiuno.com/concierto/concierto_de_grande_amore_en_huesca_26/
LOCATION:Sala El Veintiuno\, C/ Padre Huesca\, 52\, Huesca\, 22005\, España
CATEGORIES:Concierto
ATTACH;FMTTYPE=image/webp:https://www.elveintiuno.com/wp-content/uploads/2025/12/GrandeAmore800.webp
END:VEVENT
END:VCALENDAR