BEGIN:VCALENDAR
VERSION:2.0
PRODID:-//El Veintiuno - ECPv6.15.17//NONSGML v1.0//EN
CALSCALE:GREGORIAN
METHOD:PUBLISH
X-ORIGINAL-URL:https://www.elveintiuno.com
X-WR-CALDESC:Eventos para El Veintiuno
REFRESH-INTERVAL;VALUE=DURATION:PT1H
X-Robots-Tag:noindex
X-PUBLISHED-TTL:PT1H
BEGIN:VTIMEZONE
TZID:Europe/Madrid
BEGIN:DAYLIGHT
TZOFFSETFROM:+0100
TZOFFSETTO:+0200
TZNAME:CEST
DTSTART:20250330T010000
END:DAYLIGHT
BEGIN:STANDARD
TZOFFSETFROM:+0200
TZOFFSETTO:+0100
TZNAME:CET
DTSTART:20251026T010000
END:STANDARD
BEGIN:DAYLIGHT
TZOFFSETFROM:+0100
TZOFFSETTO:+0200
TZNAME:CEST
DTSTART:20260329T010000
END:DAYLIGHT
BEGIN:STANDARD
TZOFFSETFROM:+0200
TZOFFSETTO:+0100
TZNAME:CET
DTSTART:20261025T010000
END:STANDARD
BEGIN:DAYLIGHT
TZOFFSETFROM:+0100
TZOFFSETTO:+0200
TZNAME:CEST
DTSTART:20270328T010000
END:DAYLIGHT
BEGIN:STANDARD
TZOFFSETFROM:+0200
TZOFFSETTO:+0100
TZNAME:CET
DTSTART:20271031T010000
END:STANDARD
END:VTIMEZONE
BEGIN:VEVENT
DTSTART;TZID=Europe/Madrid:20261113T230000
DTEND;TZID=Europe/Madrid:20261114T003000
DTSTAMP:20260421T195943
CREATED:20251219T130021Z
LAST-MODIFIED:20260226T031548Z
UID:34938-1794610800-1794616200@www.elveintiuno.com
SUMMARY:MERINO
DESCRIPTION:Madrid\, la ciudad que los vio nacer\, es la musa inspiradora detrás del proyecto musical de Sandra Merino y Álex Gallego\, conocido como MERINO. Su misión: crear canciones que despierten emociones\, que inviten a sentir y a vivir de forma más auténtica en un mundo cada vez más anestesiado. \nTras colgar el cartel de «entradas agotadas» en La Sala del WiZink Center y un verano girando por los festivales y escenarios más importantes de nuestra geografía\, MERINO ha publicado en abril de este año su tercer álbum de estudio: «El Bosque»\, producido por Santos&Fluren\, cargado con auténticos himnos como «La Niña [2000]» o «El Laberinto [2012]» que ya han cautivado a la crítica y al público. \nCon su dedicación incansable\, talento innegable y pasión desbordante por la música\, este dúo madrileño está destinado a convertirse en una de las grandes referencias de la música española. No hay duda de que MERINO continuará sorprendiendo y emocionando a todos con sus directos donde el público se contagia en una fiesta con sus auténticos himnos de pop. \nEl encanto de Sandra sobre el escenario\, sus letras\, sus melodías y el espectáculo visual\, te llevan a hacer un viaje emocional desde el llanto más descontrolado\, al salto más enloquecido\, y consiguen que el espectador se marche a casa con una sonrisa y con ganas de contarlo. \nEl próximo 13 de noviembre de 2026 el público de El Veintiuno podrá disfrutar en primera persona de este show que promete no dejar indiferente a nadie.
URL:https://www.elveintiuno.com/concierto/concierto_de_merino_en_huesca_2026/
LOCATION:Sala El Veintiuno\, C/ Padre Huesca\, 52\, Huesca\, 22005\, España
CATEGORIES:Concierto
ATTACH;FMTTYPE=image/webp:https://www.elveintiuno.com/wp-content/uploads/2025/12/Merino800.webp
END:VEVENT
BEGIN:VEVENT
DTSTART;TZID=Europe/Madrid:20261114T230000
DTEND;TZID=Europe/Madrid:20261115T003000
DTSTAMP:20260421T195943
CREATED:20260325T212907Z
LAST-MODIFIED:20260325T212909Z
UID:37340-1794697200-1794702600@www.elveintiuno.com
SUMMARY:DENISDENIS
DESCRIPTION:DenisDenis es una de las propuestas emergentes más sólidas del panorama alternativo actual\, consolidando un sonido propio que combina sensibilidad pop\, texturas electrónicas y una energía directa heredada del indie contemporáneo. A lo largo de sus últimos lanzamientos\, la banda ha ido puliendo una identidad marcada por letras íntimas y generacionales\, capaces de conectar con una audiencia cada vez más amplia sin perder autenticidad. Su crecimiento se ha reflejado tanto en plataformas digitales como en directo\, donde destacan por una puesta en escena envolvente y emocionalmente intensa. \nEn la actualidad\, DenisDenis atraviesa una etapa de expansión\, presentando nuevo material y reafirmando su lugar dentro de la nueva ola musical española. Con una propuesta fresca pero madura\, el grupo continúa evolucionando y explorando nuevos matices sonoros\, consolidándose como un nombre imprescindible a seguir en 2026. Sus conciertos se han convertido en experiencias cercanas y vibrantes\, donde el público forma parte activa de cada canción\, anticipando una gira que promete ser uno de los puntos destacados de la temporada.
URL:https://www.elveintiuno.com/concierto/concierto_de_denisdenis_en_huesca/
LOCATION:Sala El Veintiuno\, C/ Padre Huesca\, 52\, Huesca\, 22005\, España
CATEGORIES:Concierto
ATTACH;FMTTYPE=image/webp:https://www.elveintiuno.com/wp-content/uploads/2026/03/denisdenis800.webp
END:VEVENT
BEGIN:VEVENT
DTSTART;TZID=Europe/Madrid:20261121T230000
DTEND;TZID=Europe/Madrid:20261122T003000
DTSTAMP:20260421T195943
CREATED:20260218T182641Z
LAST-MODIFIED:20260219T222033Z
UID:36412-1795302000-1795307400@www.elveintiuno.com
SUMMARY:McENROE (RICARDO LEZÓN)
DESCRIPTION:RICARDO LEZÓN\, compositor\, cantante y líder de la banda vizcaína McENROE\, una de las principales bandas de culto dentro de la escena independiente de nuestro país\, presenta «La vida libre» (Subterfuge Records\, 2025)\, el sexto LP de estudio de la banda\, en el marco de una gira acústica en formato one man show que le llevará a actuar\, entre otras salas y ciudades\, en El Veintiuno de Huesca. \n«La vida libre» son once canciones sobre la nostalgia\, el amor\, la esperanza\, la amabilidad\, la luz y los recuerdos. Sobre la vida libre\, justa ambición. Grabado por Brian Hunt en las praderas cántabras\, producido por Jaime Arteche Limousin en Donosti y mezclado por Raúl Pérez en Granada\, «La vida libre» ha hecho también su propio viaje. Ahora ya está aquí.
URL:https://www.elveintiuno.com/concierto/concierto_de_mcenroe_en_huesca_2026/
LOCATION:Sala El Veintiuno\, C/ Padre Huesca\, 52\, Huesca\, 22005\, España
CATEGORIES:Concierto
ATTACH;FMTTYPE=image/webp:https://www.elveintiuno.com/wp-content/uploads/2026/02/mcenroelezon800.webp
END:VEVENT
END:VCALENDAR