BEGIN:VCALENDAR
VERSION:2.0
PRODID:-//El Veintiuno - ECPv6.15.17//NONSGML v1.0//EN
CALSCALE:GREGORIAN
METHOD:PUBLISH
X-ORIGINAL-URL:https://www.elveintiuno.com
X-WR-CALDESC:Eventos para El Veintiuno
REFRESH-INTERVAL;VALUE=DURATION:PT1H
X-Robots-Tag:noindex
X-PUBLISHED-TTL:PT1H
BEGIN:VTIMEZONE
TZID:Europe/Madrid
BEGIN:DAYLIGHT
TZOFFSETFROM:+0100
TZOFFSETTO:+0200
TZNAME:CEST
DTSTART:20220327T010000
END:DAYLIGHT
BEGIN:STANDARD
TZOFFSETFROM:+0200
TZOFFSETTO:+0100
TZNAME:CET
DTSTART:20221030T010000
END:STANDARD
BEGIN:DAYLIGHT
TZOFFSETFROM:+0100
TZOFFSETTO:+0200
TZNAME:CEST
DTSTART:20230326T010000
END:DAYLIGHT
BEGIN:STANDARD
TZOFFSETFROM:+0200
TZOFFSETTO:+0100
TZNAME:CET
DTSTART:20231029T010000
END:STANDARD
BEGIN:DAYLIGHT
TZOFFSETFROM:+0100
TZOFFSETTO:+0200
TZNAME:CEST
DTSTART:20240331T010000
END:DAYLIGHT
BEGIN:STANDARD
TZOFFSETFROM:+0200
TZOFFSETTO:+0100
TZNAME:CET
DTSTART:20241027T010000
END:STANDARD
END:VTIMEZONE
BEGIN:VEVENT
DTSTART;TZID=Europe/Madrid:20231021T203000
DTEND;TZID=Europe/Madrid:20231021T220000
DTSTAMP:20260425T222546
CREATED:20230930T024127Z
LAST-MODIFIED:20230930T025603Z
UID:8129-1697920200-1697925600@www.elveintiuno.com
SUMMARY:B Vocal
DESCRIPTION:El poder de la voz:\nLa Voz tiene una fuerza arrebatadora\, un poder cautivador que no posee ningún otro instrumento musical. El Poder de la Voz es un estreno mundial en el que por primera vez 50 voces blancas inundan la escena acompañando a B Vocal en un gran espectáculo de luz y sonido\, con una producción nunca antes vista en un show a cappella. \nB Vocal estará acompañado por el coro de voces blancas Amici Musicae del Auditorio de Zaragoza-\, creando un show original\, dinámico\, divertido\, emocionante y para todos los públicos\, en el que repasarán a cappella los mejores momentos de la historia de la música\, y con el que harán que el espectador se sumerja en cada número musical a través de increíbles sensaciones para descubrir por fin el auténtico Poder de la Voz. \nEl espectáculo se desarrollará en el Auditorio Carlos Saura del Palacio de Congresos de Huesca.
URL:https://www.elveintiuno.com/concierto/b-vocal/
LOCATION:Palacio de Congresos\, Av. los Danzantes de Huesca\, s/n\,\, Huesca\, 22005
CATEGORIES:Concierto
ATTACH;FMTTYPE=image/jpeg:https://www.elveintiuno.com/wp-content/uploads/2023/09/bvocal.jpg
END:VEVENT
BEGIN:VEVENT
DTSTART;TZID=Europe/Madrid:20231021T233000
DTEND;TZID=Europe/Madrid:20231022T010000
DTSTAMP:20260425T222546
CREATED:20230910T215836Z
LAST-MODIFIED:20230930T025504Z
UID:4509-1697931000-1697936400@www.elveintiuno.com
SUMMARY:PAUL ALONE
DESCRIPTION:El artista navarro se ha convertido en una de las mayores sorpresas que nos han dado las redes sociales en el último año. En estos meses cargados de lanzamientos nos ha enamorado a todos con su voz y la verdad que esconden sus letras. Ahora\, junto a sus últimos singles ” Quiéreme o mátame”\, “Te acuerdas” o “No valgo pa ciudad” ha emprendido su nuevo TOUR002 que ha conseguido colgar el cartel de Sold Out en prácticamente todas las ciudades por las que ha pasado. \nPaul es un enamorado de la vida que nos atrapa con su voz\, su pasión y sus historias\, tan reales y sinceras como él mismo. La vida misma contada con esa elegancia y esa naturalidad tan característica del navarro\, una delicia para los sentidos con la que nos tocará nuevamente el alma. \nSus etiquetas como fotógrafo\, poeta\, amante del cine\, músico autodidacta\, y\, sobre todo\, enamorado de la vida nos dan pistas de que su propuesta de directo para estos conciertos será sin duda un espectáculo único. \nCOMPRAR ENTRADAS
URL:https://www.elveintiuno.com/concierto/concierto_de_paul_alone_en_huesca/
LOCATION:Sala El Veintiuno\, C/ Padre Huesca\, 52\, Huesca\, 22005\, España
CATEGORIES:Concierto
ATTACH;FMTTYPE=image/jpeg:https://www.elveintiuno.com/wp-content/uploads/2023/09/PAUL-ALONE-HD.jpg
END:VEVENT
END:VCALENDAR