BEGIN:VCALENDAR
VERSION:2.0
PRODID:-//El Veintiuno - ECPv6.15.17//NONSGML v1.0//EN
CALSCALE:GREGORIAN
METHOD:PUBLISH
X-WR-CALNAME:El Veintiuno
X-ORIGINAL-URL:https://www.elveintiuno.com
X-WR-CALDESC:Eventos para El Veintiuno
REFRESH-INTERVAL;VALUE=DURATION:PT1H
X-Robots-Tag:noindex
X-PUBLISHED-TTL:PT1H
BEGIN:VTIMEZONE
TZID:Europe/Madrid
BEGIN:DAYLIGHT
TZOFFSETFROM:+0100
TZOFFSETTO:+0200
TZNAME:CEST
DTSTART:20220327T010000
END:DAYLIGHT
BEGIN:STANDARD
TZOFFSETFROM:+0200
TZOFFSETTO:+0100
TZNAME:CET
DTSTART:20221030T010000
END:STANDARD
BEGIN:DAYLIGHT
TZOFFSETFROM:+0100
TZOFFSETTO:+0200
TZNAME:CEST
DTSTART:20230326T010000
END:DAYLIGHT
BEGIN:STANDARD
TZOFFSETFROM:+0200
TZOFFSETTO:+0100
TZNAME:CET
DTSTART:20231029T010000
END:STANDARD
BEGIN:DAYLIGHT
TZOFFSETFROM:+0100
TZOFFSETTO:+0200
TZNAME:CEST
DTSTART:20240331T010000
END:DAYLIGHT
BEGIN:STANDARD
TZOFFSETFROM:+0200
TZOFFSETTO:+0100
TZNAME:CET
DTSTART:20241027T010000
END:STANDARD
END:VTIMEZONE
BEGIN:VEVENT
DTSTART;TZID=Europe/Madrid:20231103T233000
DTEND;TZID=Europe/Madrid:20231104T010000
DTSTAMP:20260425T210751
CREATED:20230917T025659Z
LAST-MODIFIED:20230930T040259Z
UID:6109-1699054200-1699059600@www.elveintiuno.com
SUMMARY:FLORES & McEWEN
DESCRIPTION:Flores & Mcewen es una banda de Rock (con tintes de otros estilos como el Blues\, Pop o Hard Rock) formada en 2018 en la ciudad de Huesca. Emilio Bernad (guitarra)\, junto a Simón Sampietro (voz) y Alberto Escar (batería) consolidan la formación que entraría a grabar a finales de año lo que será su primer trabajo de estudio. \nCon la entrada de Víctor Ordaz (bajo) en la banda\, en junio de 2019 sale a la luz el primer álbum titulado “El momento ha de llegar”\, el cual tuvo una gran acogida por parte de prensa especializada como “Mariskal Rock” o “Rock Estatal”. \nActualmente\, con la entrada de Jorge Barrantes (bajo) a la banda y la publicación del segundo álbum “Fuera del carril”\, la banda ha preparado un nuevo show en directo que no dejará indiferente a nadie.
URL:https://www.elveintiuno.com/concierto/concierto_flores_y_mcewen/
LOCATION:Sala El Veintiuno\, C/ Padre Huesca\, 52\, Huesca\, 22005\, España
CATEGORIES:Concierto
ATTACH;FMTTYPE=image/jpeg:https://www.elveintiuno.com/wp-content/uploads/2023/09/Flores_y_McEwenSHD.jpg
END:VEVENT
END:VCALENDAR