BEGIN:VCALENDAR
VERSION:2.0
PRODID:-//El Veintiuno - ECPv6.15.17//NONSGML v1.0//EN
CALSCALE:GREGORIAN
METHOD:PUBLISH
X-WR-CALNAME:El Veintiuno
X-ORIGINAL-URL:https://www.elveintiuno.com
X-WR-CALDESC:Eventos para El Veintiuno
REFRESH-INTERVAL;VALUE=DURATION:PT1H
X-Robots-Tag:noindex
X-PUBLISHED-TTL:PT1H
BEGIN:VTIMEZONE
TZID:Europe/Madrid
BEGIN:DAYLIGHT
TZOFFSETFROM:+0100
TZOFFSETTO:+0200
TZNAME:CEST
DTSTART:20230326T010000
END:DAYLIGHT
BEGIN:STANDARD
TZOFFSETFROM:+0200
TZOFFSETTO:+0100
TZNAME:CET
DTSTART:20231029T010000
END:STANDARD
BEGIN:DAYLIGHT
TZOFFSETFROM:+0100
TZOFFSETTO:+0200
TZNAME:CEST
DTSTART:20240331T010000
END:DAYLIGHT
BEGIN:STANDARD
TZOFFSETFROM:+0200
TZOFFSETTO:+0100
TZNAME:CET
DTSTART:20241027T010000
END:STANDARD
BEGIN:DAYLIGHT
TZOFFSETFROM:+0100
TZOFFSETTO:+0200
TZNAME:CEST
DTSTART:20250330T010000
END:DAYLIGHT
BEGIN:STANDARD
TZOFFSETFROM:+0200
TZOFFSETTO:+0100
TZNAME:CET
DTSTART:20251026T010000
END:STANDARD
END:VTIMEZONE
BEGIN:VEVENT
DTSTART;TZID=Europe/Madrid:20240111T210000
DTEND;TZID=Europe/Madrid:20240111T223000
DTSTAMP:20260425T175852
CREATED:20231223T200049Z
LAST-MODIFIED:20240109T214453Z
UID:10173-1705006800-1705012200@www.elveintiuno.com
SUMMARY:SIDONIE
DESCRIPTION:Sidonie es un grupo de pop psicodélico fundado en Barcelona en 1997 por Marc Ros (voz y guitarra)\, Jesús Senra (bajo\, sitar y segunda voz) y Axel Pi (batería y percusión). \nLa banda barcelonesa\, con más de 20 años de carrera regresa con un nuevo trabajo que les pone más en primer plano que nunca. Un disco pop\, brillante y guitarrero. SIDONIE han hecho del cambio constante una virtud\, convirtiéndose así en uno de los grupos más estimulantes de seguir. Una incógnita y a la vez una apuesta segura.
URL:https://www.elveintiuno.com/concierto/concierto_de_sidonie_en_huesca/
LOCATION:Sala El Veintiuno\, C/ Padre Huesca\, 52\, Huesca\, 22005\, España
CATEGORIES:Concierto
ATTACH;FMTTYPE=image/jpeg:https://www.elveintiuno.com/wp-content/uploads/2023/12/sidonie450SO.jpg
END:VEVENT
END:VCALENDAR