BEGIN:VCALENDAR
VERSION:2.0
PRODID:-//El Veintiuno - ECPv6.15.17//NONSGML v1.0//EN
CALSCALE:GREGORIAN
METHOD:PUBLISH
X-ORIGINAL-URL:https://www.elveintiuno.com
X-WR-CALDESC:Eventos para El Veintiuno
REFRESH-INTERVAL;VALUE=DURATION:PT1H
X-Robots-Tag:noindex
X-PUBLISHED-TTL:PT1H
BEGIN:VTIMEZONE
TZID:Europe/Madrid
BEGIN:DAYLIGHT
TZOFFSETFROM:+0100
TZOFFSETTO:+0200
TZNAME:CEST
DTSTART:20230326T010000
END:DAYLIGHT
BEGIN:STANDARD
TZOFFSETFROM:+0200
TZOFFSETTO:+0100
TZNAME:CET
DTSTART:20231029T010000
END:STANDARD
BEGIN:DAYLIGHT
TZOFFSETFROM:+0100
TZOFFSETTO:+0200
TZNAME:CEST
DTSTART:20240331T010000
END:DAYLIGHT
BEGIN:STANDARD
TZOFFSETFROM:+0200
TZOFFSETTO:+0100
TZNAME:CET
DTSTART:20241027T010000
END:STANDARD
BEGIN:DAYLIGHT
TZOFFSETFROM:+0100
TZOFFSETTO:+0200
TZNAME:CEST
DTSTART:20250330T010000
END:DAYLIGHT
BEGIN:STANDARD
TZOFFSETFROM:+0200
TZOFFSETTO:+0100
TZNAME:CET
DTSTART:20251026T010000
END:STANDARD
END:VTIMEZONE
BEGIN:VEVENT
DTSTART;TZID=Europe/Madrid:20240203T233000
DTEND;TZID=Europe/Madrid:20240204T010000
DTSTAMP:20260425T150032
CREATED:20231008T190031Z
LAST-MODIFIED:20240103T142416Z
UID:8440-1707003000-1707008400@www.elveintiuno.com
SUMMARY:BELY BASARTE
DESCRIPTION:Bely Basarte es Pop policromático\, de muchos colores. Compone sus canciones desde la honestidad y las tinta con sus principales influencias: punk\, rock y RnB. \nCuenta con una gran trayectoria\, desde crear una comunidad en Youtube con sus covers y temas propios\, hasta hacer varias giras exitorsas. Bely cuenta con un amplio público fiel\, en España y Latinoamérica\, que le permiten llenar salas y festivales en cada ciudad. \n  \nSi quieres disfrutar al máximo el día de concierto puedes hacerte con la ENTRADA EXPERIENCIA\, que incluye: \nAcceso al concierto + Acceso a la prueba de sonido (15 minutos) + Meet&Greet para conocer a Bely Basarte + foto Polaroid con Bely firmada
URL:https://www.elveintiuno.com/concierto/concierto_de_bely_basarte_en_huesca/
LOCATION:Sala El Veintiuno\, C/ Padre Huesca\, 52\, Huesca\, 22005\, España
CATEGORIES:Concierto
ATTACH;FMTTYPE=image/jpeg:https://www.elveintiuno.com/wp-content/uploads/2023/10/Bely-Basarte-450.jpg
END:VEVENT
END:VCALENDAR