BEGIN:VCALENDAR
VERSION:2.0
PRODID:-//El Veintiuno - ECPv6.15.17//NONSGML v1.0//EN
CALSCALE:GREGORIAN
METHOD:PUBLISH
X-WR-CALNAME:El Veintiuno
X-ORIGINAL-URL:https://www.elveintiuno.com
X-WR-CALDESC:Eventos para El Veintiuno
REFRESH-INTERVAL;VALUE=DURATION:PT1H
X-Robots-Tag:noindex
X-PUBLISHED-TTL:PT1H
BEGIN:VTIMEZONE
TZID:Europe/Madrid
BEGIN:DAYLIGHT
TZOFFSETFROM:+0100
TZOFFSETTO:+0200
TZNAME:CEST
DTSTART:20230326T010000
END:DAYLIGHT
BEGIN:STANDARD
TZOFFSETFROM:+0200
TZOFFSETTO:+0100
TZNAME:CET
DTSTART:20231029T010000
END:STANDARD
BEGIN:DAYLIGHT
TZOFFSETFROM:+0100
TZOFFSETTO:+0200
TZNAME:CEST
DTSTART:20240331T010000
END:DAYLIGHT
BEGIN:STANDARD
TZOFFSETFROM:+0200
TZOFFSETTO:+0100
TZNAME:CET
DTSTART:20241027T010000
END:STANDARD
BEGIN:DAYLIGHT
TZOFFSETFROM:+0100
TZOFFSETTO:+0200
TZNAME:CEST
DTSTART:20250330T010000
END:DAYLIGHT
BEGIN:STANDARD
TZOFFSETFROM:+0200
TZOFFSETTO:+0100
TZNAME:CET
DTSTART:20251026T010000
END:STANDARD
END:VTIMEZONE
BEGIN:VEVENT
DTSTART;TZID=Europe/Madrid:20240309T233000
DTEND;TZID=Europe/Madrid:20240310T010000
DTSTAMP:20260425T133427
CREATED:20231213T210026Z
LAST-MODIFIED:20231221T222651Z
UID:10035-1710027000-1710032400@www.elveintiuno.com
SUMMARY:MERINO
DESCRIPTION:MERINO es el proyecto musical creado por Sandra Merino y Álex Gallego. \nMERINO con M de Madrid\, su ciudad natal y el lugar donde hacen canciones con la intención de remover almas\, ayudar a la gente a sentir\, a emocionarse y a vivir un poco menos anestesiada. \nDesde sus inicios en 2019 se cuelan sin permiso en las emociones de la gente concierto tras concierto\, lo que les hace tener una base fiel de seguidores que cada día va aumentando. Es precisamente en sus directos donde conquistan corazones a través de su performance\, la iluminación o la voz de Sandra\, creando así una atmósfera de pop de alto voltaje emocional\, como ya les han definido anteriormente. Les avala su paso por lugares tan míticos como el Teatro Lara de Madrid\, La Galileo\, el Teatro Apolo de Barcelona\, El Naútico de San Vicente\, el concurso MadCool Talent 2022 o la sala Copérnico de Madrid. \nTras la cálida acogida de su disco debut «Piel\, Equilibrio y Humo»\, MERINO están grabando su segundo disco con Santos&Fluren (IZAL\, Love of Lesbian\, Viva Suecia)\, del cual ya podemos escuchar el primer adelanto\, «Apareciste». \nMERINO es\, en definitiva\, un lugar para atreverse a sentir.
URL:https://www.elveintiuno.com/concierto/concierto_de_merino_en_huesca/
LOCATION:Sala El Veintiuno\, C/ Padre Huesca\, 52\, Huesca\, 22005\, España
CATEGORIES:Concierto
ATTACH;FMTTYPE=image/jpeg:https://www.elveintiuno.com/wp-content/uploads/2023/12/merino450.jpg
END:VEVENT
END:VCALENDAR