BEGIN:VCALENDAR
VERSION:2.0
PRODID:-//El Veintiuno - ECPv6.15.17//NONSGML v1.0//EN
CALSCALE:GREGORIAN
METHOD:PUBLISH
X-WR-CALNAME:El Veintiuno
X-ORIGINAL-URL:https://www.elveintiuno.com
X-WR-CALDESC:Eventos para El Veintiuno
REFRESH-INTERVAL;VALUE=DURATION:PT1H
X-Robots-Tag:noindex
X-PUBLISHED-TTL:PT1H
BEGIN:VTIMEZONE
TZID:Europe/Madrid
BEGIN:DAYLIGHT
TZOFFSETFROM:+0100
TZOFFSETTO:+0200
TZNAME:CEST
DTSTART:20230326T010000
END:DAYLIGHT
BEGIN:STANDARD
TZOFFSETFROM:+0200
TZOFFSETTO:+0100
TZNAME:CET
DTSTART:20231029T010000
END:STANDARD
BEGIN:DAYLIGHT
TZOFFSETFROM:+0100
TZOFFSETTO:+0200
TZNAME:CEST
DTSTART:20240331T010000
END:DAYLIGHT
BEGIN:STANDARD
TZOFFSETFROM:+0200
TZOFFSETTO:+0100
TZNAME:CET
DTSTART:20241027T010000
END:STANDARD
BEGIN:DAYLIGHT
TZOFFSETFROM:+0100
TZOFFSETTO:+0200
TZNAME:CEST
DTSTART:20250330T010000
END:DAYLIGHT
BEGIN:STANDARD
TZOFFSETFROM:+0200
TZOFFSETTO:+0100
TZNAME:CET
DTSTART:20251026T010000
END:STANDARD
END:VTIMEZONE
BEGIN:VEVENT
DTSTART;TZID=Europe/Madrid:20240316T193000
DTEND;TZID=Europe/Madrid:20240317T000000
DTSTAMP:20260425T133345
CREATED:20240130T050437Z
LAST-MODIFIED:20240130T051244Z
UID:10846-1710617400-1710633600@www.elveintiuno.com
SUMMARY:COSMOS FESTIVAL
DESCRIPTION:COSMOS FESTIVAL es un evento benéfico en favor de la ASOCIACIÓN DOWN HUESCA. \nLa Guardia\, con su gira 40 aniversario\, el grupo oscense Domador\, y el grupo de música y danza de la Asociación Down Huesca\, dirigido por Cristina Pérez y Pablo Pérez Alonso\, que presentará un espectáculo de carácter inclusivo bajo el lema “Bailamos en inclusión”\, serán los encargados de subirse al escenario del auditorio del Palacio de Congresos de Huesca: \n19:30 – BAILAMOS CON INCLUSIÓN (30/40 min) \n21:30 – DOMADOR (45 min) \n22:30 – LA GUARDIA (70 min) \nSi deseas asistir a los conciertos puedes adquirir las entradas (20€) en la página del Palacio de Congresos de Huesca desde el siguiente enlace: \nCOMPRAR ENTRADAS \n  \nPara los que deseen colaborar con la causa\, desde nuestra plataforma se pueden adquirir las entradas «FILA 0»\, que consisten en donativo directo para la ASOCIACIÓN DOWN HUESCA (IMPORTANTE: Entradas «FILA 0» NO dan acceso al evento del auditorio del Palacio de Congresos)
URL:https://www.elveintiuno.com/concierto/cosmos_festival_en_huesca/
LOCATION:Palacio de Congresos\, Av. los Danzantes de Huesca\, s/n\,\, Huesca\, 22005
CATEGORIES:Concierto,Festival
ATTACH;FMTTYPE=image/jpeg:https://www.elveintiuno.com/wp-content/uploads/2024/01/cosmos-festival-450.jpg
END:VEVENT
END:VCALENDAR