BEGIN:VCALENDAR
VERSION:2.0
PRODID:-//El Veintiuno - ECPv6.15.17//NONSGML v1.0//EN
CALSCALE:GREGORIAN
METHOD:PUBLISH
X-WR-CALNAME:El Veintiuno
X-ORIGINAL-URL:https://www.elveintiuno.com
X-WR-CALDESC:Eventos para El Veintiuno
REFRESH-INTERVAL;VALUE=DURATION:PT1H
X-Robots-Tag:noindex
X-PUBLISHED-TTL:PT1H
BEGIN:VTIMEZONE
TZID:Europe/Madrid
BEGIN:DAYLIGHT
TZOFFSETFROM:+0100
TZOFFSETTO:+0200
TZNAME:CEST
DTSTART:20230326T010000
END:DAYLIGHT
BEGIN:STANDARD
TZOFFSETFROM:+0200
TZOFFSETTO:+0100
TZNAME:CET
DTSTART:20231029T010000
END:STANDARD
BEGIN:DAYLIGHT
TZOFFSETFROM:+0100
TZOFFSETTO:+0200
TZNAME:CEST
DTSTART:20240331T010000
END:DAYLIGHT
BEGIN:STANDARD
TZOFFSETFROM:+0200
TZOFFSETTO:+0100
TZNAME:CET
DTSTART:20241027T010000
END:STANDARD
BEGIN:DAYLIGHT
TZOFFSETFROM:+0100
TZOFFSETTO:+0200
TZNAME:CEST
DTSTART:20250330T010000
END:DAYLIGHT
BEGIN:STANDARD
TZOFFSETFROM:+0200
TZOFFSETTO:+0100
TZNAME:CET
DTSTART:20251026T010000
END:STANDARD
END:VTIMEZONE
BEGIN:VEVENT
DTSTART;TZID=Europe/Madrid:20240322T233000
DTEND;TZID=Europe/Madrid:20240323T010000
DTSTAMP:20260425T133429
CREATED:20231229T202548Z
LAST-MODIFIED:20231229T202550Z
UID:10512-1711150200-1711155600@www.elveintiuno.com
SUMMARY:LUIS FERCÁN
DESCRIPTION:“Postales Perdidas” es el nuevo disco de Luis Fercán\, sin duda el disco más maduro del artista hasta la fecha. Grabado en Garate Studios y con la producción de Nacho Mur\, el artista nos acerca de nuevo a sus vivencias más personales. Con su característica voz rasgada\, el autor presenta este disco en directo con una sutileza y calidez propia de un alma vieja y como siempre\, a corazón abierto. \nTras pasar por varias bandas en su Galicia natal\, Luis Fercán inicia en 2016 su carrera como músico en solitario. En 2018\, publica su primer LP\, “Grieta”\, que recibe una muy buena acogida gracias a la mezcla entre la profundidad de sus letras y la personalidad que se ve claramente reflejada en un proyecto tan maduro. \nCon el 2019\, Luis lanza el EP “Furias”\, cuyo single “110” alcanza\, a día de hoy\, los 3 millones de escuchas en Spotify sin entrar en listas lo que reafirma el estatus del músico como uno de los talentos emergentes con mayor proyección del panorama musical nacional. \nEn noviembre de 2021 presenta “Canciones Completas Desde Una Casa Vacía”\, producido por Nacho Mur\, un trabajo en el que se refleja artística y conceptualmente la madurez en la que se encuentra la carrera del músico gallego. \nDesde la presentación del albúm no para de girar llegando a dar más de 100 conciertos (incluyendo su primera gira Mexicana) En Mayo de 2023 se encierra en los Estudios Garate\, una vez más con Nacho Mur a la producción\, donde junto con una banda de excepción graban “Postales Perdidas”\, su tercer disco de estudio\, que estará presentando en España y Latinoamérica durante 2024 y 2025.
URL:https://www.elveintiuno.com/concierto/concierto_de_luis_fercan_en_huesca/
LOCATION:Sala El Veintiuno\, C/ Padre Huesca\, 52\, Huesca\, 22005\, España
CATEGORIES:Concierto
ATTACH;FMTTYPE=image/jpeg:https://www.elveintiuno.com/wp-content/uploads/2023/12/LUIS_FERCAN450.jpg
END:VEVENT
END:VCALENDAR