BEGIN:VCALENDAR
VERSION:2.0
PRODID:-//El Veintiuno - ECPv6.15.17//NONSGML v1.0//EN
CALSCALE:GREGORIAN
METHOD:PUBLISH
X-ORIGINAL-URL:https://www.elveintiuno.com
X-WR-CALDESC:Eventos para El Veintiuno
REFRESH-INTERVAL;VALUE=DURATION:PT1H
X-Robots-Tag:noindex
X-PUBLISHED-TTL:PT1H
BEGIN:VTIMEZONE
TZID:Europe/Madrid
BEGIN:DAYLIGHT
TZOFFSETFROM:+0100
TZOFFSETTO:+0200
TZNAME:CEST
DTSTART:20230326T010000
END:DAYLIGHT
BEGIN:STANDARD
TZOFFSETFROM:+0200
TZOFFSETTO:+0100
TZNAME:CET
DTSTART:20231029T010000
END:STANDARD
BEGIN:DAYLIGHT
TZOFFSETFROM:+0100
TZOFFSETTO:+0200
TZNAME:CEST
DTSTART:20240331T010000
END:DAYLIGHT
BEGIN:STANDARD
TZOFFSETFROM:+0200
TZOFFSETTO:+0100
TZNAME:CET
DTSTART:20241027T010000
END:STANDARD
BEGIN:DAYLIGHT
TZOFFSETFROM:+0100
TZOFFSETTO:+0200
TZNAME:CEST
DTSTART:20250330T010000
END:DAYLIGHT
BEGIN:STANDARD
TZOFFSETFROM:+0200
TZOFFSETTO:+0100
TZNAME:CET
DTSTART:20251026T010000
END:STANDARD
END:VTIMEZONE
BEGIN:VEVENT
DTSTART;TZID=Europe/Madrid:20240525T233000
DTEND;TZID=Europe/Madrid:20240526T010000
DTSTAMP:20260425T143037
CREATED:20231221T014431Z
LAST-MODIFIED:20240604T133529Z
UID:10146-1716679800-1716685200@www.elveintiuno.com
SUMMARY:MARILIA MONZÓN
DESCRIPTION:Marilia Monzón presenta su primer álbum de estudio: Prenderé Una Velita (Esmerarte\, 2023) uniendo fuerzas con el reputado músico y productor Juan Manuel Latorre (guitarrista de Vetusta Morla) y junto a un grupo de músicos de estudio de primera división: Adrián Seijas a la percusión (Xoel López) y Pablo Seijas a las guitarras (NENO). \nDulzura y autenticidad son las palabras que definen a Marilia y su voz. La música de la cantante canaria se caracteriza por adoptar un estilo donde destaca la belleza y la sencillez\, las cuales acompañan a canciones despojadas de todo artificio que adoptan cualidades sanadoras. \nTras su paso por OT 2018\, la artista ha dado un cambio radical a su carrera artística influenciada por los sonidos de su tierra natal. ‘Trazando Rutas’\, ‘Cruzando el charco’ y su último EP ‘La Realidad’\, producido por el hispano-argentino Juan Ibáñez y mezclado por el mexicano Eduardo del Águila\, ganador de 5 Grammys\, son algunos de los títulos más destacados de su pasado repertorio. \n  \nCOMPRAR ENTRADAS
URL:https://www.elveintiuno.com/concierto/concierto_de_marilia_monzon_en_huesca/
LOCATION:Sala El Veintiuno\, C/ Padre Huesca\, 52\, Huesca\, 22005\, España
CATEGORIES:Concierto
ATTACH;FMTTYPE=image/webp:https://www.elveintiuno.com/wp-content/uploads/2023/12/Marilia_monzon800gps.webp
END:VEVENT
END:VCALENDAR