BEGIN:VCALENDAR
VERSION:2.0
PRODID:-//El Veintiuno - ECPv6.15.17//NONSGML v1.0//EN
CALSCALE:GREGORIAN
METHOD:PUBLISH
X-ORIGINAL-URL:https://www.elveintiuno.com
X-WR-CALDESC:Eventos para El Veintiuno
REFRESH-INTERVAL;VALUE=DURATION:PT1H
X-Robots-Tag:noindex
X-PUBLISHED-TTL:PT1H
BEGIN:VTIMEZONE
TZID:Europe/Madrid
BEGIN:DAYLIGHT
TZOFFSETFROM:+0100
TZOFFSETTO:+0200
TZNAME:CEST
DTSTART:20230326T010000
END:DAYLIGHT
BEGIN:STANDARD
TZOFFSETFROM:+0200
TZOFFSETTO:+0100
TZNAME:CET
DTSTART:20231029T010000
END:STANDARD
BEGIN:DAYLIGHT
TZOFFSETFROM:+0100
TZOFFSETTO:+0200
TZNAME:CEST
DTSTART:20240331T010000
END:DAYLIGHT
BEGIN:STANDARD
TZOFFSETFROM:+0200
TZOFFSETTO:+0100
TZNAME:CET
DTSTART:20241027T010000
END:STANDARD
BEGIN:DAYLIGHT
TZOFFSETFROM:+0100
TZOFFSETTO:+0200
TZNAME:CEST
DTSTART:20250330T010000
END:DAYLIGHT
BEGIN:STANDARD
TZOFFSETFROM:+0200
TZOFFSETTO:+0100
TZNAME:CET
DTSTART:20251026T010000
END:STANDARD
END:VTIMEZONE
BEGIN:VEVENT
DTSTART;VALUE=DATE:20240802
DTEND;VALUE=DATE:20240806
DTSTAMP:20260422T231012
CREATED:20230912T013802Z
LAST-MODIFIED:20230930T024806Z
UID:4675-1722582000-1722841199@www.elveintiuno.com
SUMMARY:BRIZNA FESTIVAL
DESCRIPTION:De los creadores de El Bosque Sonoro\, Festival Asalto\, Slap! y El Veintiuno de Huesca\, con el apoyo del Ayuntamiento de Ayerbe\, nace… BRIZNA\, El Festival de las Artes de Ayerbe que se celebrará los días 2\, 3 y 4 de agosto. \nEl Festival se propone como un espectáculo abierto\, diverso y participativo de muestras artísticas que favorezcan al sector y a la ciudadanía en general\, convirtiéndose en un espacio para el conocimiento y disfrute de diversas expresiones del arte. \nTodo ello enmarcado en un enclave privilegiado: a 28 kilómetros de la capital oscense pero en pleno Pirineo aragonés\, en la falda del monte de San Miguel. \nCOMPRAR ENTRADAS
URL:https://www.elveintiuno.com/concierto/brizna_festival_2024/
LOCATION:Cubo de Rustik\, C/ Ramona Cinto\, 50\, Ayerbe\, 22800\, España
CATEGORIES:Concierto,Festival
ATTACH;FMTTYPE=image/jpeg:https://www.elveintiuno.com/wp-content/uploads/2023/09/briznafestival2024.jpg
END:VEVENT
END:VCALENDAR