BEGIN:VCALENDAR
VERSION:2.0
PRODID:-//El Veintiuno - ECPv6.15.17//NONSGML v1.0//EN
CALSCALE:GREGORIAN
METHOD:PUBLISH
X-WR-CALNAME:El Veintiuno
X-ORIGINAL-URL:https://www.elveintiuno.com
X-WR-CALDESC:Eventos para El Veintiuno
REFRESH-INTERVAL;VALUE=DURATION:PT1H
X-Robots-Tag:noindex
X-PUBLISHED-TTL:PT1H
BEGIN:VTIMEZONE
TZID:Europe/Madrid
BEGIN:DAYLIGHT
TZOFFSETFROM:+0100
TZOFFSETTO:+0200
TZNAME:CEST
DTSTART:20230326T010000
END:DAYLIGHT
BEGIN:STANDARD
TZOFFSETFROM:+0200
TZOFFSETTO:+0100
TZNAME:CET
DTSTART:20231029T010000
END:STANDARD
BEGIN:DAYLIGHT
TZOFFSETFROM:+0100
TZOFFSETTO:+0200
TZNAME:CEST
DTSTART:20240331T010000
END:DAYLIGHT
BEGIN:STANDARD
TZOFFSETFROM:+0200
TZOFFSETTO:+0100
TZNAME:CET
DTSTART:20241027T010000
END:STANDARD
BEGIN:DAYLIGHT
TZOFFSETFROM:+0100
TZOFFSETTO:+0200
TZNAME:CEST
DTSTART:20250330T010000
END:DAYLIGHT
BEGIN:STANDARD
TZOFFSETFROM:+0200
TZOFFSETTO:+0100
TZNAME:CET
DTSTART:20251026T010000
END:STANDARD
END:VTIMEZONE
BEGIN:VEVENT
DTSTART;TZID=Europe/Madrid:20240810T235500
DTEND;TZID=Europe/Madrid:20240811T020000
DTSTAMP:20260422T230555
CREATED:20240805T122527Z
LAST-MODIFIED:20240805T123355Z
UID:14911-1723334100-1723341600@www.elveintiuno.com
SUMMARY:ABRAHAM MATEO
DESCRIPTION:Abraham Mateo\, el artista español más innovador en los últimos tiempos\, se mantiene como el cantante de mayor éxito a nivel internacional de la disquera Sony Music España. El multifacético artista nacido el 25 de agosto de 1998 ha solidificado una carrera artística de 14 años\, y se ha mantenido como un fenómeno mundial posicionando sus canciones en los primeros puestos de los listados musicales. Sus más recientes hits\, “Me Vuelvo Loco” con la boy band CNCO\, “¿Qué Ha Pasao’?” con Sofía Reyes\, y “No Encuentro Palabras” con Manuel Turizo han demostrado la versatilidad musical del artista español. La conmovedora voz de San Fernando\, Cádiz\, se ha destacado además como compositor y productor musical\, tanto de sus propios temas como para otros artistas de primera línea como Ivy Queen\, Gente de Zona\, Belinda\, Samo\, Juan Magan\, Lérica\, entre otros.
URL:https://www.elveintiuno.com/concierto/concierto_de_abraham_mateo_en_huesca/
LOCATION:Explanada del Palacio de Congresos\, C/ Corona de Aragón\, Huesca\, 22005
CATEGORIES:Concierto
ATTACH;FMTTYPE=image/jpeg:https://www.elveintiuno.com/wp-content/uploads/2024/08/abrahammateo800.jpg
END:VEVENT
END:VCALENDAR