BEGIN:VCALENDAR
VERSION:2.0
PRODID:-//El Veintiuno - ECPv6.15.17//NONSGML v1.0//EN
CALSCALE:GREGORIAN
METHOD:PUBLISH
X-ORIGINAL-URL:https://www.elveintiuno.com
X-WR-CALDESC:Eventos para El Veintiuno
REFRESH-INTERVAL;VALUE=DURATION:PT1H
X-Robots-Tag:noindex
X-PUBLISHED-TTL:PT1H
BEGIN:VTIMEZONE
TZID:Europe/Madrid
BEGIN:DAYLIGHT
TZOFFSETFROM:+0100
TZOFFSETTO:+0200
TZNAME:CEST
DTSTART:20230326T010000
END:DAYLIGHT
BEGIN:STANDARD
TZOFFSETFROM:+0200
TZOFFSETTO:+0100
TZNAME:CET
DTSTART:20231029T010000
END:STANDARD
BEGIN:DAYLIGHT
TZOFFSETFROM:+0100
TZOFFSETTO:+0200
TZNAME:CEST
DTSTART:20240331T010000
END:DAYLIGHT
BEGIN:STANDARD
TZOFFSETFROM:+0200
TZOFFSETTO:+0100
TZNAME:CET
DTSTART:20241027T010000
END:STANDARD
BEGIN:DAYLIGHT
TZOFFSETFROM:+0100
TZOFFSETTO:+0200
TZNAME:CEST
DTSTART:20250330T010000
END:DAYLIGHT
BEGIN:STANDARD
TZOFFSETFROM:+0200
TZOFFSETTO:+0100
TZNAME:CET
DTSTART:20251026T010000
END:STANDARD
END:VTIMEZONE
BEGIN:VEVENT
DTSTART;TZID=Europe/Madrid:20240830T223000
DTEND;TZID=Europe/Madrid:20240901T003000
DTSTAMP:20260422T212359
CREATED:20240717T130449Z
LAST-MODIFIED:20240904T113743Z
UID:14201-1725057000-1725150600@www.elveintiuno.com
SUMMARY:LA GUARDIA + MARLENA - ABONO -
DESCRIPTION:Abono con precio especial para acceder a los 2 conciertos programados en el Parking de autocaravanas del Pirenarium de Sabiñánigo los días 30 y 31 de agosto. \n  \nLA GUARDIA (30 agosto 23:00) es una banda de música rock que se formó en la ciudad de Granada (España) en la primera mitad de los años 80. Su carrera\, que se divide en dos etapas\, una primera desde 1983 hasta 1997 y otra desde 2003 hasta el día de hoy\, han conseguido vender más de un millón y medio de copias\, siendo considerada por la crítica especializada como una de las formaciones más importantes de la historia del rock en España. \nEn la actualidad no paran de girar presentando un nuevo disco muy especial que vio la luz en 2023 con motivo del 40 aniversario de la banda. \n  \nMARLENA (31 de agosto 23:00) es el dúo de moda indiscutible del pop español y una de las propuestas más potentes y con mayor proyección del panorama actual.  \nLo avalan sus exitosos temas como ‘Me Sabe Mal’\, ya doble disco de platino\, ‘bailamorena’\, ‘Red Flags’ ‘Formas de hablar’ o ‘amor de verano’. Tema con el que se presentaron candidatas a Benidorm Fest 2024 y que ya se posiciona como el hit del verano. 
URL:https://www.elveintiuno.com/concierto/abono_la_guardia_marlena_sabinanigo/
LOCATION:Polideportivo del Puente Sardas\, C/ Derechos Humanos\, 2\, Sabiñánigo\, 22600
CATEGORIES:Concierto
ATTACH;FMTTYPE=image/jpeg:https://www.elveintiuno.com/wp-content/uploads/2024/07/abonoguardiamarlena450.jpg
END:VEVENT
BEGIN:VEVENT
DTSTART;TZID=Europe/Madrid:20240831T230000
DTEND;TZID=Europe/Madrid:20240901T003000
DTSTAMP:20260422T212359
CREATED:20240717T123942Z
LAST-MODIFIED:20240829T233153Z
UID:14195-1725145200-1725150600@www.elveintiuno.com
SUMMARY:MARLENA
DESCRIPTION:MARLENA es el dúo de moda indiscutible del pop español y una de las propuestas más potentes y con mayor proyección del panorama actual.  \nLo avalan sus exitosos temas como ‘Me Sabe Mal’\, ya doble disco de platino\, ‘bailamorena’\, ‘Red Flags’ ‘Formas de hablar’ o ‘amor de verano’. Tema con el que se presentaron candidatas a Benidorm Fest 2024 y que ya se posiciona como el hit del verano.  \n Además de su gran evolución en directo; donde recorren importantes festivales como Arenal Sound\, Ribera Sound o Holika Fest\, y agotan principales salas como La Riviera en Madrid o la Sala Apolo en Barcelona.  \nNominadas a ‘Artista Revelación 2021’ en Los 40 Music Awards y a «Mejor Artista Revelación Pop» en Premios Odeon\, también fueron elegidas para ofrecer un showcase en la Latin Alternative Music Conference (LAMC) celebrada en Nueva York de la mano de Sounds From Spain.  \nEn streaming son imparables: se mantienen en el Top #200 de artistas más escuchados en España en Spotify\, suman más de 130 millones de streams\, acumulan más de 1.7 millones de oyentes mensuales y sus canciones entran directas en las playlists más importantes. Vevo las elige en su campaña VEVO Newcomers 2023 y participan en los programas ‘Amazon Rompe’ y ‘UP NEXT’ de Apple music en apoyo al talento emergente.  \nArtistas como Nil Moliner\, La Pegatina\, o Andrés Suárez han colaborado con ellas.  \n2024 arranca con una gran gira por importantes salas y festivales\, nuevos lanzamientos musicales. 
URL:https://www.elveintiuno.com/concierto/concierto_de_marlena_en_sabinanigo/
LOCATION:Polideportivo del Puente Sardas\, C/ Derechos Humanos\, 2\, Sabiñánigo\, 22600
CATEGORIES:Concierto
ATTACH;FMTTYPE=image/jpeg:https://www.elveintiuno.com/wp-content/uploads/2024/07/Marlena450.jpg
END:VEVENT
END:VCALENDAR