BEGIN:VCALENDAR
VERSION:2.0
PRODID:-//El Veintiuno - ECPv6.15.17//NONSGML v1.0//EN
CALSCALE:GREGORIAN
METHOD:PUBLISH
X-ORIGINAL-URL:https://www.elveintiuno.com
X-WR-CALDESC:Eventos para El Veintiuno
REFRESH-INTERVAL;VALUE=DURATION:PT1H
X-Robots-Tag:noindex
X-PUBLISHED-TTL:PT1H
BEGIN:VTIMEZONE
TZID:Europe/Madrid
BEGIN:DAYLIGHT
TZOFFSETFROM:+0100
TZOFFSETTO:+0200
TZNAME:CEST
DTSTART:20230326T010000
END:DAYLIGHT
BEGIN:STANDARD
TZOFFSETFROM:+0200
TZOFFSETTO:+0100
TZNAME:CET
DTSTART:20231029T010000
END:STANDARD
BEGIN:DAYLIGHT
TZOFFSETFROM:+0100
TZOFFSETTO:+0200
TZNAME:CEST
DTSTART:20240331T010000
END:DAYLIGHT
BEGIN:STANDARD
TZOFFSETFROM:+0200
TZOFFSETTO:+0100
TZNAME:CET
DTSTART:20241027T010000
END:STANDARD
BEGIN:DAYLIGHT
TZOFFSETFROM:+0100
TZOFFSETTO:+0200
TZNAME:CEST
DTSTART:20250330T010000
END:DAYLIGHT
BEGIN:STANDARD
TZOFFSETFROM:+0200
TZOFFSETTO:+0100
TZNAME:CET
DTSTART:20251026T010000
END:STANDARD
END:VTIMEZONE
BEGIN:VEVENT
DTSTART;TZID=Europe/Madrid:20240913T190000
DTEND;TZID=Europe/Madrid:20240913T203000
DTSTAMP:20260422T212528
CREATED:20240702T032148Z
LAST-MODIFIED:20240827T021244Z
UID:13852-1726254000-1726259400@www.elveintiuno.com
SUMMARY:XOEL LÓPEZ
DESCRIPTION:Xoel López es sin duda uno de los artistas musicales más solventes y representativos de la escena independiente iberoamericana. \n  \nTras más de 20 años de trayectoria musical\, la música de Xoel López se define por lo genuino de sus paisajes\, cada disco un ejercicio de libertad creativa y a la vez un capítulo casi biográfico. Siguiendo su discografía podemos reconstruir su periplo: viajes\, descubrimientos\, encuentros\, nostalgias e influencias musicales. Desde el joven que cantaba en inglés en la coruñesa Elephant Band\, pasando por la ya mítica y exitosa Deluxe hasta ser reconocido como Mejor Artista Nacional en los Premios de la Música Independiente de 2013 cantando en su nombre propio por vez primera con Atlántico (Esmerarte\, 2012)\, fruto de varios años recorriendo Latinoamérica\, de los que también se desprende su proyecto La Caravana Americana\, en el que cuenta con la colaboración de músicos de Argentina\, Brasil\, Uruguay\, Chile\, Colombia\, Venezuela\, República Dominicana\, Santo Domingo\, Cuba\, Nicaragua\, México o Estados Unidos. \nCaldo Espírito\, su nuevo álbum: \nCaldo Espírito\, álbum número 16 en su carrera\, es un viaje evocador y conmovedor que anima a explorar las experiencias que abarca la vida contemporánea. Es una obra compleja e intimista que demuestra su madurez compositiva. Un trabajo íntimo\, crudo y visceral. La voz del artista coruñés se erige como el elemento principal para transmitir emociones profundas\, mientras que las letras exploran reflexiones íntimas enlazadas con lecturas sobre la sociedad actual. Caldo Espírito nos lleva desde canciones de cantautor puro hasta paisajes sonoros de rock y raíces\, demostrando que su música no puede ser encajonada\, y es Premio AGEDI al Mejor Álbum de Pop de la XVI edición de los Premios MIN.  \nCOMPRAR ENTRADAS
URL:https://www.elveintiuno.com/concierto/concierto_de_xoel_lopez_en_festival_sonna/
LOCATION:Festival Sonna\, Diseminado Cartuja Monegros\, 32\, Sariñena\, 22213
CATEGORIES:Concierto,Festival
ATTACH;FMTTYPE=image/jpeg:https://www.elveintiuno.com/wp-content/uploads/2024/07/Xoel-Lopez-2023Por_-Sergio-Albert800.jpg
END:VEVENT
BEGIN:VEVENT
DTSTART;TZID=Europe/Madrid:20240913T233000
DTEND;TZID=Europe/Madrid:20240914T013000
DTSTAMP:20260422T212528
CREATED:20240806T223801Z
LAST-MODIFIED:20240806T223802Z
UID:14985-1726270200-1726277400@www.elveintiuno.com
SUMMARY:BURNING
DESCRIPTION:Se tiene o no se tiene. Y a Johnny le sobra: hay cosas que no se pueden aprender\, ni fingir. Dedicar una vida entera al rock and roll\, a escribirlo\, interpretarlo\, sumergirse en él sin salvavidas y sobrevivir para contarlo y cantarlo. Johnny Cifuentes\, Johnny Cocodrilo\, Johnny a secas o Johnny Burning\, llámenle como prefieran\, es un forajido curtido en mil batallas\, en infinitas noches de rock y desenfreno\, alguien que mantiene\, no obstante\, la energía y la pasión necesarias para embarcarse en una nueva aventura. Titulada Hagámoslo. Repleta de excelentes canciones\, capítulos independientes que encajan entre sí con precisión milimétrica. La primera aventura que emprende en solitario\, aunque muy bien acompañado por un grupo de viejos amigos\, de tipos como él\, dispuestos a proteger con uñas y dientes las sagradas escrituras del viejo y buen rock and roll. \nTras más de cuatro décadas defendiendo el legado Burning\, nombre paradigmático de la historia de la música de este país\, formación ya legendaria que se pateó centenares y centenares de escenarios para brindar\, siempre\, veladas inolvidables\, Johnny decidió pasar página sin olvidar sus orígenes. Era el momento adecuado\, y había encontrado a un nuevo compañero de aventuras\, un Nico Álvarez que\, además de aportar increíbles guitarras que se fusionan  a la perfección con los sonidos engendrados por el teclado y las cuerdas vocales de Johnny\, co–produce junto a él el álbum.
URL:https://www.elveintiuno.com/concierto/concierto_de_burning_en_binefar/
LOCATION:Recinto Interpeñas Binéfar\, C. Lérida\, 70\, Binéfar\, 22500
CATEGORIES:Concierto
ATTACH;FMTTYPE=image/jpeg:https://www.elveintiuno.com/wp-content/uploads/2024/08/burning800.jpg
END:VEVENT
END:VCALENDAR