BEGIN:VCALENDAR
VERSION:2.0
PRODID:-//El Veintiuno - ECPv6.15.17//NONSGML v1.0//EN
CALSCALE:GREGORIAN
METHOD:PUBLISH
X-WR-CALNAME:El Veintiuno
X-ORIGINAL-URL:https://www.elveintiuno.com
X-WR-CALDESC:Eventos para El Veintiuno
REFRESH-INTERVAL;VALUE=DURATION:PT1H
X-Robots-Tag:noindex
X-PUBLISHED-TTL:PT1H
BEGIN:VTIMEZONE
TZID:Europe/Madrid
BEGIN:DAYLIGHT
TZOFFSETFROM:+0100
TZOFFSETTO:+0200
TZNAME:CEST
DTSTART:20230326T010000
END:DAYLIGHT
BEGIN:STANDARD
TZOFFSETFROM:+0200
TZOFFSETTO:+0100
TZNAME:CET
DTSTART:20231029T010000
END:STANDARD
BEGIN:DAYLIGHT
TZOFFSETFROM:+0100
TZOFFSETTO:+0200
TZNAME:CEST
DTSTART:20240331T010000
END:DAYLIGHT
BEGIN:STANDARD
TZOFFSETFROM:+0200
TZOFFSETTO:+0100
TZNAME:CET
DTSTART:20241027T010000
END:STANDARD
BEGIN:DAYLIGHT
TZOFFSETFROM:+0100
TZOFFSETTO:+0200
TZNAME:CEST
DTSTART:20250330T010000
END:DAYLIGHT
BEGIN:STANDARD
TZOFFSETFROM:+0200
TZOFFSETTO:+0100
TZNAME:CET
DTSTART:20251026T010000
END:STANDARD
END:VTIMEZONE
BEGIN:VEVENT
DTSTART;TZID=Europe/Madrid:20241005T230000
DTEND;TZID=Europe/Madrid:20241006T010000
DTSTAMP:20260422T194722
CREATED:20240711T031227Z
LAST-MODIFIED:20240925T112011Z
UID:13992-1728169200-1728176400@www.elveintiuno.com
SUMMARY:LEVITANTS + BEHAVES!
DESCRIPTION:LEVITANTS: \nFuturo inmediato. \nFueron grupo revelación en 2019 con «Enola» (Subterfuge Records). Por aquel entonces cantaban en inglés y los comparaban con bandas como Interpol\, Editors\, The Horrors e incluso gigantes como The Cure o Joy Division. \nRecién estrenado 2023 publican su último single «Adelante» confirmando  su asalto al castellano.  A la vez. anuncian las primeras fechas de una extensa gira que no para de sumar fechas\, y un disco nuevo en el horizonte que les posiciona en la vanguardia del rock alternativo español ahora en castellano. \nEl futuro es inmediato. El futuro es de levitants. \nBEHAVES!: \nTras la disolución en 2021 del grupo oscense Lucca\, su líder\, Chema García\, y su guitarrista\, Miguel Lisa\, siguieron trabajando en nueva música con la única pretensión de disfrutar de su pasión. Pero la cabra tira al monte\, así que\, casi sin darse cuenta\, acabaron reclutando a otros conocidos músicos locales como el cantante Carlos Naval\, el bajista Javier Gracia y el baterista Daniel Mingus Gallart\, con los que grabaron cuatro temas en mayo del año pasado sin ni siquiera haber escogido un nombre artístico. \nEl rock alternativo es el género en el que nadan sus canciones\, porque les viene “al dedo”. “Siempre nos han gustado las influencias británicas\, que son un territorio común en el que nos movemos los cinco” \nSu sonido recuerda a grupos de britpop\, muchos de ellos populares en los 90 y principios del siglo XXI\, aunque también se inspiran un poco en bandas actuales
URL:https://www.elveintiuno.com/concierto/concierto_de_levitants_en_huesca/
LOCATION:Sala El Veintiuno\, C/ Padre Huesca\, 52\, Huesca\, 22005\, España
CATEGORIES:Concierto
ATTACH;FMTTYPE=image/jpeg:https://www.elveintiuno.com/wp-content/uploads/2024/09/Levitants4502.jpg
END:VEVENT
END:VCALENDAR