BEGIN:VCALENDAR
VERSION:2.0
PRODID:-//El Veintiuno - ECPv6.15.17//NONSGML v1.0//EN
CALSCALE:GREGORIAN
METHOD:PUBLISH
X-ORIGINAL-URL:https://www.elveintiuno.com
X-WR-CALDESC:Eventos para El Veintiuno
REFRESH-INTERVAL;VALUE=DURATION:PT1H
X-Robots-Tag:noindex
X-PUBLISHED-TTL:PT1H
BEGIN:VTIMEZONE
TZID:Europe/Madrid
BEGIN:DAYLIGHT
TZOFFSETFROM:+0100
TZOFFSETTO:+0200
TZNAME:CEST
DTSTART:20230326T010000
END:DAYLIGHT
BEGIN:STANDARD
TZOFFSETFROM:+0200
TZOFFSETTO:+0100
TZNAME:CET
DTSTART:20231029T010000
END:STANDARD
BEGIN:DAYLIGHT
TZOFFSETFROM:+0100
TZOFFSETTO:+0200
TZNAME:CEST
DTSTART:20240331T010000
END:DAYLIGHT
BEGIN:STANDARD
TZOFFSETFROM:+0200
TZOFFSETTO:+0100
TZNAME:CET
DTSTART:20241027T010000
END:STANDARD
BEGIN:DAYLIGHT
TZOFFSETFROM:+0100
TZOFFSETTO:+0200
TZNAME:CEST
DTSTART:20250330T010000
END:DAYLIGHT
BEGIN:STANDARD
TZOFFSETFROM:+0200
TZOFFSETTO:+0100
TZNAME:CET
DTSTART:20251026T010000
END:STANDARD
END:VTIMEZONE
BEGIN:VEVENT
DTSTART;TZID=Europe/Madrid:20241108T230000
DTEND;TZID=Europe/Madrid:20241109T003000
DTSTAMP:20260422T175343
CREATED:20240909T003429Z
LAST-MODIFIED:20241008T005346Z
UID:17163-1731106800-1731112200@www.elveintiuno.com
SUMMARY:AIKO EL GRUPO
DESCRIPTION:El sueño Rrriot punk hecho realidad. Teresa Iñesta (guitarra y voces)\, Lara Miera (guitarra y voces)\, y Bárbara López (teclado y voces)\, deciden formar una banda tras una noche loca en Madrid\, de esas que deja atrás los corazones rotos y ensalza la amistad por encima de cotas himaláyicas. Si escuchas “A mí ya me iba mal de antes” (la primera) o “Niños furbito y niñas lo que sea” ya escuchas a COMET GAIN\, a LE TIGRE\, a VERONICA FALLS o a JOANNA GRUESOME\, y piensas que es la historia perfecta\, que de ahí sólo pueden salir cosas buenas. Unos primeros días de ensayos\, algún concierto casual y pronto se une Jaime Acosta (batería y voces) para acabar de darle la contundencia necesaria al grupo. A partir de ahí\, la carrera es meteórica. \nSu primer Mini-LP\, “Va totalmente en serio…” (500 copias en una edición de vinilo naranja limitada y numerada\, es ya pieza de coleccionista) se agota por completo casi de manera inmediata. Sus directos\, contundentes y espídicos\, hacen correr ríos de tinta. El País dice de ellas que son “Aullidos punk (…) Estas chavalas no se caracterizan precisamente por las medias tintas”. Entrevistas en decenas de medios nacionales\, y alguno internacional. \nSus últimas canciones\, confirman a un grupo con una actitud imparable\, incontestable\, irreverente\, con un humor ácido y directo\, con el pedal de distorsión al 11. Una apisonadora de juventud.
URL:https://www.elveintiuno.com/concierto/concierto_de_aiko_el_grupo_en_huesca/
LOCATION:Sala El Veintiuno\, C/ Padre Huesca\, 52\, Huesca\, 22005\, España
CATEGORIES:Concierto
ATTACH;FMTTYPE=image/jpeg:https://www.elveintiuno.com/wp-content/uploads/2024/09/aikoelgrupo450.jpg
END:VEVENT
END:VCALENDAR