BEGIN:VCALENDAR
VERSION:2.0
PRODID:-//El Veintiuno - ECPv6.15.17//NONSGML v1.0//EN
CALSCALE:GREGORIAN
METHOD:PUBLISH
X-WR-CALNAME:El Veintiuno
X-ORIGINAL-URL:https://www.elveintiuno.com
X-WR-CALDESC:Eventos para El Veintiuno
REFRESH-INTERVAL;VALUE=DURATION:PT1H
X-Robots-Tag:noindex
X-PUBLISHED-TTL:PT1H
BEGIN:VTIMEZONE
TZID:Europe/Madrid
BEGIN:DAYLIGHT
TZOFFSETFROM:+0100
TZOFFSETTO:+0200
TZNAME:CEST
DTSTART:20230326T010000
END:DAYLIGHT
BEGIN:STANDARD
TZOFFSETFROM:+0200
TZOFFSETTO:+0100
TZNAME:CET
DTSTART:20231029T010000
END:STANDARD
BEGIN:DAYLIGHT
TZOFFSETFROM:+0100
TZOFFSETTO:+0200
TZNAME:CEST
DTSTART:20240331T010000
END:DAYLIGHT
BEGIN:STANDARD
TZOFFSETFROM:+0200
TZOFFSETTO:+0100
TZNAME:CET
DTSTART:20241027T010000
END:STANDARD
BEGIN:DAYLIGHT
TZOFFSETFROM:+0100
TZOFFSETTO:+0200
TZNAME:CEST
DTSTART:20250330T010000
END:DAYLIGHT
BEGIN:STANDARD
TZOFFSETFROM:+0200
TZOFFSETTO:+0100
TZNAME:CET
DTSTART:20251026T010000
END:STANDARD
END:VTIMEZONE
BEGIN:VEVENT
DTSTART;TZID=Europe/Madrid:20241214T230000
DTEND;TZID=Europe/Madrid:20241215T003000
DTSTAMP:20260422T161233
CREATED:20241112T011930Z
LAST-MODIFIED:20241117T194745Z
UID:17956-1734217200-1734222600@www.elveintiuno.com
SUMMARY:VEINTIUNO
DESCRIPTION:Veintiuno son Diego\, Pepe\, Yago y Rafa. Llevan años labrándose un hueco importante en el panorama musical nacional y han obtenido más de 70 millones de streams en plataformas hasta la fecha. \nEn octubre de 2023 editaron su cuarto álbum de estudio\, El arte de perder\, que se posicionó entre los 10 álbumes más vendidos del país. Obtuvieron el Premio Odeón a ‘Artista Revelación’ en 2022\, y desde entonces\, su ascenso es meteórico. Comenzaron la gira de presentación de su último álbum agotando las entradas en La Riviera de Madrid en el mes de enero\, y además de llenar una segunda Riviera\, le siguieron los sold outs de Bilbao\, Pamplona\, Zaragoza\, Valencia\, Sevilla y Barcelona\, agotando entradas así todas las salas de la gira. \nTras lograr recientemente la certificación de ‘Disco de Oro’ con su single\, La Vida Moderna\, Veintiuno encara el verano formando parte de más de 30 carteles de festivales\, entre los que se encuentran algunos de los más importantes del panorama nacional FIB\, LOW\, Interestelar\, Warm Up o Sonorama entre otros. Veintiuno sigue de gira y ya son imparables.
URL:https://www.elveintiuno.com/concierto/concierto_de_veintiuno_en_huesca_2024/
LOCATION:Sala El Veintiuno\, C/ Padre Huesca\, 52\, Huesca\, 22005\, España
CATEGORIES:Concierto
ATTACH;FMTTYPE=image/jpeg:https://www.elveintiuno.com/wp-content/uploads/2024/11/Veintiuno450-1.jpg
END:VEVENT
END:VCALENDAR