BEGIN:VCALENDAR
VERSION:2.0
PRODID:-//El Veintiuno - ECPv6.15.17//NONSGML v1.0//EN
CALSCALE:GREGORIAN
METHOD:PUBLISH
X-WR-CALNAME:El Veintiuno
X-ORIGINAL-URL:https://www.elveintiuno.com
X-WR-CALDESC:Eventos para El Veintiuno
REFRESH-INTERVAL;VALUE=DURATION:PT1H
X-Robots-Tag:noindex
X-PUBLISHED-TTL:PT1H
BEGIN:VTIMEZONE
TZID:Europe/Madrid
BEGIN:DAYLIGHT
TZOFFSETFROM:+0100
TZOFFSETTO:+0200
TZNAME:CEST
DTSTART:20240331T010000
END:DAYLIGHT
BEGIN:STANDARD
TZOFFSETFROM:+0200
TZOFFSETTO:+0100
TZNAME:CET
DTSTART:20241027T010000
END:STANDARD
BEGIN:DAYLIGHT
TZOFFSETFROM:+0100
TZOFFSETTO:+0200
TZNAME:CEST
DTSTART:20250330T010000
END:DAYLIGHT
BEGIN:STANDARD
TZOFFSETFROM:+0200
TZOFFSETTO:+0100
TZNAME:CET
DTSTART:20251026T010000
END:STANDARD
BEGIN:DAYLIGHT
TZOFFSETFROM:+0100
TZOFFSETTO:+0200
TZNAME:CEST
DTSTART:20260329T010000
END:DAYLIGHT
BEGIN:STANDARD
TZOFFSETFROM:+0200
TZOFFSETTO:+0100
TZNAME:CET
DTSTART:20261025T010000
END:STANDARD
END:VTIMEZONE
BEGIN:VEVENT
DTSTART;TZID=Europe/Madrid:20250228T230000
DTEND;TZID=Europe/Madrid:20250301T003000
DTSTAMP:20260422T122439
CREATED:20241112T030252Z
LAST-MODIFIED:20241117T194932Z
UID:17981-1740783600-1740789000@www.elveintiuno.com
SUMMARY:KARAVANA
DESCRIPTION:A Gonzalo (voz y guitarra)\, Emilio (bajo) y Jaime (batería)\, les basta una escucha para atraparte. El pop rock genuino de temas como ‘Strokes’\, ‘Hoy’ \, ‘Pienso’ o ‘Qué Putada’ denota que hay detrás un sonido propio y que en poco más de dos minutos se convierten en una montaña rusa que va directa al grano. \nEl grupo acaba de publicar su segundo LP\, “Entre Amores y Errores” en el que retratan los anhelos\, los miedos\, las miserias y las glorias de toda una generación. La banda realiza un ejercicio mayúsculo de honestidad\, valentía y salvajismo en este nuevo trabajo que han autoeditado ellos mismos entregando diez canciones que llevan únicamente su sello. A nivel musical\, siguen latentes esas guitarras sucias\,\ncuidadas y enérgicas que les han hecho diferenciarse de otras propuestas de su generación. Suenan a rock y a pop desde aristas afiladas abriéndose a nuevas influencias del rock británico pasando por momentos mucho más oscuros\, distorsionados e incluso entregándose a lo electrónico cuando el tempo así lo requiere. \nEl predecesor fue “Muertos en la Disco”\, un primer LP publicado de la mano de Vanana Records\, considerado por muchos medios musicales como MondoSonoro o ABC Cultura\, como uno de los mejores discos del año 2021. Además\, ha sido portada de importantes playlists en plataformas como Spotify\, Amazon o Tidal\, entre otras. \nAntes de su primer largo publicaron el EP “No Pegamos Nada” (2020). Además\, Karavana lanzó en 2022 “Qué bien los dos”\, una canción que contiene toda la esencia del verano y con la que demuestran que desde el Pop también podemos ser una generación positiva\, disfrutona y optimista. El grupo cerró ese año sacudiendo los cimientos de la música urbana con su reinvención de “Tití me preguntó”\, el hit de Bad Bunny que Karavana ha pasado por el filtro de su sonido guitarrero y rockero con una contundencia aplastante. \nTrallazo a trallazo\, Karavana es una de las bandas imprescindibles a seguir. Definen su música como ‘guitarras sucias y letras cursis’. Tal vez las guitarras no sean tan sucias ni las letras tan cursis\, pero está clara la importancia de ambas en sus canciones. Su sonido transita por territorios influenciados por bandas como The Strokes\, The Vaccines o Wallows. \nSu directo es un auténtico chute de energía. El grupo ha hecho sold-out en cada una de sus citas en las salas más emblemáticas de la escena madrileña: La Riviera\, Ochoymedio\, Sala Cool\, Galileo Galilei\, y han formado y formarán parte de los festivales más destacados de España como Sansan Festival\, Sonorama\, FIB\, BIME Live\, BBK\, Granada Sound y LOW\, entre otros. Además\, en 2023 Karavana se estrenó en directo ante el público mexicano presentándose en Ciudad de México y en la FIMPro de Guadalajara. El público vive de primera mano en sus conciertos justo de lo que habla Karavana en sus letras\, ‘una auténtica fiesta’. \nMondoSonoro lo definió como «una juerga monumental y en consecuencia una resaca emocional tremenda.» Ya han anunciado las primeras citas de la presentación de su nuevo disco. Esto es solo el comienzo\, ya que Karavana va directo a tus venas y a tu cerebro.
URL:https://www.elveintiuno.com/concierto/concierto_de_karavana_en_huesca/
LOCATION:Sala El Veintiuno\, C/ Padre Huesca\, 52\, Huesca\, 22005\, España
CATEGORIES:Concierto
ATTACH;FMTTYPE=image/jpeg:https://www.elveintiuno.com/wp-content/uploads/2024/11/karavana450.jpg
END:VEVENT
END:VCALENDAR