BEGIN:VCALENDAR
VERSION:2.0
PRODID:-//El Veintiuno - ECPv6.15.17//NONSGML v1.0//EN
CALSCALE:GREGORIAN
METHOD:PUBLISH
X-WR-CALNAME:El Veintiuno
X-ORIGINAL-URL:https://www.elveintiuno.com
X-WR-CALDESC:Eventos para El Veintiuno
REFRESH-INTERVAL;VALUE=DURATION:PT1H
X-Robots-Tag:noindex
X-PUBLISHED-TTL:PT1H
BEGIN:VTIMEZONE
TZID:Europe/Madrid
BEGIN:DAYLIGHT
TZOFFSETFROM:+0100
TZOFFSETTO:+0200
TZNAME:CEST
DTSTART:20240331T010000
END:DAYLIGHT
BEGIN:STANDARD
TZOFFSETFROM:+0200
TZOFFSETTO:+0100
TZNAME:CET
DTSTART:20241027T010000
END:STANDARD
BEGIN:DAYLIGHT
TZOFFSETFROM:+0100
TZOFFSETTO:+0200
TZNAME:CEST
DTSTART:20250330T010000
END:DAYLIGHT
BEGIN:STANDARD
TZOFFSETFROM:+0200
TZOFFSETTO:+0100
TZNAME:CET
DTSTART:20251026T010000
END:STANDARD
BEGIN:DAYLIGHT
TZOFFSETFROM:+0100
TZOFFSETTO:+0200
TZNAME:CEST
DTSTART:20260329T010000
END:DAYLIGHT
BEGIN:STANDARD
TZOFFSETFROM:+0200
TZOFFSETTO:+0100
TZNAME:CET
DTSTART:20261025T010000
END:STANDARD
END:VTIMEZONE
BEGIN:VEVENT
DTSTART;TZID=Europe/Madrid:20250301T230000
DTEND;TZID=Europe/Madrid:20250302T003000
DTSTAMP:20260422T122453
CREATED:20241125T214728Z
LAST-MODIFIED:20241125T215355Z
UID:19571-1740870000-1740875400@www.elveintiuno.com
SUMMARY:LA CAJA DE PANDORA
DESCRIPTION:Con su inconfundible estilo y letras que marcaron a toda una generación\, La Caja de Pandora vuelve a los escenarios con más fuerza que nunca en una gira que promete ser inolvidable. Desde que irrumpieron en la escena musical en el 2001\, la banda se convirtió en un referente del pop rock español gracias a éxitos como «Acuérdate de mí»\, «No me preguntes» y «Una de cal y otra de arena»\, temas que aún hoy siguen resonando en el corazón de sus fans. \n2025 será un año clave para el grupo\, con el lanzamiento de su nuevo single en enero y la publicación de un esperado disco a lo largo del año. Esta nueva etapa promete revivir la magia de su música y conectar tanto con el público que los acompañó desde sus inicios como con nuevas generaciones. Además de sus clásicos atemporales\, La Caja de Pandora sorprenderá con canciones inéditas que mantienen intacta su esencia pero traen un aire renovado. \nNo te pierdas la oportunidad de disfrutar en directo de una banda que marcó un antes y un después en la música española. Prepárate para corear tus canciones favoritas\, descubrir su nueva música y ser parte de una experiencia única. ¡Hazte con tus entradas y revive los mejores momentos de La Caja de Pandora!
URL:https://www.elveintiuno.com/concierto/concierto_de_la_caja_de_pandora_en_huesca/
LOCATION:Sala El Veintiuno\, C/ Padre Huesca\, 52\, Huesca\, 22005\, España
CATEGORIES:Concierto
ATTACH;FMTTYPE=image/jpeg:https://www.elveintiuno.com/wp-content/uploads/2024/11/lacajadepandora450.jpg
END:VEVENT
END:VCALENDAR