BEGIN:VCALENDAR
VERSION:2.0
PRODID:-//El Veintiuno - ECPv6.15.17//NONSGML v1.0//EN
CALSCALE:GREGORIAN
METHOD:PUBLISH
X-WR-CALNAME:El Veintiuno
X-ORIGINAL-URL:https://www.elveintiuno.com
X-WR-CALDESC:Eventos para El Veintiuno
REFRESH-INTERVAL;VALUE=DURATION:PT1H
X-Robots-Tag:noindex
X-PUBLISHED-TTL:PT1H
BEGIN:VTIMEZONE
TZID:Europe/Madrid
BEGIN:DAYLIGHT
TZOFFSETFROM:+0100
TZOFFSETTO:+0200
TZNAME:CEST
DTSTART:20240331T010000
END:DAYLIGHT
BEGIN:STANDARD
TZOFFSETFROM:+0200
TZOFFSETTO:+0100
TZNAME:CET
DTSTART:20241027T010000
END:STANDARD
BEGIN:DAYLIGHT
TZOFFSETFROM:+0100
TZOFFSETTO:+0200
TZNAME:CEST
DTSTART:20250330T010000
END:DAYLIGHT
BEGIN:STANDARD
TZOFFSETFROM:+0200
TZOFFSETTO:+0100
TZNAME:CET
DTSTART:20251026T010000
END:STANDARD
BEGIN:DAYLIGHT
TZOFFSETFROM:+0100
TZOFFSETTO:+0200
TZNAME:CEST
DTSTART:20260329T010000
END:DAYLIGHT
BEGIN:STANDARD
TZOFFSETFROM:+0200
TZOFFSETTO:+0100
TZNAME:CET
DTSTART:20261025T010000
END:STANDARD
END:VTIMEZONE
BEGIN:VEVENT
DTSTART;TZID=Europe/Madrid:20250412T230000
DTEND;TZID=Europe/Madrid:20250413T003000
DTSTAMP:20260422T091208
CREATED:20241119T220924Z
LAST-MODIFIED:20250408T135148Z
UID:19242-1744498800-1744504200@www.elveintiuno.com
SUMMARY:YOLY SAA
DESCRIPTION:El mar de Ardora es un fenómeno que se da por las noches en algunas playas del mundo\, bajo unas condiciones muy concretas en las que las algas brillan en diferentes tonos de azul. \nSiempre me he sentido muy vinculada al mar. Galicia es una de las zonas principales\, donde se da este Mar de Ardora y justo en mi primera gira en México descubrí que allí también era una cosa común. El disco lo escribí en un momento emocionalmente muy complicado entre Galicia y México y en ese viaje que hicimos\, me bañé en el Mar de Ardora y justo fue donde acabé de escribir las últimas canciones de este disco. Una vez más mi conexión con el mar se acrecentó\, y creo que de alguna manera el final de aquel momento emocional complicado\, se cerró con aquella experiencia en tierras Mexicanas\, por eso tiene todo el sentido del mundo llamarle Mar de Ardora. \nTan especial como el Mar de Ardora son los conciertos de esta gallega que viene a tierras Aragonesas a presentar este nuevo álbum en el mítico Veintiuno de Huesca \n  \nCONCIERTO APLAZADO\nNUEVA FECHA POR CONFIRMAR
URL:https://www.elveintiuno.com/concierto/concierto_de_yoly_saa_en_huesca_2025/
LOCATION:Sala El Veintiuno\, C/ Padre Huesca\, 52\, Huesca\, 22005\, España
CATEGORIES:Concierto
ATTACH;FMTTYPE=image/jpeg:https://www.elveintiuno.com/wp-content/uploads/2024/11/yolysaa450.jpg
END:VEVENT
END:VCALENDAR