BEGIN:VCALENDAR
VERSION:2.0
PRODID:-//El Veintiuno - ECPv6.15.17//NONSGML v1.0//EN
CALSCALE:GREGORIAN
METHOD:PUBLISH
X-ORIGINAL-URL:https://www.elveintiuno.com
X-WR-CALDESC:Eventos para El Veintiuno
REFRESH-INTERVAL;VALUE=DURATION:PT1H
X-Robots-Tag:noindex
X-PUBLISHED-TTL:PT1H
BEGIN:VTIMEZONE
TZID:Europe/Madrid
BEGIN:DAYLIGHT
TZOFFSETFROM:+0100
TZOFFSETTO:+0200
TZNAME:CEST
DTSTART:20240331T010000
END:DAYLIGHT
BEGIN:STANDARD
TZOFFSETFROM:+0200
TZOFFSETTO:+0100
TZNAME:CET
DTSTART:20241027T010000
END:STANDARD
BEGIN:DAYLIGHT
TZOFFSETFROM:+0100
TZOFFSETTO:+0200
TZNAME:CEST
DTSTART:20250330T010000
END:DAYLIGHT
BEGIN:STANDARD
TZOFFSETFROM:+0200
TZOFFSETTO:+0100
TZNAME:CET
DTSTART:20251026T010000
END:STANDARD
BEGIN:DAYLIGHT
TZOFFSETFROM:+0100
TZOFFSETTO:+0200
TZNAME:CEST
DTSTART:20260329T010000
END:DAYLIGHT
BEGIN:STANDARD
TZOFFSETFROM:+0200
TZOFFSETTO:+0100
TZNAME:CET
DTSTART:20261025T010000
END:STANDARD
END:VTIMEZONE
BEGIN:VEVENT
DTSTART;TZID=Europe/Madrid:20250517T230000
DTEND;TZID=Europe/Madrid:20250518T003000
DTSTAMP:20260422T091502
CREATED:20241216T134748Z
LAST-MODIFIED:20241219T044321Z
UID:20171-1747522800-1747528200@www.elveintiuno.com
SUMMARY:CALEQUI Y LAS PANTERAS
DESCRIPTION:Calequi y Las Panteras son un trío formado por Javier Calequi(músico y director musical de Jorge Drexler)\, Lauri Revuelta y Luisa Corral. Apoyándose en las armonías vocales generan un cóctel explosivo de estilos\, influenciados por el funk\, el afropop o los ritmos latinos. Si sus composiciones atrapan a la primera escucha\, sus directos son una celebración adictiva donde conviven la música\, el baile y la emoción. \nEste proyecto nace en un pequeño local del centro de Madrid en el año 2020. Desde ahí\, inician su camino como Calequi y Las Panteras\, con la publicación en 2021 de su primer EP ‘El Pacífico Furioso’ y su LP ‘Gualicho’. Un año después\, el director Fran Torres les elige para componer la Banda Sonora de la película ‘La Jefa’. El 24 de noviembre de 2023\,publican‘MezclaRica’\, el disco que les consolida como una de las bandas revelación actuales.
URL:https://www.elveintiuno.com/concierto/concierto_de_calequi_y_las_panteras_en_huesca/
LOCATION:Sala El Veintiuno\, C/ Padre Huesca\, 52\, Huesca\, 22005\, España
CATEGORIES:Concierto
ATTACH;FMTTYPE=image/jpeg:https://www.elveintiuno.com/wp-content/uploads/2024/12/calequi450GPS.jpg
END:VEVENT
END:VCALENDAR