BEGIN:VCALENDAR
VERSION:2.0
PRODID:-//El Veintiuno - ECPv6.15.17//NONSGML v1.0//EN
CALSCALE:GREGORIAN
METHOD:PUBLISH
X-ORIGINAL-URL:https://www.elveintiuno.com
X-WR-CALDESC:Eventos para El Veintiuno
REFRESH-INTERVAL;VALUE=DURATION:PT1H
X-Robots-Tag:noindex
X-PUBLISHED-TTL:PT1H
BEGIN:VTIMEZONE
TZID:Europe/Madrid
BEGIN:DAYLIGHT
TZOFFSETFROM:+0100
TZOFFSETTO:+0200
TZNAME:CEST
DTSTART:20240331T010000
END:DAYLIGHT
BEGIN:STANDARD
TZOFFSETFROM:+0200
TZOFFSETTO:+0100
TZNAME:CET
DTSTART:20241027T010000
END:STANDARD
BEGIN:DAYLIGHT
TZOFFSETFROM:+0100
TZOFFSETTO:+0200
TZNAME:CEST
DTSTART:20250330T010000
END:DAYLIGHT
BEGIN:STANDARD
TZOFFSETFROM:+0200
TZOFFSETTO:+0100
TZNAME:CET
DTSTART:20251026T010000
END:STANDARD
BEGIN:DAYLIGHT
TZOFFSETFROM:+0100
TZOFFSETTO:+0200
TZNAME:CEST
DTSTART:20260329T010000
END:DAYLIGHT
BEGIN:STANDARD
TZOFFSETFROM:+0200
TZOFFSETTO:+0100
TZNAME:CET
DTSTART:20261025T010000
END:STANDARD
END:VTIMEZONE
BEGIN:VEVENT
DTSTART;TZID=Europe/Madrid:20251018T230000
DTEND;TZID=Europe/Madrid:20251019T003000
DTSTAMP:20260421T215256
CREATED:20250612T144618Z
LAST-MODIFIED:20250612T144620Z
UID:24711-1760828400-1760833800@www.elveintiuno.com
SUMMARY:SIENNA
DESCRIPTION:Sienna se ha convertido en uno de los proyectos más genuinos y auténticos de la escena pop alternativa. En 2017\, el artista valenciano deslumbró a crítica y público con su primer álbum «Trágico y fugaz»; un sólido debut en el que la lírica punzante y la crítica social se convirtieron en el motor indiscutible de su discurso. Desde entonces\, el artista ha desarrollado una forma muy personal de articular su música en la que las melodías singulares de sus composiciones casan a la perfección con una voz vibrante y llena de matices.  \nCon sus siguientes trabajos («Tiempos de Impacto» y «Melancolic»)\, se afianzó en el circuito independiente con fechas tan importantes como la apertura del concierto de Vetusta Morla en Alicante o su paso por festivales tan destacados como Sonorama Ribera\, Cruilla Fest\, Les Arts o Granada Live. Además\, su último EP «Melancolic» le sirvió para explorar nuevas texturas y conceptos sonoros regalándonos temas tan reconocibles en la carrera del artista como «Se me para el tiempo» o «Cómo has podido».  \nPero ha sido este año 2024 el que ha marcado una nueva era de Sienna con el lanzamiento de ‘TRANCE’. El cantante materializa en diez canciones ese estado mental en el que se sumerge cuando está sobre el escenario y rompe sus propias definiciones del «yo»\, entremezclándose las distintas personalidades que conviven entre sí y llevándolas al extremo. Un viaje experimental en el que suman Álex Moreno & Pablo Fergus (Amaral\, Kinder Malo) a la producción y Rubén Montes (Carlos Ares\, Juancho Marqués) a la mezcla y máster.  
URL:https://www.elveintiuno.com/concierto/concierto_de_sienna_en_huesca/
LOCATION:Sala El Veintiuno\, C/ Padre Huesca\, 52\, Huesca\, 22005\, España
CATEGORIES:Concierto
ATTACH;FMTTYPE=image/jpeg:https://www.elveintiuno.com/wp-content/uploads/2025/06/sienna450.jpg
END:VEVENT
END:VCALENDAR