BEGIN:VCALENDAR
VERSION:2.0
PRODID:-//El Veintiuno - ECPv6.15.17//NONSGML v1.0//EN
CALSCALE:GREGORIAN
METHOD:PUBLISH
X-ORIGINAL-URL:https://www.elveintiuno.com
X-WR-CALDESC:Eventos para El Veintiuno
REFRESH-INTERVAL;VALUE=DURATION:PT1H
X-Robots-Tag:noindex
X-PUBLISHED-TTL:PT1H
BEGIN:VTIMEZONE
TZID:Europe/Madrid
BEGIN:DAYLIGHT
TZOFFSETFROM:+0100
TZOFFSETTO:+0200
TZNAME:CEST
DTSTART:20240331T010000
END:DAYLIGHT
BEGIN:STANDARD
TZOFFSETFROM:+0200
TZOFFSETTO:+0100
TZNAME:CET
DTSTART:20241027T010000
END:STANDARD
BEGIN:DAYLIGHT
TZOFFSETFROM:+0100
TZOFFSETTO:+0200
TZNAME:CEST
DTSTART:20250330T010000
END:DAYLIGHT
BEGIN:STANDARD
TZOFFSETFROM:+0200
TZOFFSETTO:+0100
TZNAME:CET
DTSTART:20251026T010000
END:STANDARD
BEGIN:DAYLIGHT
TZOFFSETFROM:+0100
TZOFFSETTO:+0200
TZNAME:CEST
DTSTART:20260329T010000
END:DAYLIGHT
BEGIN:STANDARD
TZOFFSETFROM:+0200
TZOFFSETTO:+0100
TZNAME:CET
DTSTART:20261025T010000
END:STANDARD
END:VTIMEZONE
BEGIN:VEVENT
DTSTART;TZID=Europe/Madrid:20251024T230000
DTEND;TZID=Europe/Madrid:20251025T003000
DTSTAMP:20260421T215320
CREATED:20250702T230329Z
LAST-MODIFIED:20251023T152119Z
UID:25143-1761346800-1761352200@www.elveintiuno.com
SUMMARY:STRAWBERRY HARDCORE
DESCRIPTION:Strawbery Hardcore es un grupo pionero del hardcore melódico en España\, que\, tras veinticinco años de  trayectoria intermitente\, puntuales actuaciones y con solo dos discos publicados\, ha sabido mantenerse como banda de culto ampliamente respetada dentro de una corriente musical que cada vez despierta mayor interés entre el amplio abanico de tendencias actuales del punk. \n2025 está siendo el año de la esperada vuelta de esta mítica banda\, con el empuje de una formación renovada y muchas ganas de reivindicar un estilo que\, a día de hoy\, sigue siendo vanguardia. \nCon las voces de César Strawberry y Mara Gilbert\, Arce XpresidentX a la batería\, Alex Ménez a la guitarra y Sanuel Barranco al bajo (Def Con Dos y XpresidentX)\, Strawberry Hardcore acaba de lanzar su nuevo single Punk forever in the world como primer adelanto de lo que será su próximo y esperadísimo álbum.
URL:https://www.elveintiuno.com/concierto/concierto_de_strawberry_hardcore_en_huesca/
LOCATION:Sala El Veintiuno\, C/ Padre Huesca\, 52\, Huesca\, 22005\, España
CATEGORIES:Concierto
ATTACH;FMTTYPE=image/webp:https://www.elveintiuno.com/wp-content/uploads/2025/07/strawberryhardcore800.webp
END:VEVENT
END:VCALENDAR