BEGIN:VCALENDAR
VERSION:2.0
PRODID:-//El Veintiuno - ECPv6.15.17//NONSGML v1.0//EN
CALSCALE:GREGORIAN
METHOD:PUBLISH
X-WR-CALNAME:El Veintiuno
X-ORIGINAL-URL:https://www.elveintiuno.com
X-WR-CALDESC:Eventos para El Veintiuno
REFRESH-INTERVAL;VALUE=DURATION:PT1H
X-Robots-Tag:noindex
X-PUBLISHED-TTL:PT1H
BEGIN:VTIMEZONE
TZID:Europe/Madrid
BEGIN:DAYLIGHT
TZOFFSETFROM:+0100
TZOFFSETTO:+0200
TZNAME:CEST
DTSTART:20240331T010000
END:DAYLIGHT
BEGIN:STANDARD
TZOFFSETFROM:+0200
TZOFFSETTO:+0100
TZNAME:CET
DTSTART:20241027T010000
END:STANDARD
BEGIN:DAYLIGHT
TZOFFSETFROM:+0100
TZOFFSETTO:+0200
TZNAME:CEST
DTSTART:20250330T010000
END:DAYLIGHT
BEGIN:STANDARD
TZOFFSETFROM:+0200
TZOFFSETTO:+0100
TZNAME:CET
DTSTART:20251026T010000
END:STANDARD
BEGIN:DAYLIGHT
TZOFFSETFROM:+0100
TZOFFSETTO:+0200
TZNAME:CEST
DTSTART:20260329T010000
END:DAYLIGHT
BEGIN:STANDARD
TZOFFSETFROM:+0200
TZOFFSETTO:+0100
TZNAME:CET
DTSTART:20261025T010000
END:STANDARD
END:VTIMEZONE
BEGIN:VEVENT
DTSTART;TZID=Europe/Madrid:20251025T230000
DTEND;TZID=Europe/Madrid:20251026T003000
DTSTAMP:20260421T214954
CREATED:20250616T121543Z
LAST-MODIFIED:20251020T075702Z
UID:24776-1761433200-1761438600@www.elveintiuno.com
SUMMARY:THE MOORLAND + THE HERMETICS
DESCRIPTION:El proyecto musical The Moorland nace en el verano de 2022 en Binéfar (Huesca) de la mano de Jorge Gallart y Leandro Lasheras. Líderes de Distopia\, banda de electro-rock de la que habían extraído experimentos musicales muy interesantes durante los últimos 10 años. \nLo que realmente distingue a este grupo es su directo. Sus actuaciones en vivo son una experiencia única y emocionante que deja al público con ganas de más. Con una energía arrolladora y una presencia escénica imponente\, el grupo logra cautivar a la audiencia desde el primer acorde. Su sonido potente y elegante llena la sala y crea una atmósfera intensa y electrizante. \nPero no solo se trata de la música. La estética visual del grupo también es impresionante. Con una imagen cuidadosamente elaborada y una puesta en escena impactante\, cada actuación es un espectáculo visual que complementa a la perfección su música. Cada miembro del grupo tiene su propio estilo único\, pero juntos crean una imagen cohesiva y poderosa que refleja su identidad musical. \n  \nThe Hermetics es un grupo internacional formado en Zaragoza con miembros de País de Gales\, Alemania y España. Musicalmente\, la banda hunde sus raíces e inspiración en en el rhythm and blues británico y norteamericano de los 60 y 70\, pero su repertorio de canciones originales recoge influencias muy diversas a lo largo de la historia del rock\, críticos y fans han identificado trazos de artistas clásicos y tan variados como Dr. Feelgod\, The Clash\, R.E.M. o Black Sabbath. \n“Cocidos como el adobe bajo el desértico sol de Zaragoza\, The Hermetics reúnen a un combo internacional de músicos afilados en la aridez de los escenarios\, dispuestos a dinamitar los cimientos dormidos del rhythm and blues para disparar su metralla contra el siglo XXI. Semejante deflagración prohíbe las siestas: la música es audaz\, provocadora y frenéticamente viva; la inteligencia de las letras gravita sobre ritmos de contundencia animal\, cincelados con la dureza de un diamante. Y todo sostenido por una trama urgente de memorables melodías sonoras.”
URL:https://www.elveintiuno.com/concierto/concierto_de_the_moorland_y_the_hermetics_en_huesca/
LOCATION:Sala El Veintiuno\, C/ Padre Huesca\, 52\, Huesca\, 22005\, España
CATEGORIES:Concierto
ATTACH;FMTTYPE=image/jpeg:https://www.elveintiuno.com/wp-content/uploads/2025/06/themoorlandthehermetics450.jpg
END:VEVENT
END:VCALENDAR