BEGIN:VCALENDAR
VERSION:2.0
PRODID:-//El Veintiuno - ECPv6.15.17//NONSGML v1.0//EN
CALSCALE:GREGORIAN
METHOD:PUBLISH
X-ORIGINAL-URL:https://www.elveintiuno.com
X-WR-CALDESC:Eventos para El Veintiuno
REFRESH-INTERVAL;VALUE=DURATION:PT1H
X-Robots-Tag:noindex
X-PUBLISHED-TTL:PT1H
BEGIN:VTIMEZONE
TZID:Europe/Madrid
BEGIN:DAYLIGHT
TZOFFSETFROM:+0100
TZOFFSETTO:+0200
TZNAME:CEST
DTSTART:20240331T010000
END:DAYLIGHT
BEGIN:STANDARD
TZOFFSETFROM:+0200
TZOFFSETTO:+0100
TZNAME:CET
DTSTART:20241027T010000
END:STANDARD
BEGIN:DAYLIGHT
TZOFFSETFROM:+0100
TZOFFSETTO:+0200
TZNAME:CEST
DTSTART:20250330T010000
END:DAYLIGHT
BEGIN:STANDARD
TZOFFSETFROM:+0200
TZOFFSETTO:+0100
TZNAME:CET
DTSTART:20251026T010000
END:STANDARD
BEGIN:DAYLIGHT
TZOFFSETFROM:+0100
TZOFFSETTO:+0200
TZNAME:CEST
DTSTART:20260329T010000
END:DAYLIGHT
BEGIN:STANDARD
TZOFFSETFROM:+0200
TZOFFSETTO:+0100
TZNAME:CET
DTSTART:20261025T010000
END:STANDARD
END:VTIMEZONE
BEGIN:VEVENT
DTSTART;TZID=Europe/Madrid:20251114T230000
DTEND;TZID=Europe/Madrid:20251115T003000
DTSTAMP:20260421T201058
CREATED:20250715T075644Z
LAST-MODIFIED:20251115T012443Z
UID:25441-1763161200-1763166600@www.elveintiuno.com
SUMMARY:SARRIA
DESCRIPTION:Nacho Sarria se ha consolidado como una de las grandes promesas del rock español contemporáneo\, con una trayectoria marcada por la autenticidad\, la evolución constante y una profunda sensibilidad musical. Natural de Málaga\, dio sus primeros pasos en la escena internacional a los 20 años\, girando por el mundo como guitarrista rítmico y corista de Los Labios\, banda sevillana en la que sustituyó a Álvaro Suite (guitarrista de Bunbury). \nEn 2025\, Sarria traslada esa energía al directo con la gira El mundo es cruel (pero creo en él)\, con fechas confirmadas en salas y festivales de España\, México y Alemania. Desde escenarios emblemáticos como la Sala Sol (Madrid) hasta festivales de referencia como el Azkena Rock Festival\, sus conciertos se viven como una experiencia inmersiva y poderosa\, con una banda entregada y un Sarria que se deja la piel sobre las tablas. \nComo parte de esta nueva etapa\, el artista ha puesto en marcha la precompra de la reedición en vinilo de su álbum debut\, Sarria\, disponible desde el 9 de mayo en tiendas físicas y digitales. Cuatro años después de su lanzamiento original\, esta edición limitada supone una oportunidad para revivir —o descubrir— su sonido más esencial\, en formato analógico y con todo el cuidado que merece.
URL:https://www.elveintiuno.com/concierto/concierto_de_sarria_en_huesca/
LOCATION:Sala El Veintiuno\, C/ Padre Huesca\, 52\, Huesca\, 22005\, España
CATEGORIES:Concierto
ATTACH;FMTTYPE=image/webp:https://www.elveintiuno.com/wp-content/uploads/2025/10/sarria800.webp
END:VEVENT
END:VCALENDAR