BEGIN:VCALENDAR
VERSION:2.0
PRODID:-//El Veintiuno - ECPv6.15.17//NONSGML v1.0//EN
CALSCALE:GREGORIAN
METHOD:PUBLISH
X-WR-CALNAME:El Veintiuno
X-ORIGINAL-URL:https://www.elveintiuno.com
X-WR-CALDESC:Eventos para El Veintiuno
REFRESH-INTERVAL;VALUE=DURATION:PT1H
X-Robots-Tag:noindex
X-PUBLISHED-TTL:PT1H
BEGIN:VTIMEZONE
TZID:Europe/Madrid
BEGIN:DAYLIGHT
TZOFFSETFROM:+0100
TZOFFSETTO:+0200
TZNAME:CEST
DTSTART:20240331T010000
END:DAYLIGHT
BEGIN:STANDARD
TZOFFSETFROM:+0200
TZOFFSETTO:+0100
TZNAME:CET
DTSTART:20241027T010000
END:STANDARD
BEGIN:DAYLIGHT
TZOFFSETFROM:+0100
TZOFFSETTO:+0200
TZNAME:CEST
DTSTART:20250330T010000
END:DAYLIGHT
BEGIN:STANDARD
TZOFFSETFROM:+0200
TZOFFSETTO:+0100
TZNAME:CET
DTSTART:20251026T010000
END:STANDARD
BEGIN:DAYLIGHT
TZOFFSETFROM:+0100
TZOFFSETTO:+0200
TZNAME:CEST
DTSTART:20260329T010000
END:DAYLIGHT
BEGIN:STANDARD
TZOFFSETFROM:+0200
TZOFFSETTO:+0100
TZNAME:CET
DTSTART:20261025T010000
END:STANDARD
END:VTIMEZONE
BEGIN:VEVENT
DTSTART;TZID=Europe/Madrid:20251121T230000
DTEND;TZID=Europe/Madrid:20251122T003000
DTSTAMP:20260421T200127
CREATED:20250611T132053Z
LAST-MODIFIED:20251023T163600Z
UID:24689-1763766000-1763771400@www.elveintiuno.com
SUMMARY:GILIPOJAZZ
DESCRIPTION:Gilipojazz es un power trío madrileño formado en 2020 por Ángel Cáceres (bajo y voces)\, Iker García (guitarra y voces) y Pablo Levin (batería y voces). Su música se caracteriza por una fusión ecléctica de géneros\, todo ello aderezado con un sentido del humor irreverente que impregna tanto sus composiciones como sus actuaciones en directo. \nCon un estilo tan virtuoso como irreverente\, Gilipojazz combina jazz\, rock\, funk\, groove\, metal y humor absurdo\, en un formato instrumental que se mezcla con guiños teatrales\, medleys de Dragon Ball y una conexión auténtica con el público. Lejos de lo convencional\, la banda ha conseguido consolidar un lenguaje propio y un espectáculo que nunca deja indiferente.
URL:https://www.elveintiuno.com/concierto/concierto_de_gilipojazz_en_huesca/
LOCATION:Sala El Veintiuno\, C/ Padre Huesca\, 52\, Huesca\, 22005\, España
CATEGORIES:Concierto
ATTACH;FMTTYPE=image/jpeg:https://www.elveintiuno.com/wp-content/uploads/2025/06/gilipojazz450.jpg
END:VEVENT
END:VCALENDAR