BEGIN:VCALENDAR
VERSION:2.0
PRODID:-//El Veintiuno - ECPv6.15.17//NONSGML v1.0//EN
CALSCALE:GREGORIAN
METHOD:PUBLISH
X-WR-CALNAME:El Veintiuno
X-ORIGINAL-URL:https://www.elveintiuno.com
X-WR-CALDESC:Eventos para El Veintiuno
REFRESH-INTERVAL;VALUE=DURATION:PT1H
X-Robots-Tag:noindex
X-PUBLISHED-TTL:PT1H
BEGIN:VTIMEZONE
TZID:Europe/Madrid
BEGIN:DAYLIGHT
TZOFFSETFROM:+0100
TZOFFSETTO:+0200
TZNAME:CEST
DTSTART:20240331T010000
END:DAYLIGHT
BEGIN:STANDARD
TZOFFSETFROM:+0200
TZOFFSETTO:+0100
TZNAME:CET
DTSTART:20241027T010000
END:STANDARD
BEGIN:DAYLIGHT
TZOFFSETFROM:+0100
TZOFFSETTO:+0200
TZNAME:CEST
DTSTART:20250330T010000
END:DAYLIGHT
BEGIN:STANDARD
TZOFFSETFROM:+0200
TZOFFSETTO:+0100
TZNAME:CET
DTSTART:20251026T010000
END:STANDARD
BEGIN:DAYLIGHT
TZOFFSETFROM:+0100
TZOFFSETTO:+0200
TZNAME:CEST
DTSTART:20260329T010000
END:DAYLIGHT
BEGIN:STANDARD
TZOFFSETFROM:+0200
TZOFFSETTO:+0100
TZNAME:CET
DTSTART:20261025T010000
END:STANDARD
END:VTIMEZONE
BEGIN:VEVENT
DTSTART;TZID=Europe/Madrid:20251129T230000
DTEND;TZID=Europe/Madrid:20251130T003000
DTSTAMP:20260421T200723
CREATED:20251021T100043Z
LAST-MODIFIED:20251130T010245Z
UID:30153-1764457200-1764462600@www.elveintiuno.com
SUMMARY:EFECTO PASILLO
DESCRIPTION:Efecto Pasillo\, formado por Iván Torres\, Javi Moreno\, Arturo Sosa y Nau Barreto\, es una de las bandas más influyentes del pop en español. \nCon su energía contagiosa y su fusión única de pop\, rock y ritmos latinos\, han acumulado más de 450 millones de reproducciones\, 400 millones de visualizaciones en YouTube\, varios discos de platino y oro y colaboraciones con artistas como Mike Bahía\, Dani Fernández o La Pegatina. \nDesde el éxito de “Pan y Mantequilla” hasta sus últimos lanzamientos bajo su propio sello Los Reyes del Mambo Music\, Efecto Pasillo continúa llenando escenarios en España y Latinoamérica con su música optimista\, auténtica y de gran calidad.
URL:https://www.elveintiuno.com/concierto/concierto_de_efecto_pasillo_en_huesca/
LOCATION:Sala El Veintiuno\, C/ Padre Huesca\, 52\, Huesca\, 22005\, España
CATEGORIES:Concierto
ATTACH;FMTTYPE=image/webp:https://www.elveintiuno.com/wp-content/uploads/2025/10/efectopasillo800.webp
END:VEVENT
END:VCALENDAR