BEGIN:VCALENDAR
VERSION:2.0
PRODID:-//El Veintiuno - ECPv6.15.17//NONSGML v1.0//EN
CALSCALE:GREGORIAN
METHOD:PUBLISH
X-WR-CALNAME:El Veintiuno
X-ORIGINAL-URL:https://www.elveintiuno.com
X-WR-CALDESC:Eventos para El Veintiuno
REFRESH-INTERVAL;VALUE=DURATION:PT1H
X-Robots-Tag:noindex
X-PUBLISHED-TTL:PT1H
BEGIN:VTIMEZONE
TZID:Europe/Madrid
BEGIN:DAYLIGHT
TZOFFSETFROM:+0100
TZOFFSETTO:+0200
TZNAME:CEST
DTSTART:20240331T010000
END:DAYLIGHT
BEGIN:STANDARD
TZOFFSETFROM:+0200
TZOFFSETTO:+0100
TZNAME:CET
DTSTART:20241027T010000
END:STANDARD
BEGIN:DAYLIGHT
TZOFFSETFROM:+0100
TZOFFSETTO:+0200
TZNAME:CEST
DTSTART:20250330T010000
END:DAYLIGHT
BEGIN:STANDARD
TZOFFSETFROM:+0200
TZOFFSETTO:+0100
TZNAME:CET
DTSTART:20251026T010000
END:STANDARD
BEGIN:DAYLIGHT
TZOFFSETFROM:+0100
TZOFFSETTO:+0200
TZNAME:CEST
DTSTART:20260329T010000
END:DAYLIGHT
BEGIN:STANDARD
TZOFFSETFROM:+0200
TZOFFSETTO:+0100
TZNAME:CET
DTSTART:20261025T010000
END:STANDARD
END:VTIMEZONE
BEGIN:VEVENT
DTSTART;TZID=Europe/Madrid:20251205T230000
DTEND;TZID=Europe/Madrid:20251206T003000
DTSTAMP:20260421T183059
CREATED:20251021T100008Z
LAST-MODIFIED:20251124T185130Z
UID:30157-1764975600-1764981000@www.elveintiuno.com
SUMMARY:PANCHO VARONA
DESCRIPTION:PANCHO VARONA\, llega a HUESCA\, con su gira PUNTO Y SEGUIDO 2025 \nHará un repaso a toda su extensa carrera artística\, ligada principalmente a Joaquín Sabina\, no en vano estuvo con el de Úbeda 40 años siendo la mano derecha del cantante Jienense.  Siendo el compositor del la inmensa mayoría de sus canciones\, como sastre  a medida vistiendo sus letras… Además es el productor también de la mayoría de sus discos. Y en el escenario ya sea como guitarrista o bajista\, el perfecto director de la banda  que acompañó a Joaquín. Más de 3000 conciertos juntos \, ahí es nada!!! \nY por si fuera poco también actuó\, produjo y compuso para otros artistas como Serrat\, Luz Casal\, Pasión Vega\, Ana Belén\, Miguel Ríos\, Quique González\, Christina Rosenvinge\, Ana Torroja\, Hombres G\, Amaral etc… etc… \nReferente musical absoluto dentro del panorama nacional e Iberoamericano. Genio humilde\, con talento desbordante\, Pancho es sinónimo de MÚSICA en mayúsculas. \nTe vienes a cantar canciones como princesa\, y sin embargo\, y no me importa nada\, peces de ciudad… etc etc?
URL:https://www.elveintiuno.com/concierto/concierto_de_pancho_varona_en_huesca/
LOCATION:Sala El Veintiuno\, C/ Padre Huesca\, 52\, Huesca\, 22005\, España
CATEGORIES:Concierto
ATTACH;FMTTYPE=image/webp:https://www.elveintiuno.com/wp-content/uploads/2025/10/panchovarona800.webp
END:VEVENT
END:VCALENDAR