BEGIN:VCALENDAR
VERSION:2.0
PRODID:-//El Veintiuno - ECPv6.15.17//NONSGML v1.0//EN
CALSCALE:GREGORIAN
METHOD:PUBLISH
X-ORIGINAL-URL:https://www.elveintiuno.com
X-WR-CALDESC:Eventos para El Veintiuno
REFRESH-INTERVAL;VALUE=DURATION:PT1H
X-Robots-Tag:noindex
X-PUBLISHED-TTL:PT1H
BEGIN:VTIMEZONE
TZID:Europe/Madrid
BEGIN:DAYLIGHT
TZOFFSETFROM:+0100
TZOFFSETTO:+0200
TZNAME:CEST
DTSTART:20250330T010000
END:DAYLIGHT
BEGIN:STANDARD
TZOFFSETFROM:+0200
TZOFFSETTO:+0100
TZNAME:CET
DTSTART:20251026T010000
END:STANDARD
BEGIN:DAYLIGHT
TZOFFSETFROM:+0100
TZOFFSETTO:+0200
TZNAME:CEST
DTSTART:20260329T010000
END:DAYLIGHT
BEGIN:STANDARD
TZOFFSETFROM:+0200
TZOFFSETTO:+0100
TZNAME:CET
DTSTART:20261025T010000
END:STANDARD
BEGIN:DAYLIGHT
TZOFFSETFROM:+0100
TZOFFSETTO:+0200
TZNAME:CEST
DTSTART:20270328T010000
END:DAYLIGHT
BEGIN:STANDARD
TZOFFSETFROM:+0200
TZOFFSETTO:+0100
TZNAME:CET
DTSTART:20271031T010000
END:STANDARD
END:VTIMEZONE
BEGIN:VEVENT
DTSTART;TZID=Europe/Madrid:20260131T230000
DTEND;TZID=Europe/Madrid:20260201T003000
DTSTAMP:20260421T151859
CREATED:20251021T100050Z
LAST-MODIFIED:20251023T195939Z
UID:30167-1769900400-1769905800@www.elveintiuno.com
SUMMARY:SIDONIE
DESCRIPTION:El trío barcelonés formado por Marc Ros\, Jes Senra y Axel Pi— encarna desde hace más de dos décadas la cara más luminosa del pop psicodélico español. De la explosión sixties de Fascinado y la elegancia mediterránea de Costa Azul al desborde narrativo de El Regreso de Abba (2020)\, cada nuevo trabajo ha ampliado su universo colorista sin perder la chispa inmediata de sus estribillos. Ahora la banda afronta un giro ilusionante: en octubre de 2025 publicarán Catalan Graffiti\, su primer disco íntegramente en catalán\, adelantado por el single «Et puc odiar molt més»—un paso “liberador” que\, en palabras del propio grupo\, reconecta con sus raíces después de 27 años de trayectoria. \nSobre el escenario\, Sidonie convierte cada concierto en una fiesta caleidoscópica donde guitarras fuzz\, percusiones tropicales y destellos electrónicos se funden con un show vibrante y cercano. Su calendario estival los llevará por citas clave como Sentir Baeza\, PortAmérica o Bilbao BBK Live 2025 antes de estrenar el nuevo repertorio\, garantía de himnos coreables y euforia colectiva de principio a fin. Si buscas un directo que mezcle psicodelia vintage\, pop de alto octanaje y comunión total con el público\, Sidonie es tu banda. \n 
URL:https://www.elveintiuno.com/concierto/concierto_de_sidonie_en_huesca_2026/
LOCATION:Sala El Veintiuno\, C/ Padre Huesca\, 52\, Huesca\, 22005\, España
CATEGORIES:Concierto
ATTACH;FMTTYPE=image/webp:https://www.elveintiuno.com/wp-content/uploads/2025/10/sidonie800-1.webp
END:VEVENT
END:VCALENDAR