BEGIN:VCALENDAR
VERSION:2.0
PRODID:-//El Veintiuno - ECPv6.15.17//NONSGML v1.0//EN
CALSCALE:GREGORIAN
METHOD:PUBLISH
X-WR-CALNAME:El Veintiuno
X-ORIGINAL-URL:https://www.elveintiuno.com
X-WR-CALDESC:Eventos para El Veintiuno
REFRESH-INTERVAL;VALUE=DURATION:PT1H
X-Robots-Tag:noindex
X-PUBLISHED-TTL:PT1H
BEGIN:VTIMEZONE
TZID:Europe/Madrid
BEGIN:DAYLIGHT
TZOFFSETFROM:+0100
TZOFFSETTO:+0200
TZNAME:CEST
DTSTART:20250330T010000
END:DAYLIGHT
BEGIN:STANDARD
TZOFFSETFROM:+0200
TZOFFSETTO:+0100
TZNAME:CET
DTSTART:20251026T010000
END:STANDARD
BEGIN:DAYLIGHT
TZOFFSETFROM:+0100
TZOFFSETTO:+0200
TZNAME:CEST
DTSTART:20260329T010000
END:DAYLIGHT
BEGIN:STANDARD
TZOFFSETFROM:+0200
TZOFFSETTO:+0100
TZNAME:CET
DTSTART:20261025T010000
END:STANDARD
BEGIN:DAYLIGHT
TZOFFSETFROM:+0100
TZOFFSETTO:+0200
TZNAME:CEST
DTSTART:20270328T010000
END:DAYLIGHT
BEGIN:STANDARD
TZOFFSETFROM:+0200
TZOFFSETTO:+0100
TZNAME:CET
DTSTART:20271031T010000
END:STANDARD
END:VTIMEZONE
BEGIN:VEVENT
DTSTART;TZID=Europe/Madrid:20260213T230000
DTEND;TZID=Europe/Madrid:20260214T003000
DTSTAMP:20260421T151655
CREATED:20251021T100353Z
LAST-MODIFIED:20260210T145147Z
UID:30177-1771023600-1771029000@www.elveintiuno.com
SUMMARY:REPION
DESCRIPTION:Cuando todavía eran unas niñas\, a las hermanas Iñesta sus padres les abrieron las puertas a lo que para muchos podría ser una fantasía: su propio local de ensayo. Literalmente\, llevan toda la vida tocando juntas. Algunos años después son una máquina de precisión que despierta una admiración sincera allá por donde pasan. Su principal baza es el directo\, ahí encima de un escenario son imbatibles\, Teresa a la batería\, Marina a la guitarra y empastando las voces como si fueran una sola\, como sólo dos hermanas cantando toda la vida juntas son capaces de hacerlo. \nA principios de 2023 publicaron el disco que revelaba todo su potencial tras años funcionando como grupo y participando al mismo tiempo en otros proyectos (Teresa como vocalista y guitarra en Aiko el Grupo y batería en Yawners\, y Marina en el grupo de Mikel Erentxun). Todas las ideas\, la energía\, la intensidad emocional de sus letras\, la inevitable conexión con sus orígenes cántabros …cristalizaban al fin de la forma adecuada. \nEl grupo se encuentra girando por España con el cartel de fechas más amplio que han tenido nunca\, y sus últimos conciertos ya cuelgan el cartel de sold-out. El nuevo disco se presentará en Madrid el 26 de noviembre en la Sala Barceló también con todo vendido. \n“201” ha sido producido por Santi García en Ultramarinos Costa Brava. Es un disco tan cotidiano en los textos como su predecesor\, pero mucho más urbano y menos nostálgico y que consolida un estilo basado en la fusión perfecta de intensidad sonora y melódica.
URL:https://www.elveintiuno.com/concierto/concierto_de_repion_en_huesca_2026/
LOCATION:Sala El Veintiuno\, C/ Padre Huesca\, 52\, Huesca\, 22005\, España
CATEGORIES:Concierto
ATTACH;FMTTYPE=image/webp:https://www.elveintiuno.com/wp-content/uploads/2025/10/repion800.webp
END:VEVENT
END:VCALENDAR