BEGIN:VCALENDAR
VERSION:2.0
PRODID:-//El Veintiuno - ECPv6.15.17//NONSGML v1.0//EN
CALSCALE:GREGORIAN
METHOD:PUBLISH
X-ORIGINAL-URL:https://www.elveintiuno.com
X-WR-CALDESC:Eventos para El Veintiuno
REFRESH-INTERVAL;VALUE=DURATION:PT1H
X-Robots-Tag:noindex
X-PUBLISHED-TTL:PT1H
BEGIN:VTIMEZONE
TZID:Europe/Madrid
BEGIN:DAYLIGHT
TZOFFSETFROM:+0100
TZOFFSETTO:+0200
TZNAME:CEST
DTSTART:20250330T010000
END:DAYLIGHT
BEGIN:STANDARD
TZOFFSETFROM:+0200
TZOFFSETTO:+0100
TZNAME:CET
DTSTART:20251026T010000
END:STANDARD
BEGIN:DAYLIGHT
TZOFFSETFROM:+0100
TZOFFSETTO:+0200
TZNAME:CEST
DTSTART:20260329T010000
END:DAYLIGHT
BEGIN:STANDARD
TZOFFSETFROM:+0200
TZOFFSETTO:+0100
TZNAME:CET
DTSTART:20261025T010000
END:STANDARD
BEGIN:DAYLIGHT
TZOFFSETFROM:+0100
TZOFFSETTO:+0200
TZNAME:CEST
DTSTART:20270328T010000
END:DAYLIGHT
BEGIN:STANDARD
TZOFFSETFROM:+0200
TZOFFSETTO:+0100
TZNAME:CET
DTSTART:20271031T010000
END:STANDARD
END:VTIMEZONE
BEGIN:VEVENT
DTSTART;TZID=Europe/Madrid:20260221T230000
DTEND;TZID=Europe/Madrid:20260222T003000
DTSTAMP:20260421T151844
CREATED:20251111T130039Z
LAST-MODIFIED:20251110T210040Z
UID:32541-1771714800-1771720200@www.elveintiuno.com
SUMMARY:LADY BANANA
DESCRIPTION:LADY BANANA\, una de las bandas más reveladoras de la escena independiente nacional\, presenta «4D» (Subterfuge Records\, 2025)\, su segundo álbum de estudio\, en una gira de salas que en esta ocasión hará parada en la sala EL VEINTIUNO de HUESCA y en diversos puntos de la geografía española. \nEn «4D»\, el dúo zaragozano consolida su rock stoner marca de la casa\, abriendo nuevas dimensiones sonoras al fusionarlo con rap\, electrónica y música urbana. Grabado en Galicia junto al productor Iago Lorenzo\, el disco explora la dualidad del espacio-tiempo: la Cara A representa el espacio —con canciones como «Bora Bora» o «La Jaula»—\, y la Cara B el tiempo —«Milenio»\, «7am»\, «Entre Semana»—. \nEl álbum cuenta con colaboraciones de Sho-Hai (Violadores del Verso) y Marina Iñiesta (Repion)\, además de dos versiones sorprendentes: «Delito» de Nathy Peluso y «Gethsemane»\, del musical Jesucristo Superstar. «4D» marca una nueva etapa para Alba y Nerea\, que expanden su sonido y su imaginario hacia territorios más contemporáneos y experimentales.
URL:https://www.elveintiuno.com/concierto/concierto_de_lady_banana_en_huesca/
LOCATION:Sala El Veintiuno\, C/ Padre Huesca\, 52\, Huesca\, 22005\, España
CATEGORIES:Concierto
ATTACH;FMTTYPE=image/webp:https://www.elveintiuno.com/wp-content/uploads/2025/11/ladybanana800.webp
END:VEVENT
END:VCALENDAR