BEGIN:VCALENDAR
VERSION:2.0
PRODID:-//El Veintiuno - ECPv6.15.17//NONSGML v1.0//EN
CALSCALE:GREGORIAN
METHOD:PUBLISH
X-WR-CALNAME:El Veintiuno
X-ORIGINAL-URL:https://www.elveintiuno.com
X-WR-CALDESC:Eventos para El Veintiuno
REFRESH-INTERVAL;VALUE=DURATION:PT1H
X-Robots-Tag:noindex
X-PUBLISHED-TTL:PT1H
BEGIN:VTIMEZONE
TZID:Europe/Madrid
BEGIN:DAYLIGHT
TZOFFSETFROM:+0100
TZOFFSETTO:+0200
TZNAME:CEST
DTSTART:20250330T010000
END:DAYLIGHT
BEGIN:STANDARD
TZOFFSETFROM:+0200
TZOFFSETTO:+0100
TZNAME:CET
DTSTART:20251026T010000
END:STANDARD
BEGIN:DAYLIGHT
TZOFFSETFROM:+0100
TZOFFSETTO:+0200
TZNAME:CEST
DTSTART:20260329T010000
END:DAYLIGHT
BEGIN:STANDARD
TZOFFSETFROM:+0200
TZOFFSETTO:+0100
TZNAME:CET
DTSTART:20261025T010000
END:STANDARD
BEGIN:DAYLIGHT
TZOFFSETFROM:+0100
TZOFFSETTO:+0200
TZNAME:CEST
DTSTART:20270328T010000
END:DAYLIGHT
BEGIN:STANDARD
TZOFFSETFROM:+0200
TZOFFSETTO:+0100
TZNAME:CET
DTSTART:20271031T010000
END:STANDARD
END:VTIMEZONE
BEGIN:VEVENT
DTSTART;TZID=Europe/Madrid:20260411T230000
DTEND;TZID=Europe/Madrid:20260412T003000
DTSTAMP:20260421T123745
CREATED:20260102T040511Z
LAST-MODIFIED:20260102T040522Z
UID:35326-1775948400-1775953800@www.elveintiuno.com
SUMMARY:PARED CON PARED
DESCRIPTION:Después de más de un año de trabajo\, PARED CON PARED llega a Huesca para presentar GENERACIÓN H.\, su esperado segundo álbum. \nUn paso firme en la trayectoria de la banda zaragozana\, que pone música a la inmediatez\, el estrés\, la incertidumbre y las contradicciones de nuestra sociedad\, sin perder de vista la luz y la honestidad emocional. \nProducido por Candy Caramelo y con una cuidada identidad visual a cargo de Bruto Creativo\, GENERACIÓN H. es un lugar al que volver para reconectar\, cantar sin miedo y recordar que aún podemos hacer el mundo un poco más amable. \nPop-rock en español\, visceral y luminoso\, en directo.
URL:https://www.elveintiuno.com/concierto/concierto_de_pared_con_pared_en_huesca_2026/
LOCATION:Sala El Veintiuno\, C/ Padre Huesca\, 52\, Huesca\, 22005\, España
CATEGORIES:Concierto
ATTACH;FMTTYPE=image/webp:https://www.elveintiuno.com/wp-content/uploads/2026/01/paredconpared80026.jpg.webp
END:VEVENT
END:VCALENDAR