BEGIN:VCALENDAR
VERSION:2.0
PRODID:-//El Veintiuno - ECPv6.15.17//NONSGML v1.0//EN
CALSCALE:GREGORIAN
METHOD:PUBLISH
X-WR-CALNAME:El Veintiuno
X-ORIGINAL-URL:https://www.elveintiuno.com
X-WR-CALDESC:Eventos para El Veintiuno
REFRESH-INTERVAL;VALUE=DURATION:PT1H
X-Robots-Tag:noindex
X-PUBLISHED-TTL:PT1H
BEGIN:VTIMEZONE
TZID:Europe/Madrid
BEGIN:DAYLIGHT
TZOFFSETFROM:+0100
TZOFFSETTO:+0200
TZNAME:CEST
DTSTART:20250330T010000
END:DAYLIGHT
BEGIN:STANDARD
TZOFFSETFROM:+0200
TZOFFSETTO:+0100
TZNAME:CET
DTSTART:20251026T010000
END:STANDARD
BEGIN:DAYLIGHT
TZOFFSETFROM:+0100
TZOFFSETTO:+0200
TZNAME:CEST
DTSTART:20260329T010000
END:DAYLIGHT
BEGIN:STANDARD
TZOFFSETFROM:+0200
TZOFFSETTO:+0100
TZNAME:CET
DTSTART:20261025T010000
END:STANDARD
BEGIN:DAYLIGHT
TZOFFSETFROM:+0100
TZOFFSETTO:+0200
TZNAME:CEST
DTSTART:20270328T010000
END:DAYLIGHT
BEGIN:STANDARD
TZOFFSETFROM:+0200
TZOFFSETTO:+0100
TZNAME:CET
DTSTART:20271031T010000
END:STANDARD
END:VTIMEZONE
BEGIN:VEVENT
DTSTART;TZID=Europe/Madrid:20260418T203000
DTEND;TZID=Europe/Madrid:20260418T220000
DTSTAMP:20260421T123746
CREATED:20260325T183526Z
LAST-MODIFIED:20260330T161627Z
UID:37335-1776544200-1776549600@www.elveintiuno.com
SUMMARY:THE ROADHOUSE
DESCRIPTION:CONCIERTO EN JUAN SEBASTIAN BAR \nThe Roadhouse se ideó en las mentes perversas de José Luis López “ Bluses” y Carlos Marín\, buscando un objetivo que no es otro que hacer que el público asistente a sus posibles conciertos\, tuviera un par de horas de auténtico Rock&Blues\, transportándolos a esos bares americanos en esas interminables carreteras\, también llamados “ Roadhouse”\, donde podrías encontrarte tanto a una tribu de moteros ( fugitivos o no )\, o unos cuantos camioneros y rednecks con sus chicas voluptuosas de moral distraída. \nDurante unos cuantos meses no se pudo llevar a cabo la aventura por distintos motivos. Pero la paciencia y perseverancia dieron sus frutos\, y en Mayo de 2024 pudimos reunir un puñado de “Young guns” ( y no tan “young” )\, que aportan sus armas a esta banda de Hard Blues. \nTras un año preparando repertorio de versiones de Blues Rock\, con temas que van desde Eric Clapton a Jonny Lang.\, o desde Stevie Ray Vaughan a Javier Vargas o ZZ Top; consiguiendo empastar un sonido propio y no solo copiar el original.
URL:https://www.elveintiuno.com/concierto/concierto_de_the_roadhouse_en_huesca/
LOCATION:Juan Sebastián Bar\, C/ Roldan 27\, Huesca
CATEGORIES:Concierto
ATTACH;FMTTYPE=image/webp:https://www.elveintiuno.com/wp-content/uploads/2026/03/TheRoadMaster.webp
END:VEVENT
END:VCALENDAR