BEGIN:VCALENDAR
VERSION:2.0
PRODID:-//El Veintiuno - ECPv6.15.17//NONSGML v1.0//EN
CALSCALE:GREGORIAN
METHOD:PUBLISH
X-ORIGINAL-URL:https://www.elveintiuno.com
X-WR-CALDESC:Eventos para El Veintiuno
REFRESH-INTERVAL;VALUE=DURATION:PT1H
X-Robots-Tag:noindex
X-PUBLISHED-TTL:PT1H
BEGIN:VTIMEZONE
TZID:Europe/Madrid
BEGIN:DAYLIGHT
TZOFFSETFROM:+0100
TZOFFSETTO:+0200
TZNAME:CEST
DTSTART:20250330T010000
END:DAYLIGHT
BEGIN:STANDARD
TZOFFSETFROM:+0200
TZOFFSETTO:+0100
TZNAME:CET
DTSTART:20251026T010000
END:STANDARD
BEGIN:DAYLIGHT
TZOFFSETFROM:+0100
TZOFFSETTO:+0200
TZNAME:CEST
DTSTART:20260329T010000
END:DAYLIGHT
BEGIN:STANDARD
TZOFFSETFROM:+0200
TZOFFSETTO:+0100
TZNAME:CET
DTSTART:20261025T010000
END:STANDARD
BEGIN:DAYLIGHT
TZOFFSETFROM:+0100
TZOFFSETTO:+0200
TZNAME:CEST
DTSTART:20270328T010000
END:DAYLIGHT
BEGIN:STANDARD
TZOFFSETFROM:+0200
TZOFFSETTO:+0100
TZNAME:CET
DTSTART:20271031T010000
END:STANDARD
END:VTIMEZONE
BEGIN:VEVENT
DTSTART;TZID=Europe/Madrid:20261002T230000
DTEND;TZID=Europe/Madrid:20261003T003000
DTSTAMP:20260421T192105
CREATED:20260410T034206Z
LAST-MODIFIED:20260410T034210Z
UID:37691-1790982000-1790987400@www.elveintiuno.com
SUMMARY:COLECTIVO PANAMERA
DESCRIPTION:En 2026 Colectivo Panamera cumple una década de canciones\, carretera y emoción compartida. Para esta gira histórica hemos preparado un repertorio basado en las canciones más escuchadas. Además\, por primera vez llevaremos nuestro viaje a Sudamérica\, un sueño largamente esperado que por fin se hace realidad. \nColectivo Panamera ha llevado su explosiva mezcla de cumbia\, rock y ritmos latinos a los principales festivales y escenarios de España. Su directo es una celebración en la que el público se convierte en parte del espectáculo\, donde cada canción invita al baile y cada acorde resuena con la energía de quienes saben que la música es un espacio de libertad.
URL:https://www.elveintiuno.com/concierto/concierto_de_colectivo_panamera_en_huesca-2/
LOCATION:Sala El Veintiuno\, C/ Padre Huesca\, 52\, Huesca\, 22005\, España
CATEGORIES:Concierto
ATTACH;FMTTYPE=image/webp:https://www.elveintiuno.com/wp-content/uploads/2026/04/colectivopanamera.webp
END:VEVENT
END:VCALENDAR