BEGIN:VCALENDAR
VERSION:2.0
PRODID:-//El Veintiuno - ECPv6.15.17//NONSGML v1.0//EN
CALSCALE:GREGORIAN
METHOD:PUBLISH
X-ORIGINAL-URL:https://www.elveintiuno.com
X-WR-CALDESC:Eventos para El Veintiuno
REFRESH-INTERVAL;VALUE=DURATION:PT1H
X-Robots-Tag:noindex
X-PUBLISHED-TTL:PT1H
BEGIN:VTIMEZONE
TZID:Europe/Madrid
BEGIN:DAYLIGHT
TZOFFSETFROM:+0100
TZOFFSETTO:+0200
TZNAME:CEST
DTSTART:20250330T010000
END:DAYLIGHT
BEGIN:STANDARD
TZOFFSETFROM:+0200
TZOFFSETTO:+0100
TZNAME:CET
DTSTART:20251026T010000
END:STANDARD
BEGIN:DAYLIGHT
TZOFFSETFROM:+0100
TZOFFSETTO:+0200
TZNAME:CEST
DTSTART:20260329T010000
END:DAYLIGHT
BEGIN:STANDARD
TZOFFSETFROM:+0200
TZOFFSETTO:+0100
TZNAME:CET
DTSTART:20261025T010000
END:STANDARD
BEGIN:DAYLIGHT
TZOFFSETFROM:+0100
TZOFFSETTO:+0200
TZNAME:CEST
DTSTART:20270328T010000
END:DAYLIGHT
BEGIN:STANDARD
TZOFFSETFROM:+0200
TZOFFSETTO:+0100
TZNAME:CET
DTSTART:20271031T010000
END:STANDARD
END:VTIMEZONE
BEGIN:VEVENT
DTSTART;TZID=Europe/Madrid:20261017T230000
DTEND;TZID=Europe/Madrid:20261018T003000
DTSTAMP:20260421T200848
CREATED:20251223T135428Z
LAST-MODIFIED:20251223T135439Z
UID:35164-1792278000-1792283400@www.elveintiuno.com
SUMMARY:LUIS FERCÁN
DESCRIPTION:Un trabajo que toma su nombre del antiguo significado de los cerezos\, símbolo de belleza frente a la violencia\, y que marca una nueva etapa creativa para el cantautor gallego. La cita promete ser una experiencia íntima y poderosa\, donde sus nuevas canciones cobrarán vida por primera vez sobre el escenario. \nEn Cerezos en flor\, Fercán explora los contrastes que atravesaron su mente durante el proceso de composición: momentos en los que el amor parecía estar por encima de todo y otros donde la tristeza y la ansiedad se imponían. Esa dualidad recorre el disco y se transformará en una puesta en escena cargada de emoción. Una noche única para descubrir su obra más personal hasta la fecha.
URL:https://www.elveintiuno.com/concierto/concierto_de_luis_fercan_en_huesca_2026/
LOCATION:Sala El Veintiuno\, C/ Padre Huesca\, 52\, Huesca\, 22005\, España
CATEGORIES:Concierto
ATTACH;FMTTYPE=image/webp:https://www.elveintiuno.com/wp-content/uploads/2025/12/luisfercan800.webp
END:VEVENT
END:VCALENDAR