BEGIN:VCALENDAR
VERSION:2.0
PRODID:-//El Veintiuno - ECPv6.15.17//NONSGML v1.0//EN
CALSCALE:GREGORIAN
METHOD:PUBLISH
X-WR-CALNAME:El Veintiuno
X-ORIGINAL-URL:https://www.elveintiuno.com
X-WR-CALDESC:Eventos para El Veintiuno
REFRESH-INTERVAL;VALUE=DURATION:PT1H
X-Robots-Tag:noindex
X-PUBLISHED-TTL:PT1H
BEGIN:VTIMEZONE
TZID:Europe/Madrid
BEGIN:DAYLIGHT
TZOFFSETFROM:+0100
TZOFFSETTO:+0200
TZNAME:CEST
DTSTART:20220327T010000
END:DAYLIGHT
BEGIN:STANDARD
TZOFFSETFROM:+0200
TZOFFSETTO:+0100
TZNAME:CET
DTSTART:20221030T010000
END:STANDARD
BEGIN:DAYLIGHT
TZOFFSETFROM:+0100
TZOFFSETTO:+0200
TZNAME:CEST
DTSTART:20230326T010000
END:DAYLIGHT
BEGIN:STANDARD
TZOFFSETFROM:+0200
TZOFFSETTO:+0100
TZNAME:CET
DTSTART:20231029T010000
END:STANDARD
BEGIN:DAYLIGHT
TZOFFSETFROM:+0100
TZOFFSETTO:+0200
TZNAME:CEST
DTSTART:20240331T010000
END:DAYLIGHT
BEGIN:STANDARD
TZOFFSETFROM:+0200
TZOFFSETTO:+0100
TZNAME:CET
DTSTART:20241027T010000
END:STANDARD
END:VTIMEZONE
BEGIN:VEVENT
DTSTART;TZID=Europe/Madrid:20231006T200000
DTEND;TZID=Europe/Madrid:20231006T213000
DTSTAMP:20260422T153819
CREATED:20230930T224637Z
LAST-MODIFIED:20231001T004843Z
UID:8163-1696622400-1696627800@www.elveintiuno.com
SUMMARY:El Milagro de la Tierra
DESCRIPTION:Juanjo Artero pone en escena la comedia de Juan Asperilla.\nEl Milagro de La Tierra es una comedia del hombre y de la vida\, donde a través de la carrera de un actor se pregunta lo mismo que los seres humanos se han preguntado durante los últimos 3000 años\, y que al final siempre se acaba en la misma respuesta: comer\, beber y disfrutar. \nEl Milagro de La Tierra es una mirada hacia atrás\, y hacia delante\, que un actor realiza a través de su vida profesional y personal\, interpretada por el actor Juanjo Artero\, e inspirado en las inquietudes vitales del propio Artero\, además un homenaje a muchos de los autores y personajes que ha interpretado\, o admirado\, a lo largo de su trayectoria teatral. \nLa voz en off de Lola Herrera acompaña al actor durante la representación.
URL:https://www.elveintiuno.com/concierto/el-milagro-de-la-tierra/
LOCATION:Teatro Olimpia\, C. Coso Alto\, 42\, Huesca\, 22003
CATEGORIES:Teatro
ATTACH;FMTTYPE=image/jpeg:https://www.elveintiuno.com/wp-content/uploads/2023/10/milagrotierra.jpg
END:VEVENT
BEGIN:VEVENT
DTSTART;TZID=Europe/Madrid:20231008T120000
DTEND;TZID=Europe/Madrid:20231008T133000
DTSTAMP:20260422T153819
CREATED:20230930T225002Z
LAST-MODIFIED:20231001T004714Z
UID:8166-1696766400-1696771800@www.elveintiuno.com
SUMMARY:La Ratita Presumida
DESCRIPTION:Los Titiriteros de Binéfar representarán La Ratita Presumida.\nComo en el cuento clásico una ratita que está limpiando la puerta de su casa se encuentra una moneda y con ella se compra un lazo para acicalarse. Se produce a continuación el conocido desfile de personajes: un pato\, el burro\, el perro\, el cerdito y el gallo. Todos adulan la Ratita y pretenden casarse con ella\, pero la Ratita los rechaza por lo bulliciosos que anuncian ser por la noche. La astucia del gato\, que le hace imaginar la respuesta que espera la Ratita\, le permite casarse con ella y devorarla después.
URL:https://www.elveintiuno.com/concierto/la-ratita-presumida/
LOCATION:CC Santaigo Escartín Otín\, C. San Vicente de Paul\, 69\, Huesca\, 22006
CATEGORIES:Teatro
ATTACH;FMTTYPE=image/jpeg:https://www.elveintiuno.com/wp-content/uploads/2023/10/RATITA-PRESUMIDA-2.jpg
END:VEVENT
BEGIN:VEVENT
DTSTART;TZID=Europe/Madrid:20231020T203000
DTEND;TZID=Europe/Madrid:20231020T220000
DTSTAMP:20260422T153819
CREATED:20230930T023737Z
LAST-MODIFIED:20230930T025804Z
UID:8125-1697833800-1697839200@www.elveintiuno.com
SUMMARY:El Sonido Oculto
DESCRIPTION:Ciclo Club Aplauso:\nEl Sonido Oculto es un thriller psicológico que ha fascinado al público.\nOmar Ayuso y Toni Acosta representan el Sonido Oculto\, una obra de teatro de Adam Rapp\, versión y dirección de Juan Carlos Rubio. \nSinopsis: \nBela Baird es una profesora de escritura en la prestigiosa Universidad de Yale. Entre libros de Dostoyevski y el frío invierno de Connecticut conoce a Christofer Dunn\, un talentoso e inadaptado estudiante que la visita buscando inspiración para su novela. Paradójicamente\, será Christofer quien inspire a Bela para que ésta le pida un favor casi inconcebible.Bella y Christopher son dos personajes aislados\, honestos consigo mismos y su realidad. Cada uno carga con su propia historia: el misterio reside en cómo termina. \nCita enmarcada dentro del Ciclo Club Aplauso del Teatro Olimpia.
URL:https://www.elveintiuno.com/concierto/el-sonido-oculto/
LOCATION:Teatro Olimpia\, C. Coso Alto\, 42\, Huesca\, 22003
CATEGORIES:Teatro
ATTACH;FMTTYPE=image/jpeg:https://www.elveintiuno.com/wp-content/uploads/2023/09/elsonidooculto.jpg
END:VEVENT
BEGIN:VEVENT
DTSTART;TZID=Europe/Madrid:20231022T120000
DTEND;TZID=Europe/Madrid:20231022T133000
DTSTAMP:20260422T153819
CREATED:20230930T225537Z
LAST-MODIFIED:20231001T004643Z
UID:8171-1697976000-1697981400@www.elveintiuno.com
SUMMARY:La Fábula de la Ardilla
DESCRIPTION:La compañía La Baldufa presenta\, La Fábula de la Ardilla.\nEl gran erizo vive plácidamente\, a la sombra de un gran roble\, y cuida de los suyos\, mientras disfruta de su pedacito de mundo. Pero un día\, esta paz se verá perturbada\, por la llegada de una ardilla amable\, traviesa y juguetona. Su convivencia no será fácil. Descubriremos un erizo arisco y protector\, y una ardilla con ganas de saber y compartir. \nUna de las características de las fábulas es que siempre acaban con una conclusión moral. Por lo tanto\, ¿de qué nos habla La fábula de la ardilla? Con este espectáculo\, La Baldufa nos propone pensar\, reflexionar y ahondar en la diferencia y el mestizaje. El erizo y la ardilla son muy diferentes\, pero tienen infinidad de oportunidades para aprender y compartir juntos.
URL:https://www.elveintiuno.com/concierto/la-fabula-de-la-ardilla/
LOCATION:CC Santaigo Escartín Otín\, C. San Vicente de Paul\, 69\, Huesca\, 22006
CATEGORIES:Teatro
ATTACH;FMTTYPE=image/jpeg:https://www.elveintiuno.com/wp-content/uploads/2023/10/la_baldufa_faula_fabula.jpg
END:VEVENT
END:VCALENDAR