BEGIN:VCALENDAR
VERSION:2.0
PRODID:-//El Veintiuno - ECPv6.15.17//NONSGML v1.0//EN
CALSCALE:GREGORIAN
METHOD:PUBLISH
X-WR-CALNAME:El Veintiuno
X-ORIGINAL-URL:https://www.elveintiuno.com
X-WR-CALDESC:Eventos para El Veintiuno
REFRESH-INTERVAL;VALUE=DURATION:PT1H
X-Robots-Tag:noindex
X-PUBLISHED-TTL:PT1H
BEGIN:VTIMEZONE
TZID:Europe/Madrid
BEGIN:DAYLIGHT
TZOFFSETFROM:+0100
TZOFFSETTO:+0200
TZNAME:CEST
DTSTART:20220327T010000
END:DAYLIGHT
BEGIN:STANDARD
TZOFFSETFROM:+0200
TZOFFSETTO:+0100
TZNAME:CET
DTSTART:20221030T010000
END:STANDARD
BEGIN:DAYLIGHT
TZOFFSETFROM:+0100
TZOFFSETTO:+0200
TZNAME:CEST
DTSTART:20230326T010000
END:DAYLIGHT
BEGIN:STANDARD
TZOFFSETFROM:+0200
TZOFFSETTO:+0100
TZNAME:CET
DTSTART:20231029T010000
END:STANDARD
BEGIN:DAYLIGHT
TZOFFSETFROM:+0100
TZOFFSETTO:+0200
TZNAME:CEST
DTSTART:20240331T010000
END:DAYLIGHT
BEGIN:STANDARD
TZOFFSETFROM:+0200
TZOFFSETTO:+0100
TZNAME:CET
DTSTART:20241027T010000
END:STANDARD
END:VTIMEZONE
BEGIN:VEVENT
DTSTART;TZID=Europe/Madrid:20231103T203000
DTEND;TZID=Europe/Madrid:20231103T220000
DTSTAMP:20260422T135836
CREATED:20230930T225815Z
LAST-MODIFIED:20231001T004617Z
UID:8174-1699043400-1699048800@www.elveintiuno.com
SUMMARY:Gordas
DESCRIPTION:Teresa López y Mara Jiménez se suben a las tablas del teatro oscense con Gordas.\n¿Qué tienen en común Satanás\, una estrella de cine\, dos monjas\, una lesbiana convertida a la fuerza\, las ganas de follar y un donut? Al principio parecen ingredientes sin sentido… Pero cuando se juntan\, dan lugar a un menú completo\, sazonado con fina ironía y mucho humor. Una obra que lucha por encontrar ese espacio que la sociedad ha decidido limitar. Dos gordas que hacen de gordas\, pero que pueden ser todo. \nUno de los mayores éxitos de público del teatro nacional actual. Una comedia irreverente sobre la fama\, la religión\, el amor\, la amistad y el físico. \nLas actrices e influencers ponen en escena esta obra teatral bajo la dirección de Carlos Mesa y demuestran que se puede hacer humor sin ridiculizar a las personas por el cuerpo que tengan.
URL:https://www.elveintiuno.com/concierto/gordas/
LOCATION:Teatro Olimpia\, C. Coso Alto\, 42\, Huesca\, 22003
CATEGORIES:Teatro
ATTACH;FMTTYPE=image/jpeg:https://www.elveintiuno.com/wp-content/uploads/2023/10/gordas.jpg
END:VEVENT
BEGIN:VEVENT
DTSTART;TZID=Europe/Madrid:20231105T120000
DTEND;TZID=Europe/Madrid:20231105T133000
DTSTAMP:20260422T135836
CREATED:20230930T230153Z
LAST-MODIFIED:20231001T004518Z
UID:8177-1699185600-1699191000@www.elveintiuno.com
SUMMARY:La casa por el tejado
DESCRIPTION:Un espectáculo infantil de Corral de García.\nUna joven sube al desván de su casa del pueblo. Está lleno de cosas viejas y tiene que hacer limpieza. En ese momento se le aparece el fantasma de su abuela. Pero no es una historia de miedo. Es una historia sobre la memoria. La memoria de los objetos abandonados\, que como un hilo invisible conectan a los que vivieron con los que viven. El espectáculo habla de las historias que se esconden tras las sonrisas de las fotografías abandonadas en un cajón. \nLos hilos de la memoria es un espectáculo sobre historias de un tiempo que pasó\, sobre sentimientos que perduran\, sobre las casas de los pueblos y\, cómo sus paredes\, conectan generaciones a través de las huellas que en ellas fueron dejando los que vivieron. La casa por el tejado es un espectáculo de arqueología emocional.
URL:https://www.elveintiuno.com/concierto/la-casa-por-el-tejado/
LOCATION:CC Santaigo Escartín Otín\, C. San Vicente de Paul\, 69\, Huesca\, 22006
CATEGORIES:Teatro
ATTACH;FMTTYPE=image/jpeg:https://www.elveintiuno.com/wp-content/uploads/2023/10/casatejado.jpg
END:VEVENT
BEGIN:VEVENT
DTSTART;TZID=Europe/Madrid:20231119T120000
DTEND;TZID=Europe/Madrid:20231119T133000
DTSTAMP:20260422T135836
CREATED:20230930T231437Z
LAST-MODIFIED:20231001T004240Z
UID:8189-1700395200-1700400600@www.elveintiuno.com
SUMMARY:Molly y El Gigante
DESCRIPTION:La Machina Teatro presenta Molly El Gigante.\nMolly y el gigante es una obra de teatro basada en un cuento tradicional inglés\, que enseña de forma muy divertida y con mucha imaginación a los más pequeños\, cómo contar un cuento construyendo a los personajes con objetos tan cotidianos como unas toallas\, pinzas\, corbatas\, calcetines\,… en fin\, lo que pueden encontrar en el tendal de su casa. \nLa compañía está galardonada con el Premio Adolfo Marsillach 2022\, en reconocimiento  “a sus 30 años de actividad teatral\, su compromiso estético y su labor escénica y docente”
URL:https://www.elveintiuno.com/concierto/molly-y-el-gigante/
LOCATION:CC Santaigo Escartín Otín\, C. San Vicente de Paul\, 69\, Huesca\, 22006
CATEGORIES:Teatro
ATTACH;FMTTYPE=image/jpeg:https://www.elveintiuno.com/wp-content/uploads/2023/10/mollygigante.jpg
END:VEVENT
BEGIN:VEVENT
DTSTART;TZID=Europe/Madrid:20231119T190000
DTEND;TZID=Europe/Madrid:20231119T210000
DTSTAMP:20260422T135836
CREATED:20230930T223209Z
LAST-MODIFIED:20231001T004206Z
UID:8151-1700420400-1700427600@www.elveintiuno.com
SUMMARY:El Fantasma de la Ópera
DESCRIPTION:El Musical de El Fantasma de la Ópera se estrenó en Broadway en 1988 y en Londres en 1986\, manteniendo sus representaciones hasta la actualidad\, siendo el musical más longevo de la historia y el segundo en número de espectadores (tras El Rey León). \nEl musical se basa en la novela homónima de 1908. En España\, el Musical estuvo en la Gran Vía de Madrid entre 2002 y 2004. Ahora 20 años después\, la Compañía Onbeat hace una adaptación del musical para convertirlo en un tributo cercano a todos los públicos\, donde la lírica se da la mano con otros estilos y donde el drama se entremezcla con la comedia. \nTodo arranca en la subasta de los restos del pasado en un antiguo Teatro\, cada elemento recuerda la leyenda que cuenta que en las catacumbas del edificio vivió un fantasma… que\, en realidad\, fue un niño recuperado de un circo\, criado y educado a escondidas para no ser descubierto y que era un virtuoso de la música. Enamorado de una de las cantantes\, decidió hacer todas las trampas posibles escondido en su anonimato para que la figura principal declinara su puesto en favor de su amada\, que era la única que conocía de su existencia\, junto a su criadora. Pero la llegada de un joven adinerado amante de las artes\, cambiará la historia y despertará la ira del Fantasma. \nEsa leyenda será contada y conocida como antes nunca se había hecho en El Fantasma de la Ópera\, el Tributo Musical de la Compañía Onbeat.
URL:https://www.elveintiuno.com/concierto/el-fantasma-de-la-opera/
LOCATION:Palacio de Congresos\, Av. los Danzantes de Huesca\, s/n\,\, Huesca\, 22005
CATEGORIES:Teatro
ATTACH;FMTTYPE=image/jpeg:https://www.elveintiuno.com/wp-content/uploads/2023/10/Fantasma-Opera.jpg
END:VEVENT
END:VCALENDAR