BEGIN:VCALENDAR
VERSION:2.0
PRODID:-//El Veintiuno - ECPv6.15.17//NONSGML v1.0//EN
CALSCALE:GREGORIAN
METHOD:PUBLISH
X-ORIGINAL-URL:https://www.elveintiuno.com
X-WR-CALDESC:Eventos para El Veintiuno
REFRESH-INTERVAL;VALUE=DURATION:PT1H
X-Robots-Tag:noindex
X-PUBLISHED-TTL:PT1H
BEGIN:VTIMEZONE
TZID:Europe/Madrid
BEGIN:DAYLIGHT
TZOFFSETFROM:+0100
TZOFFSETTO:+0200
TZNAME:CEST
DTSTART:20220327T010000
END:DAYLIGHT
BEGIN:STANDARD
TZOFFSETFROM:+0200
TZOFFSETTO:+0100
TZNAME:CET
DTSTART:20221030T010000
END:STANDARD
BEGIN:DAYLIGHT
TZOFFSETFROM:+0100
TZOFFSETTO:+0200
TZNAME:CEST
DTSTART:20230326T010000
END:DAYLIGHT
BEGIN:STANDARD
TZOFFSETFROM:+0200
TZOFFSETTO:+0100
TZNAME:CET
DTSTART:20231029T010000
END:STANDARD
BEGIN:DAYLIGHT
TZOFFSETFROM:+0100
TZOFFSETTO:+0200
TZNAME:CEST
DTSTART:20240331T010000
END:DAYLIGHT
BEGIN:STANDARD
TZOFFSETFROM:+0200
TZOFFSETTO:+0100
TZNAME:CET
DTSTART:20241027T010000
END:STANDARD
END:VTIMEZONE
BEGIN:VEVENT
DTSTART;TZID=Europe/Madrid:20231105T120000
DTEND;TZID=Europe/Madrid:20231105T133000
DTSTAMP:20260422T154233
CREATED:20230930T230153Z
LAST-MODIFIED:20231001T004518Z
UID:8177-1699185600-1699191000@www.elveintiuno.com
SUMMARY:La casa por el tejado
DESCRIPTION:Un espectáculo infantil de Corral de García.\nUna joven sube al desván de su casa del pueblo. Está lleno de cosas viejas y tiene que hacer limpieza. En ese momento se le aparece el fantasma de su abuela. Pero no es una historia de miedo. Es una historia sobre la memoria. La memoria de los objetos abandonados\, que como un hilo invisible conectan a los que vivieron con los que viven. El espectáculo habla de las historias que se esconden tras las sonrisas de las fotografías abandonadas en un cajón. \nLos hilos de la memoria es un espectáculo sobre historias de un tiempo que pasó\, sobre sentimientos que perduran\, sobre las casas de los pueblos y\, cómo sus paredes\, conectan generaciones a través de las huellas que en ellas fueron dejando los que vivieron. La casa por el tejado es un espectáculo de arqueología emocional.
URL:https://www.elveintiuno.com/concierto/la-casa-por-el-tejado/
LOCATION:CC Santaigo Escartín Otín\, C. San Vicente de Paul\, 69\, Huesca\, 22006
CATEGORIES:Teatro
ATTACH;FMTTYPE=image/jpeg:https://www.elveintiuno.com/wp-content/uploads/2023/10/casatejado.jpg
END:VEVENT
END:VCALENDAR