BEGIN:VCALENDAR
VERSION:2.0
PRODID:-//El Veintiuno - ECPv6.15.17//NONSGML v1.0//EN
CALSCALE:GREGORIAN
METHOD:PUBLISH
X-WR-CALNAME:El Veintiuno
X-ORIGINAL-URL:https://www.elveintiuno.com
X-WR-CALDESC:Eventos para El Veintiuno
REFRESH-INTERVAL;VALUE=DURATION:PT1H
X-Robots-Tag:noindex
X-PUBLISHED-TTL:PT1H
BEGIN:VTIMEZONE
TZID:Europe/Madrid
BEGIN:DAYLIGHT
TZOFFSETFROM:+0100
TZOFFSETTO:+0200
TZNAME:CEST
DTSTART:20240331T010000
END:DAYLIGHT
BEGIN:STANDARD
TZOFFSETFROM:+0200
TZOFFSETTO:+0100
TZNAME:CET
DTSTART:20241027T010000
END:STANDARD
BEGIN:DAYLIGHT
TZOFFSETFROM:+0100
TZOFFSETTO:+0200
TZNAME:CEST
DTSTART:20250330T010000
END:DAYLIGHT
BEGIN:STANDARD
TZOFFSETFROM:+0200
TZOFFSETTO:+0100
TZNAME:CET
DTSTART:20251026T010000
END:STANDARD
BEGIN:DAYLIGHT
TZOFFSETFROM:+0100
TZOFFSETTO:+0200
TZNAME:CEST
DTSTART:20260329T010000
END:DAYLIGHT
BEGIN:STANDARD
TZOFFSETFROM:+0200
TZOFFSETTO:+0100
TZNAME:CET
DTSTART:20261025T010000
END:STANDARD
END:VTIMEZONE
BEGIN:VEVENT
DTSTART;TZID=Europe/Madrid:20250724T190000
DTEND;TZID=Europe/Madrid:20250727T030000
DTSTAMP:20260421T005347
CREATED:20250408T044522Z
LAST-MODIFIED:20250408T050750Z
UID:22316-1753383600-1753585200@www.elveintiuno.com
SUMMARY:ARAGON SONORO 2025 Pulseras VIP
DESCRIPTION:Vuelve el Festival Aragón Sonoro 2025 en Alcañiz (Teruel)\, que este año se celebra los días 24\, 25 y 26 de julio. \n¡Hazte con tu pulsera VIP y disfuta al máximo del Aragón Sonoro! \nLa pulsera VIP es tu pase especial para vivir el festival como se merece: válida los tres días\, con descuentos exclusivos en barras\, el merchan oficial\, en los puestos del mercado\, en las food trucks y en los famosos establecimientos VIP que hay en Alcañiz y alrededores. \nLas unidades son limitadas y el precio sube por tramos… cuanto antes la compres\, ¡mejor!\nNo te quedes sin la tuya. Vive el Aragón Sonoro con las ventajas de ser VIP. \nLa pulsera VIP no incluye el acceso a los conciertos de Pui-Pinos el jueves 24\, para acceder debes hacerte con tu ENTRADA PUI-PINOS
URL:https://www.elveintiuno.com/concierto/festival_aragon_sonoro_2025_pulseras_vip/
LOCATION:Festival Aragón Sonoro\, Plaza España\, Alcañiz\, 44600
CATEGORIES:Festival
ATTACH;FMTTYPE=image/jpeg:https://www.elveintiuno.com/wp-content/uploads/2025/04/pulserasaciegas450.jpg
END:VEVENT
BEGIN:VEVENT
DTSTART;TZID=Europe/Madrid:20250725T210000
DTEND;TZID=Europe/Madrid:20250726T030000
DTSTAMP:20260421T005347
CREATED:20250709T124442Z
LAST-MODIFIED:20250709T131925Z
UID:25270-1753477200-1753498800@www.elveintiuno.com
SUMMARY:ARAGON SONORO 2025 Terraza Viernes
DESCRIPTION:🎶 ¿Te imaginas vivir el Aragón Sonoro desde lo más alto?\n👀 No es que abajo se esté mal… ¡pero todo se puede combinar e incluso mejorar! \n🌟 Te presentamos LA TERRAZA DEL SONORO (Acceso solo viernes 25)\nUn espacio exclusivo con vistas panorámicas al escenario de la Plaza del Cuartelillo 🎤 \n✨ ¿Qué incluye tu acceso para un día? \n🥳 KIT de bienvenida\n🍻 2 consumiciones (cerveza\, agua o refresco)\n🍸 Precios especiales en barra VIP y sin colas ni esperas\n🛋 Zona de descanso\n🎵 ¡Y la mejor vista del festival! \n👑 Vive el festival desde lo más alto.\n¿Te apuntas?
URL:https://www.elveintiuno.com/concierto/festival_aragon_sonoro_2025_terraza_del_sonoro_viernes/
LOCATION:Festival Aragón Sonoro\, Plaza España\, Alcañiz\, 44600
CATEGORIES:Festival
ATTACH;FMTTYPE=image/jpeg:https://www.elveintiuno.com/wp-content/uploads/2025/07/terrazadelsonoroviernes450.jpg
END:VEVENT
BEGIN:VEVENT
DTSTART;TZID=Europe/Madrid:20250725T210000
DTEND;TZID=Europe/Madrid:20250727T030000
DTSTAMP:20260421T005347
CREATED:20250621T231853Z
LAST-MODIFIED:20250622T133021Z
UID:24854-1753477200-1753585200@www.elveintiuno.com
SUMMARY:ARAGON SONORO 2025 Terraza del sonoro
DESCRIPTION:🎶 ¿Te imaginas vivir el Aragón Sonoro desde lo más alto?\n👀 No es que abajo se esté mal… ¡pero todo se puede combinar e incluso mejorar! \n🌟 Te presentamos LA TERRAZA DEL SONORO\nUn espacio exclusivo con vistas panorámicas al escenario de la Plaza del Cuartelillo 🎤 \nSólo 100 afortunados podrán disfrutar de esta experiencia tan nueva como única 🔥\n✨ ¿Qué incluye tu entrada?\n🍻 4 consumiciones (cerveza\, agua o refresco)\n🍸 Precios especiales en barra VIP\n🛋 Zona de descanso\n🎵 ¡Y la mejor vista del festival! \n💸 Las 10 primeras entradas → 40 €\n💸 El resto → 50 € \n👑 Vive el festival desde lo más alto.\n¿Te apuntas?
URL:https://www.elveintiuno.com/concierto/festival_aragon_sonoro_2025_terraza_del_sonoro/
LOCATION:Festival Aragón Sonoro\, Plaza España\, Alcañiz\, 44600
CATEGORIES:Festival
ATTACH;FMTTYPE=image/jpeg:https://www.elveintiuno.com/wp-content/uploads/2025/06/terrazadelsonoro450.jpg
END:VEVENT
END:VCALENDAR