BEGIN:VCALENDAR
VERSION:2.0
PRODID:-//El Veintiuno - ECPv6.15.17//NONSGML v1.0//EN
CALSCALE:GREGORIAN
METHOD:PUBLISH
X-WR-CALNAME:El Veintiuno
X-ORIGINAL-URL:https://www.elveintiuno.com
X-WR-CALDESC:Eventos para El Veintiuno
REFRESH-INTERVAL;VALUE=DURATION:PT1H
X-Robots-Tag:noindex
X-PUBLISHED-TTL:PT1H
BEGIN:VTIMEZONE
TZID:Europe/Madrid
BEGIN:DAYLIGHT
TZOFFSETFROM:+0100
TZOFFSETTO:+0200
TZNAME:CEST
DTSTART:20230326T010000
END:DAYLIGHT
BEGIN:STANDARD
TZOFFSETFROM:+0200
TZOFFSETTO:+0100
TZNAME:CET
DTSTART:20231029T010000
END:STANDARD
BEGIN:DAYLIGHT
TZOFFSETFROM:+0100
TZOFFSETTO:+0200
TZNAME:CEST
DTSTART:20240331T010000
END:DAYLIGHT
BEGIN:STANDARD
TZOFFSETFROM:+0200
TZOFFSETTO:+0100
TZNAME:CET
DTSTART:20241027T010000
END:STANDARD
BEGIN:DAYLIGHT
TZOFFSETFROM:+0100
TZOFFSETTO:+0200
TZNAME:CEST
DTSTART:20250330T010000
END:DAYLIGHT
BEGIN:STANDARD
TZOFFSETFROM:+0200
TZOFFSETTO:+0100
TZNAME:CET
DTSTART:20251026T010000
END:STANDARD
END:VTIMEZONE
BEGIN:VEVENT
DTSTART;TZID=Europe/Madrid:20240920T233000
DTEND;TZID=Europe/Madrid:20240921T010000
DTSTAMP:20260422T212057
CREATED:20240806T225541Z
LAST-MODIFIED:20240806T225542Z
UID:14989-1726875000-1726880400@www.elveintiuno.com
SUMMARY:BOMBAI
DESCRIPTION:Bombai son Javi (Voz)\, Vicente (Guitarra Eléctrica) y Ramón (Guitarra Acústica)\, tres amigos con mucha pasión y años de música a sus espaldas que se juntaron a componer canciones con la idea de formar un grupo que reflejara sus gustos e influencias\, las cuales van desde el pop-rock hasta el reggae o música más independiente. Sus temas reflejan alegría e ilusión\, sin trampa ni cartón. \nEl grupo valenciano Bombai se da a conocer al gran público con su single “Solo si es contigo”\, un tema fresco y positivo con un sonido pop-rock y un toque reggae muy cuidado que ha contado con la colaboración de la cantante extremeña Bebe. Compuesta por Bombai\, grabada en los MG Estudios de Madrid\, y producida por José Luis De La Peña\, Juan Guevara y Felipe Guevara\, “Solo si es contigo” refleja la imagen única y personal del grupo. \nLos proyectos musicales y audiovisuales en los que trabaja el grupo actualmente van ligados a unos valores determinados. Bombai usa la música como vehículo conductor de un mensaje que busca hacer mejor el mundo en el que vivimos.\nEn sus primeros meses de vida han conseguido sonar en radio\, siendo una de sus canciones la sintonía de 99.9 Valencia Radio\, una de las emisoras locales de más audiencia. Además presentaron su single y sus primeras canciones en la Fnac de Madrid\, y esto es solo el principio de lo que ellos esperan que sea una larga experiencia musical y personal.
URL:https://www.elveintiuno.com/concierto/concierto_de_bombai_en_monzon/
LOCATION:Avenida de Lérida – Monzón\, Avenida de Lérida\, 21\, Monzón\, 22400
CATEGORIES:Concierto
ATTACH;FMTTYPE=image/jpeg:https://www.elveintiuno.com/wp-content/uploads/2024/08/bombai800.jpg
END:VEVENT
BEGIN:VEVENT
DTSTART;TZID=Europe/Madrid:20240921T233000
DTEND;TZID=Europe/Madrid:20240922T010000
DTSTAMP:20260422T212057
CREATED:20240806T230109Z
LAST-MODIFIED:20240806T230110Z
UID:14993-1726961400-1726966800@www.elveintiuno.com
SUMMARY:BUSTAMANTE
DESCRIPTION:Bustamante es uno de los artistas más carismático y mediático del panorama musical en España\, un artista que se encuentra en uno de los mejores y más productivos momentos de su carrera. \nNadie canta al amor como Bustamante\, con una dilatada\, consolidada y fructífera trayectoria musical\, 19 discos de platino\, varios discos de oro y más de 900 conciertos\, que avalan su carrera musical y le convierten en uno de los artistas más importantes del país. \nHa colaborado con grandes de la música como Juan Gabriel\, Alejandro Fernández\, Pablo López y Luis Fonsi\, entre otros. Siempre dedicado a trabajar cada repertorio\, imagen o grabaciones\, en cada uno de sus 10 discos de estudio demuestra por qué es un artista en continua evolución\, capaz de abarcar diferentes facetas y estilos\, desde las baladas románticas\, melódicas y latinas que han marcado su carrera desde sus inicios hasta el Bustamante más renovado y moderno que ha sorprendido a todo su público con su último disco “Héroes en tiempos de guerra”\, al que siguió una exitosa gira de más de 40 conciertos por toda España en 2019. \nEn su faceta televisiva\, Bustamante es uno de los artistas que mayores audiencias mueve en cada uno de los programas en los que participa.  Prueba de ello es su aparición en La Voz como assis­tant coach de Luis Fonsi\, y La Voz Senior con Pablo López\, demostrando durante la edición del programa por qué es uno de los artistas más queridos y aclamados del momento\, por su tremenda energía\, su optimismo y su enorme calidad interpretativa.
URL:https://www.elveintiuno.com/concierto/concierto_de_bustamante_en_monzon/
LOCATION:Avenida de Lérida – Monzón\, Avenida de Lérida\, 21\, Monzón\, 22400
CATEGORIES:Concierto
ATTACH;FMTTYPE=image/jpeg:https://www.elveintiuno.com/wp-content/uploads/2024/08/bustamante800.jpg
END:VEVENT
BEGIN:VEVENT
DTSTART;TZID=Europe/Madrid:20240921T235500
DTEND;TZID=Europe/Madrid:20240922T010000
DTSTAMP:20260422T212057
CREATED:20240902T235349Z
LAST-MODIFIED:20240915T223943Z
UID:16932-1726962900-1726966800@www.elveintiuno.com
SUMMARY:LA GUARDIA
DESCRIPTION:Es una banda de música rock que se formó en la ciudad de Granada (España) en la primera mitad de los años 80. Su carrera\, que se divide en dos etapas\, una primera desde 1983 hasta 1997 y otra desde 2003 hasta el día de hoy\, han conseguido vender más de un millón y medio de copias\, siendo considerada por la crítica especializada como una de las formaciones más importantes de la historia del rock en España. \nEn la actualidad no paran de girar presentando un nuevo disco muy especial que vio la luz en 2023 con motivo del 40 aniversario de la banda.
URL:https://www.elveintiuno.com/concierto/concierto_de_la_guardia_en_logrono/
LOCATION:Plaza del Ayuntamiento de Logroño\, Plaza del Ayuntamiento\, Logroño\, 26001
CATEGORIES:Concierto
ATTACH;FMTTYPE=image/jpeg:https://www.elveintiuno.com/wp-content/uploads/2024/07/laguardia800.jpg
END:VEVENT
BEGIN:VEVENT
DTSTART;TZID=Europe/Madrid:20240923T233000
DTEND;TZID=Europe/Madrid:20240924T010000
DTSTAMP:20260422T212057
CREATED:20240903T001542Z
LAST-MODIFIED:20240903T001542Z
UID:16935-1727134200-1727139600@www.elveintiuno.com
SUMMARY:LA LA LOVE YOU
DESCRIPTION:La La Love You son uno de los grandes fenómenos musicales de los últimos años en nuestro país. Una banda de Parla (Madrid) formada en 2007 y\, cogiendo su nombre de una canción de los Pixies\, siempre en el ambiente del power-pop. En junio de 2019 se hizo justicia. Las canciones de punk-pop de estribillos irresistibles\, frescas\, directas y optimistas de producción impecable de La La Love You solo necesitaban un minuto de exposición masiva –que los medios les negaron en sus comienzos- para que la juventud descubriera a su nueva banda favorita. Amaia dijo en “La Resistencia” que era la banda que estaba escuchando en ese momento\, mencionó «Más colao que el Colacao»\, y tan sólo un minuto bastó para que la gente entrara a curiosear y sintiera un flechazo fulminante –metieron 7 canciones en el Top Viral de Spotify-. \nEl punk pop\, las melodías y las guitarras de La La Love You han protagonizado un fenómeno inaudito en las listas de streaming haciéndose un hueco importantísimo entre el monopolio del reggaeton y sucedáneos. Es la banda de rock y artista independiente con más oyentes mensuales de nuestro de España. No hay nadie más que les llegue a esas cifras que tienen porque han logrado que la Generación Z escuche rock y punk pop. Ellos han creado la nueva ola de punk pop. Llevan sin parar de girar 4 años y en los últimos dos llevan ya 5 giras por México. También han tocado en Chile y Japón\, donde además se han editado sus álbumes.
URL:https://www.elveintiuno.com/concierto/concierto_de_la_la_love_you_en_logrono/
LOCATION:Plaza del Ayuntamiento de Logroño\, Plaza del Ayuntamiento\, Logroño\, 26001
CATEGORIES:Concierto
ATTACH;FMTTYPE=image/jpeg:https://www.elveintiuno.com/wp-content/uploads/2024/09/lalaloveyou800-e1754255686378.jpg
END:VEVENT
END:VCALENDAR